BEGIN:VCALENDAR
VERSION:1.0
BEGIN:VEVENT
DTSTART:20220910T000000
DTEND:20220910T000000
SUMMARY:Simmons vs. Anna Maria
DESCRIPTION:2022 Field Hockey 10/25/21 - Great Northeast Athletic Conference
LOCATION:Daly Field Brighton
CATEGORIES:QuickScores; Field Hockey Game
TRANSP:0
DALARM:20220910T000000;PT10M;2;Simmons vs. Anna Maria
END:VEVENT
BEGIN:VEVENT
DTSTART:20220917T000000
DTEND:20220917T000000
SUMMARY:Anna Maria vs. Saint Joseph's ME
DESCRIPTION:2022 STJME  can share a bus with WS --- 2022 Field Hockey 10/25/21 - Great Northeast Athletic Conference
LOCATION:Paxton MA
CATEGORIES:QuickScores; Field Hockey Game
TRANSP:0
DALARM:20220917T000000;PT10M;2;Anna Maria vs. Saint Joseph's ME
END:VEVENT
BEGIN:VEVENT
DTSTART:20220924T000000
DTEND:20220924T000000
SUMMARY:Saint Joseph CT vs. Anna Maria
DESCRIPTION:2022 AMC can share a bus with WVB --- 2022 Field Hockey 10/25/21 - Great Northeast Athletic Conference
LOCATION:W. Hartford, CT
CATEGORIES:QuickScores; Field Hockey Game
TRANSP:0
DALARM:20220924T000000;PT10M;2;Saint Joseph CT vs. Anna Maria
END:VEVENT
BEGIN:VEVENT
DTSTART:20221001T000000
DTEND:20221001T000000
SUMMARY:Anna Maria vs. Dean
DESCRIPTION:2022 Dean can share a bus with WS. 2022 AMC homecoming --- 2022 Field Hockey 10/25/21 - Great Northeast Athletic Conference
LOCATION:Paxton MA
CATEGORIES:QuickScores; Field Hockey Game
TRANSP:0
DALARM:20221001T000000;PT10M;2;Anna Maria vs. Dean
END:VEVENT
BEGIN:VEVENT
DTSTART:20221005T000000
DTEND:20221005T000000
SUMMARY:Colby Sawyer vs. Anna Maria
DESCRIPTION:2022 Field Hockey 10/25/21 - Great Northeast Athletic Conference
LOCATION:New London NH
CATEGORIES:QuickScores; Field Hockey Game
TRANSP:0
DALARM:20221005T000000;PT10M;2;Colby Sawyer vs. Anna Maria
END:VEVENT
BEGIN:VEVENT
DTSTART:20221008T000000
DTEND:20221008T000000
SUMMARY:Lasell vs. Anna Maria
DESCRIPTION:2022 Field Hockey 10/25/21 - Great Northeast Athletic Conference
LOCATION:Lasell Newton
CATEGORIES:QuickScores; Field Hockey Game
TRANSP:0
DALARM:20221008T000000;PT10M;2;Lasell vs. Anna Maria
END:VEVENT
BEGIN:VEVENT
DTSTART:20221012T000000
DTEND:20221012T000000
SUMMARY:Anna Maria vs. Regis
DESCRIPTION:2022 Field Hockey 10/25/21 - Great Northeast Athletic Conference
LOCATION:Paxton MA
CATEGORIES:QuickScores; Field Hockey Game
TRANSP:0
DALARM:20221012T000000;PT10M;2;Anna Maria vs. Regis
END:VEVENT
BEGIN:VEVENT
DTSTART:20221015T000000
DTEND:20221015T000000
SUMMARY:Albertus Magnus vs. Anna Maria
DESCRIPTION:2022 AMC can share a bus with MS. 2022 ALB fall festival --- 2022 Field Hockey 10/25/21 - Great Northeast Athletic Conference
LOCATION:New Haven, CT
CATEGORIES:QuickScores; Field Hockey Game
TRANSP:0
DALARM:20221015T000000;PT10M;2;Albertus Magnus vs. Anna Maria
END:VEVENT
BEGIN:VEVENT
DTSTART:20221019T000000
DTEND:20221019T000000
SUMMARY:Anna Maria vs. Rivier
DESCRIPTION:2022 Field Hockey 10/25/21 - Great Northeast Athletic Conference
LOCATION:Paxton MA
CATEGORIES:QuickScores; Field Hockey Game
TRANSP:0
DALARM:20221019T000000;PT10M;2;Anna Maria vs. Rivier
END:VEVENT
BEGIN:VEVENT
DTSTART:20221022T000000
DTEND:20221022T000000
SUMMARY:Elms vs. Anna Maria
DESCRIPTION:2022 Field Hockey 10/25/21 - Great Northeast Athletic Conference
LOCATION:Timothy J. Leary Field Chicopee MA
CATEGORIES:QuickScores; Field Hockey Game
TRANSP:0
DALARM:20221022T000000;PT10M;2;Elms vs. Anna Maria
END:VEVENT
BEGIN:VEVENT
DTSTART:20221026T000000
DTEND:20221026T000000
SUMMARY:Anna Maria vs. Johnson and Wales
DESCRIPTION:2022 Field Hockey 10/25/21 - Great Northeast Athletic Conference
LOCATION:Paxton MA
CATEGORIES:QuickScores; Field Hockey Game
TRANSP:0
DALARM:20221026T000000;PT10M;2;Anna Maria vs. Johnson and Wales
END:VEVENT
END:VCALENDAR
