BEGIN:VCALENDAR
VERSION:1.0
BEGIN:VEVENT
DTSTART:20220910T000000
DTEND:20220910T000000
SUMMARY:Regis vs. Albertus Magnus
DESCRIPTION:2022 Field Hockey 10/25/21 - Great Northeast Athletic Conference
LOCATION:Regis Weston MA
CATEGORIES:QuickScores; Field Hockey Game
TRANSP:0
DALARM:20220910T000000;PT10M;2;Regis vs. Albertus Magnus
END:VEVENT
BEGIN:VEVENT
DTSTART:20220917T000000
DTEND:20220917T000000
SUMMARY:Albertus Magnus vs. Lasell
DESCRIPTION:2022 Field Hockey 10/25/21 - Great Northeast Athletic Conference
LOCATION:New Haven, CT
CATEGORIES:QuickScores; Field Hockey Game
TRANSP:0
DALARM:20220917T000000;PT10M;2;Albertus Magnus vs. Lasell
END:VEVENT
BEGIN:VEVENT
DTSTART:20220924T000000
DTEND:20220924T000000
SUMMARY:Rivier vs. Albertus Magnus
DESCRIPTION:2022 RIV homecoming --- 2022 Field Hockey 10/25/21 - Great Northeast Athletic Conference
LOCATION:Nashua, NH
CATEGORIES:QuickScores; Field Hockey Game
TRANSP:0
DALARM:20220924T000000;PT10M;2;Rivier vs. Albertus Magnus
END:VEVENT
BEGIN:VEVENT
DTSTART:20221001T000000
DTEND:20221001T000000
SUMMARY:Albertus Magnus vs. Simmons
DESCRIPTION:2022 Field Hockey 10/25/21 - Great Northeast Athletic Conference
LOCATION:New Haven, CT
CATEGORIES:QuickScores; Field Hockey Game
TRANSP:0
DALARM:20221001T000000;PT10M;2;Albertus Magnus vs. Simmons
END:VEVENT
BEGIN:VEVENT
DTSTART:20221005T000000
DTEND:20221005T000000
SUMMARY:Albertus Magnus vs. Johnson and Wales
DESCRIPTION:2022 Field Hockey 10/25/21 - Great Northeast Athletic Conference
LOCATION:New Haven, CT
CATEGORIES:QuickScores; Field Hockey Game
TRANSP:0
DALARM:20221005T000000;PT10M;2;Albertus Magnus vs. Johnson and Wales
END:VEVENT
BEGIN:VEVENT
DTSTART:20221008T000000
DTEND:20221008T000000
SUMMARY:Saint Joseph's ME vs. Albertus Magnus
DESCRIPTION:2022 ALB can share a bus with MS --- 2022 Field Hockey 10/25/21 - Great Northeast Athletic Conference
LOCATION:Standish ME
CATEGORIES:QuickScores; Field Hockey Game
TRANSP:0
DALARM:20221008T000000;PT10M;2;Saint Joseph's ME vs. Albertus Magnus
END:VEVENT
BEGIN:VEVENT
DTSTART:20221012T000000
DTEND:20221012T000000
SUMMARY:Dean vs. Albertus Magnus
DESCRIPTION:2022 Field Hockey 10/25/21 - Great Northeast Athletic Conference
LOCATION:Franklin MA
CATEGORIES:QuickScores; Field Hockey Game
TRANSP:0
DALARM:20221012T000000;PT10M;2;Dean vs. Albertus Magnus
END:VEVENT
BEGIN:VEVENT
DTSTART:20221015T000000
DTEND:20221015T000000
SUMMARY:Albertus Magnus vs. Anna Maria
DESCRIPTION:2022 AMC can share a bus with MS. 2022 ALB fall festival --- 2022 Field Hockey 10/25/21 - Great Northeast Athletic Conference
LOCATION:New Haven, CT
CATEGORIES:QuickScores; Field Hockey Game
TRANSP:0
DALARM:20221015T000000;PT10M;2;Albertus Magnus vs. Anna Maria
END:VEVENT
BEGIN:VEVENT
DTSTART:20221019T000000
DTEND:20221019T000000
SUMMARY:Albertus Magnus vs. Elms
DESCRIPTION:2022 Field Hockey 10/25/21 - Great Northeast Athletic Conference
LOCATION:New Haven, CT
CATEGORIES:QuickScores; Field Hockey Game
TRANSP:0
DALARM:20221019T000000;PT10M;2;Albertus Magnus vs. Elms
END:VEVENT
BEGIN:VEVENT
DTSTART:20221022T000000
DTEND:20221022T000000
SUMMARY:Colby Sawyer vs. Albertus Magnus
DESCRIPTION:2022 Field Hockey 10/25/21 - Great Northeast Athletic Conference
LOCATION:New London NH
CATEGORIES:QuickScores; Field Hockey Game
TRANSP:0
DALARM:20221022T000000;PT10M;2;Colby Sawyer vs. Albertus Magnus
END:VEVENT
BEGIN:VEVENT
DTSTART:20221026T000000
DTEND:20221026T000000
SUMMARY:Albertus Magnus vs. Saint Joseph CT
DESCRIPTION:2022 Field Hockey 10/25/21 - Great Northeast Athletic Conference
LOCATION:New Haven, CT
CATEGORIES:QuickScores; Field Hockey Game
TRANSP:0
DALARM:20221026T000000;PT10M;2;Albertus Magnus vs. Saint Joseph CT
END:VEVENT
END:VCALENDAR
