BEGIN:VCALENDAR
VERSION:1.0
BEGIN:VEVENT
DTSTART:20260509T110000
DTEND:20260509T120000
SUMMARY:Geneva Kulaga vs. Batavia Keltner
DESCRIPTION:12u Softball - G.I.R.L.S.
LOCATION:Geneva - Sunset Community Park
CATEGORIES:QuickScores; Softball - Fastpitch Game
TRANSP:0
DALARM:20260509T090000;PT10M;2;Geneva Kulaga vs. Batavia Keltner
END:VEVENT
BEGIN:VEVENT
DTSTART:20260513T174500
DTEND:20260513T184500
SUMMARY:Batavia  Coyle vs. Batavia Keltner
DESCRIPTION:12u Softball - G.I.R.L.S.
LOCATION:Batavia - Prairie & Lathem Park 1
CATEGORIES:QuickScores; Softball - Fastpitch Game
TRANSP:0
DALARM:20260513T154500;PT10M;2;Batavia  Coyle vs. Batavia Keltner
END:VEVENT
BEGIN:VEVENT
DTSTART:20260516T123000
DTEND:20260516T133000
SUMMARY:Batavia Keltner vs. St. Charles 2 - Mayo
DESCRIPTION:12u Softball - G.I.R.L.S.
LOCATION:Batavia - Prairie & Lathem Park 1
CATEGORIES:QuickScores; Softball - Fastpitch Game
TRANSP:0
DALARM:20260516T103000;PT10M;2;Batavia Keltner vs. St. Charles 2 - Mayo
END:VEVENT
BEGIN:VEVENT
DTSTART:20260527T174500
DTEND:20260527T184500
SUMMARY:Batavia Keltner vs. Batavia  Coyle
DESCRIPTION:12u Softball - G.I.R.L.S.
LOCATION:Batavia - Prairie & Lathem Park 1
CATEGORIES:QuickScores; Softball - Fastpitch Game
TRANSP:0
DALARM:20260527T154500;PT10M;2;Batavia Keltner vs. Batavia  Coyle
END:VEVENT
BEGIN:VEVENT
DTSTART:20260530T100000
DTEND:20260530T110000
SUMMARY:Batavia Kotalik vs. Batavia Keltner
DESCRIPTION:12u Softball - G.I.R.L.S.
LOCATION:Batavia - Engstrom Park
CATEGORIES:QuickScores; Softball - Fastpitch Game
TRANSP:0
DALARM:20260530T080000;PT10M;2;Batavia Kotalik vs. Batavia Keltner
END:VEVENT
BEGIN:VEVENT
DTSTART:20260601T174500
DTEND:20260601T184500
SUMMARY:Batavia Keltner vs. Batavia Kotalik
DESCRIPTION:12u Softball - G.I.R.L.S.
LOCATION:Batavia - Engstrom Park
CATEGORIES:QuickScores; Softball - Fastpitch Game
TRANSP:0
DALARM:20260601T154500;PT10M;2;Batavia Keltner vs. Batavia Kotalik
END:VEVENT
BEGIN:VEVENT
DTSTART:20260602T183000
DTEND:20260602T193000
SUMMARY:St. Charles 1 - Sladek vs. Batavia Keltner
DESCRIPTION:12u Softball - G.I.R.L.S.
LOCATION:St Charles - Langum Park Field 2
CATEGORIES:QuickScores; Softball - Fastpitch Game
TRANSP:0
DALARM:20260602T163000;PT10M;2;St. Charles 1 - Sladek vs. Batavia Keltner
END:VEVENT
BEGIN:VEVENT
DTSTART:20260603T174500
DTEND:20260603T184500
SUMMARY:Batavia Keltner vs. Geneva Kulaga
DESCRIPTION:12u Softball - G.I.R.L.S.
LOCATION:Batavia - Prairie & Lathem Park 1
CATEGORIES:QuickScores; Softball - Fastpitch Game
TRANSP:0
DALARM:20260603T154500;PT10M;2;Batavia Keltner vs. Geneva Kulaga
END:VEVENT
BEGIN:VEVENT
DTSTART:20260609T183000
DTEND:20260609T193000
SUMMARY:St. Charles 2 - Mayo vs. Batavia Keltner
DESCRIPTION:12u Softball - G.I.R.L.S.
LOCATION:St Charles - Langum Park Field 2
CATEGORIES:QuickScores; Softball - Fastpitch Game
TRANSP:0
DALARM:20260609T163000;PT10M;2;St. Charles 2 - Mayo vs. Batavia Keltner
END:VEVENT
BEGIN:VEVENT
DTSTART:20260613T150000
DTEND:20260613T160000
SUMMARY:Batavia Keltner vs. St. Charles 3 - Alhofen
DESCRIPTION:12u Softball - G.I.R.L.S.
LOCATION:Batavia - Memorial Park #1
CATEGORIES:QuickScores; Softball - Fastpitch Game
TRANSP:0
DALARM:20260613T130000;PT10M;2;Batavia Keltner vs. St. Charles 3 - Alhofen
END:VEVENT
END:VCALENDAR
