BEGIN:VCALENDAR
VERSION:1.0
BEGIN:VEVENT
DTSTART:20260314T160000
DTEND:20260314T174000
SUMMARY:NG Grey Gosselin vs. Lanier Black
DESCRIPTION:Lanier McNeil 41, Ille 40, Harwell 23, David 7. NG #10 57 --- GABL Major - Gwinnett Alliance Baseball League
LOCATION:PTR 2
CATEGORIES:QuickScores; Baseball Game
TRANSP:0
DALARM:20260314T140000;PT10M;2;NG Grey Gosselin vs. Lanier Black
END:VEVENT
BEGIN:VEVENT
DTSTART:20260321T100000
DTEND:20260321T114000
SUMMARY:Lanier Grey vs. Lanier Black
DESCRIPTION:Lanier grey J.Bowen #1 (69), G Alcoser #43 (26) Lanier Black T. Mcneil. (57), J.Ille (24), X. Harwell (23) --- GABL Major - Gwinnett Alliance Baseball League
LOCATION:EER 6
CATEGORIES:QuickScores; Baseball Game
TRANSP:0
DALARM:20260321T080000;PT10M;2;Lanier Grey vs. Lanier Black
END:VEVENT
BEGIN:VEVENT
DTSTART:20260325T193000
DTEND:20260325T211000
SUMMARY:CH Green vs. Lanier Black
DESCRIPTION:CH: A. Ro 43, H. Valliere 24, D. Thomas 21, E. Fortune 4 ; Lanier: X. Harwell 35, T. McNeil 31 --- GABL Major - Gwinnett Alliance Baseball League
LOCATION:CHP 2
CATEGORIES:QuickScores; Baseball Game
TRANSP:0
DALARM:20260325T173000;PT10M;2;CH Green vs. Lanier Black
END:VEVENT
BEGIN:VEVENT
DTSTART:20260328T150000
DTEND:20260328T164000
SUMMARY:NG Black Calvert vs. Lanier Black
DESCRIPTION:NG Black: Everette O 55, Nicco R 32Lanier Black: J Ille 45, McNEil 40 --- GABL Major - Gwinnett Alliance Baseball League
LOCATION:PTR 2
CATEGORIES:QuickScores; Baseball Game
TRANSP:0
DALARM:20260328T130000;PT10M;2;NG Black Calvert vs. Lanier Black
END:VEVENT
BEGIN:VEVENT
DTSTART:20260402T193000
DTEND:20260402T211000
SUMMARY:Lanier Black vs. NG Black Calvert
DESCRIPTION:Lanier: Ille 39, Harwell 19, McNeil 2, Parenti 11, NG #7 62, #21 16 --- GABL Major - Gwinnett Alliance Baseball League
LOCATION:EER 6
CATEGORIES:QuickScores; Baseball Game
TRANSP:0
DALARM:20260402T173000;PT10M;2;Lanier Black vs. NG Black Calvert
END:VEVENT
BEGIN:VEVENT
DTSTART:20260413T180000
DTEND:20260413T194000
SUMMARY:Lanier Black vs. Lanier Grey
DESCRIPTION:Lanier Black: McNeil 44 Harwell 27, Lanier Grey #55 40, #1 51, #43 11 --- GABL Major - Gwinnett Alliance Baseball League
LOCATION:EER 6
CATEGORIES:QuickScores; Baseball Game
TRANSP:0
DALARM:20260413T160000;PT10M;2;Lanier Black vs. Lanier Grey
END:VEVENT
BEGIN:VEVENT
DTSTART:20260416T193000
DTEND:20260416T211000
SUMMARY:Lanier Black vs. PTR Barbee
DESCRIPTION:Lanier: Harwell - 41, Childers - 23, David - 16PTR Barbee: Jesus M. - 45, Aiden C. - 22 Adam K. - 8, --- GABL Major - Gwinnett Alliance Baseball League
LOCATION:EER 6
CATEGORIES:QuickScores; Baseball Game
TRANSP:0
DALARM:20260416T173000;PT10M;2;Lanier Black vs. PTR Barbee
END:VEVENT
BEGIN:VEVENT
DTSTART:20260424T180000
DTEND:20260424T194000
SUMMARY:Lanier Black vs. PTR Hibbert
DESCRIPTION:Lanier: McNeil 77, Harwell 28  PTR: #15 44, #28 25 --- GABL Major - Gwinnett Alliance Baseball League
LOCATION:EER 6
CATEGORIES:QuickScores; Baseball Game
TRANSP:0
DALARM:20260424T160000;PT10M;2;Lanier Black vs. PTR Hibbert
END:VEVENT
BEGIN:VEVENT
DTSTART:20260430T180000
DTEND:20260430T194000
SUMMARY:PTR Hibbert vs. Lanier Black
DESCRIPTION:GABL Major - Gwinnett Alliance Baseball League
LOCATION:PTR 2
CATEGORIES:QuickScores; Baseball Game
TRANSP:0
DALARM:20260430T160000;PT10M;2;PTR Hibbert vs. Lanier Black
END:VEVENT
BEGIN:VEVENT
DTSTART:20260502T150000
DTEND:20260502T164000
SUMMARY:Lanier Black vs. PTR Huitron
DESCRIPTION:GABL Major - Gwinnett Alliance Baseball League
LOCATION:EER 6
CATEGORIES:QuickScores; Baseball Game
TRANSP:0
DALARM:20260502T130000;PT10M;2;Lanier Black vs. PTR Huitron
END:VEVENT
BEGIN:VEVENT
DTSTART:20260504T193000
DTEND:20260504T211000
SUMMARY:Lanier Black vs. NG Red Hunter
DESCRIPTION:GABL Major - Gwinnett Alliance Baseball League
LOCATION:EER 6
CATEGORIES:QuickScores; Baseball Game
TRANSP:0
DALARM:20260504T173000;PT10M;2;Lanier Black vs. NG Red Hunter
END:VEVENT
BEGIN:VEVENT
DTSTART:20260509T153000
DTEND:20260509T171000
SUMMARY:CH Grey vs. Lanier Black
DESCRIPTION:MOved from CHP --- GABL Major - Gwinnett Alliance Baseball League
LOCATION:CHP 2
CATEGORIES:QuickScores; Baseball Game
TRANSP:0
DALARM:20260509T133000;PT10M;2;CH Grey vs. Lanier Black
END:VEVENT
END:VCALENDAR
