BEGIN:VCALENDAR
VERSION:1.0
BEGIN:VEVENT
DTSTART:20260314T140000
DTEND:20260314T154000
SUMMARY:PTR Barbee vs. Lanier Grey
DESCRIPTION:PTR Big RED: Brady R. - 78Lanier Grey: Mikah O. - 27, Grae A. - 20, Josiah J. - 11, Jayden B. - 21 --- GABL Major - Gwinnett Alliance Baseball League
LOCATION:PTR 2
CATEGORIES:QuickScores; Baseball Game
TRANSP:0
DALARM:20260314T120000;PT10M;2;PTR Barbee vs. Lanier Grey
END:VEVENT
BEGIN:VEVENT
DTSTART:20260320T193000
DTEND:20260320T211000
SUMMARY:Lanier Grey vs. NG Red Hunter
DESCRIPTION:Rain out 3/10Lanier PC Mikah O #55 (75), J ONeal #24 (61)NG PC C.Allard (74), L.Santamaria (5) --- GABL Major - Gwinnett Alliance Baseball League
LOCATION:EER 6
CATEGORIES:QuickScores; Baseball Game
TRANSP:0
DALARM:20260320T173000;PT10M;2;Lanier Grey vs. NG Red Hunter
END:VEVENT
BEGIN:VEVENT
DTSTART:20260321T100000
DTEND:20260321T114000
SUMMARY:Lanier Grey vs. Lanier Black
DESCRIPTION:Lanier grey J.Bowen #1 (69), G Alcoser #43 (26) Lanier Black T. Mcneil. (57), J.Ille (24), X. Harwell (23) --- GABL Major - Gwinnett Alliance Baseball League
LOCATION:EER 6
CATEGORIES:QuickScores; Baseball Game
TRANSP:0
DALARM:20260321T080000;PT10M;2;Lanier Grey vs. Lanier Black
END:VEVENT
BEGIN:VEVENT
DTSTART:20260327T193000
DTEND:20260327T211000
SUMMARY:Lanier Grey vs. CH Grey
DESCRIPTION:Lanier PC- Alcoser #43 (68), Durkin #99 (39)CH PC - Alexander #72 (33) --- GABL Major - Gwinnett Alliance Baseball League
LOCATION:EER 6
CATEGORIES:QuickScores; Baseball Game
TRANSP:0
DALARM:20260327T173000;PT10M;2;Lanier Grey vs. CH Grey
END:VEVENT
BEGIN:VEVENT
DTSTART:20260328T130000
DTEND:20260328T144000
SUMMARY:PTR Huitron vs. Lanier Grey
DESCRIPTION:PR- Sauers-42, Huitron-24 Lanier- Jacob O-29, Jayden B-38 --- GABL Major - Gwinnett Alliance Baseball League
LOCATION:PTR 2
CATEGORIES:QuickScores; Baseball Game
TRANSP:0
DALARM:20260328T110000;PT10M;2;PTR Huitron vs. Lanier Grey
END:VEVENT
BEGIN:VEVENT
DTSTART:20260413T180000
DTEND:20260413T194000
SUMMARY:Lanier Black vs. Lanier Grey
DESCRIPTION:Lanier Black: McNeil 44 Harwell 27, Lanier Grey #55 40, #1 51, #43 11 --- GABL Major - Gwinnett Alliance Baseball League
LOCATION:EER 6
CATEGORIES:QuickScores; Baseball Game
TRANSP:0
DALARM:20260413T160000;PT10M;2;Lanier Black vs. Lanier Grey
END:VEVENT
BEGIN:VEVENT
DTSTART:20260417T193000
DTEND:20260417T211000
SUMMARY:Lanier Grey vs. CH Green
DESCRIPTION:Lanier PC- Bowen #1(73), O’Neal 24 (28)CH PC - Fortune #7 (51), Hernandez #35 (24) --- GABL Major - Gwinnett Alliance Baseball League
LOCATION:EER 6
CATEGORIES:QuickScores; Baseball Game
TRANSP:0
DALARM:20260417T173000;PT10M;2;Lanier Grey vs. CH Green
END:VEVENT
BEGIN:VEVENT
DTSTART:20260423T193000
DTEND:20260423T211000
SUMMARY:CH Grey vs. Lanier Grey
DESCRIPTION:CH Grey - Martin 30, Yarn 59
Lanier Grey - O’Neil 38, Jordan 65 --- GABL Major - Gwinnett Alliance Baseball League
LOCATION:CHP 2
CATEGORIES:QuickScores; Baseball Game
TRANSP:0
DALARM:20260423T173000;PT10M;2;CH Grey vs. Lanier Grey
END:VEVENT
BEGIN:VEVENT
DTSTART:20260424T194500
DTEND:20260424T212500
SUMMARY:Lanier Grey vs. NG Black Calvert
DESCRIPTION:GABL Major - Gwinnett Alliance Baseball League
LOCATION:EER 6
CATEGORIES:QuickScores; Baseball Game
TRANSP:0
DALARM:20260424T174500;PT10M;2;Lanier Grey vs. NG Black Calvert
END:VEVENT
BEGIN:VEVENT
DTSTART:20260502T130000
DTEND:20260502T144000
SUMMARY:NG Grey Gosselin vs. Lanier Grey
DESCRIPTION:GABL Major - Gwinnett Alliance Baseball League
LOCATION:EER 6
CATEGORIES:QuickScores; Baseball Game
TRANSP:0
DALARM:20260502T110000;PT10M;2;NG Grey Gosselin vs. Lanier Grey
END:VEVENT
BEGIN:VEVENT
DTSTART:20260505T180000
DTEND:20260505T194000
SUMMARY:Lanier Grey vs. PTR Hibbert
DESCRIPTION:Rain out 3/17 --- GABL Major - Gwinnett Alliance Baseball League
LOCATION:EER 6
CATEGORIES:QuickScores; Baseball Game
TRANSP:0
DALARM:20260505T160000;PT10M;2;Lanier Grey vs. PTR Hibbert
END:VEVENT
BEGIN:VEVENT
DTSTART:20260509T173000
DTEND:20260509T191000
SUMMARY:NG Black Calvert vs. Lanier Grey
DESCRIPTION:MOved from CHP --- GABL Major - Gwinnett Alliance Baseball League
LOCATION:CHP 2
CATEGORIES:QuickScores; Baseball Game
TRANSP:0
DALARM:20260509T153000;PT10M;2;NG Black Calvert vs. Lanier Grey
END:VEVENT
END:VCALENDAR
