BEGIN:VCALENDAR
VERSION:1.0
BEGIN:VEVENT
DTSTART:20260311T193000
DTEND:20260311T211000
SUMMARY:CH Green vs. PTR Huitron
DESCRIPTION:CH: H. Valliere 37, A. Ro 40PTR: D. Sauers 51, Edward O. 31, Noah C. 31 --- GABL Major - Gwinnett Alliance Baseball League
LOCATION:CHP 2
CATEGORIES:QuickScores; Baseball Game
TRANSP:0
DALARM:20260311T173000;PT10M;2;CH Green vs. PTR Huitron
END:VEVENT
BEGIN:VEVENT
DTSTART:20260319T190000
DTEND:20260319T204000
SUMMARY:CH Green vs. NG Grey Gosselin
DESCRIPTION:CH: J. Hernandez 37, E. Fortune 42; NG: Jack K. 37, John G. 39, Luke B. 31 --- GABL Major - Gwinnett Alliance Baseball League
LOCATION:CHP 2
CATEGORIES:QuickScores; Baseball Game
TRANSP:0
DALARM:20260319T170000;PT10M;2;CH Green vs. NG Grey Gosselin
END:VEVENT
BEGIN:VEVENT
DTSTART:20260325T193000
DTEND:20260325T211000
SUMMARY:CH Green vs. Lanier Black
DESCRIPTION:CH: A. Ro 43, H. Valliere 24, D. Thomas 21, E. Fortune 4 ; Lanier: X. Harwell 35, T. McNeil 31 --- GABL Major - Gwinnett Alliance Baseball League
LOCATION:CHP 2
CATEGORIES:QuickScores; Baseball Game
TRANSP:0
DALARM:20260325T173000;PT10M;2;CH Green vs. Lanier Black
END:VEVENT
BEGIN:VEVENT
DTSTART:20260331T194500
DTEND:20260331T212500
SUMMARY:PTR Barbee vs. CH Green
DESCRIPTION:PTR Big RED: Brady R. - 51CH Green: Elias F. - 58, Ashton R. - 33, Harrison V. - 3 --- GABL Major - Gwinnett Alliance Baseball League
LOCATION:PTR 2
CATEGORIES:QuickScores; Baseball Game
TRANSP:0
DALARM:20260331T174500;PT10M;2;PTR Barbee vs. CH Green
END:VEVENT
BEGIN:VEVENT
DTSTART:20260415T180000
DTEND:20260415T194000
SUMMARY:CH Green vs. CH Grey
DESCRIPTION:CH Green: H. Valliere 28, J. Hernandez 35, E. Fortune 32, D. Thomas 10, D. Finch 22; CH Grey: A Martin 54 --- GABL Major - Gwinnett Alliance Baseball League
LOCATION:CHP 2
CATEGORIES:QuickScores; Baseball Game
TRANSP:0
DALARM:20260415T160000;PT10M;2;CH Green vs. CH Grey
END:VEVENT
BEGIN:VEVENT
DTSTART:20260417T193000
DTEND:20260417T211000
SUMMARY:Lanier Grey vs. CH Green
DESCRIPTION:Lanier PC- Bowen #1(73), O’Neal 24 (28)CH PC - Fortune #7 (51), Hernandez #35 (24) --- GABL Major - Gwinnett Alliance Baseball League
LOCATION:EER 6
CATEGORIES:QuickScores; Baseball Game
TRANSP:0
DALARM:20260417T173000;PT10M;2;Lanier Grey vs. CH Green
END:VEVENT
BEGIN:VEVENT
DTSTART:20260421T193000
DTEND:20260421T211000
SUMMARY:CH Green vs. PTR Hibbert
DESCRIPTION:CH Green: E. Fortune 55, J. Hernandez 29, D. Finch 28 ; PTR Black: Jake B. 38, Juan A. 12 --- GABL Major - Gwinnett Alliance Baseball League
LOCATION:CHP 2
CATEGORIES:QuickScores; Baseball Game
TRANSP:0
DALARM:20260421T173000;PT10M;2;CH Green vs. PTR Hibbert
END:VEVENT
BEGIN:VEVENT
DTSTART:20260424T191500
DTEND:20260424T205500
SUMMARY:NG Red Hunter vs. CH Green
DESCRIPTION:GABL Major - Gwinnett Alliance Baseball League
LOCATION:GPP 5
CATEGORIES:QuickScores; Baseball Game
TRANSP:0
DALARM:20260424T171500;PT10M;2;NG Red Hunter vs. CH Green
END:VEVENT
BEGIN:VEVENT
DTSTART:20260428T193000
DTEND:20260428T211000
SUMMARY:CH Green vs. PTR Barbee
DESCRIPTION:GABL Major - Gwinnett Alliance Baseball League
LOCATION:CHP 2
CATEGORIES:QuickScores; Baseball Game
TRANSP:0
DALARM:20260428T173000;PT10M;2;CH Green vs. PTR Barbee
END:VEVENT
BEGIN:VEVENT
DTSTART:20260430T194500
DTEND:20260430T212500
SUMMARY:PTR Huitron vs. CH Green
DESCRIPTION:GABL Major - Gwinnett Alliance Baseball League
LOCATION:PTR 2
CATEGORIES:QuickScores; Baseball Game
TRANSP:0
DALARM:20260430T174500;PT10M;2;PTR Huitron vs. CH Green
END:VEVENT
BEGIN:VEVENT
DTSTART:20260505T193000
DTEND:20260505T211000
SUMMARY:NG Grey Gosselin vs. CH Green
DESCRIPTION:GABL Major - Gwinnett Alliance Baseball League
LOCATION:CHP 2
CATEGORIES:QuickScores; Baseball Game
TRANSP:0
DALARM:20260505T173000;PT10M;2;NG Grey Gosselin vs. CH Green
END:VEVENT
BEGIN:VEVENT
DTSTART:20260508T191500
DTEND:20260508T205500
SUMMARY:NG Black Calvert vs. CH Green
DESCRIPTION:GABL Major - Gwinnett Alliance Baseball League
LOCATION:GPP 5
CATEGORIES:QuickScores; Baseball Game
TRANSP:0
DALARM:20260508T171500;PT10M;2;NG Black Calvert vs. CH Green
END:VEVENT
END:VCALENDAR
