BEGIN:VCALENDAR
VERSION:1.0
BEGIN:VEVENT
DTSTART:20260310T193000
DTEND:20260310T211000
SUMMARY:CH Grey vs. PTR Hibbert
DESCRIPTION:PTR: Jake B-34. Juan A.-14. CH: Archer M.-44. Levi C-32. Jorge B.-3 Kreger-49 --- GABL Major - Gwinnett Alliance Baseball League
LOCATION:CHP 2
CATEGORIES:QuickScores; Baseball Game
TRANSP:0
DALARM:20260310T173000;PT10M;2;CH Grey vs. PTR Hibbert
END:VEVENT
BEGIN:VEVENT
DTSTART:20260313T193000
DTEND:20260313T211000
SUMMARY:PTR Barbee vs. CH Grey
DESCRIPTION:PTR Big RED: Adam K. - 72.CH Grey: Archer M. - 65, Bryce Y. - 40 --- GABL Major - Gwinnett Alliance Baseball League
LOCATION:CHP 2
CATEGORIES:QuickScores; Baseball Game
TRANSP:0
DALARM:20260313T173000;PT10M;2;PTR Barbee vs. CH Grey
END:VEVENT
BEGIN:VEVENT
DTSTART:20260320T190000
DTEND:20260320T204000
SUMMARY:NG Black Calvert vs. CH Grey
DESCRIPTION:CH Grey- Martin 37, NG Black Everette 60 NiccoR 46 --- GABL Major - Gwinnett Alliance Baseball League
LOCATION:GPP 5
CATEGORIES:QuickScores; Baseball Game
TRANSP:0
DALARM:20260320T170000;PT10M;2;NG Black Calvert vs. CH Grey
END:VEVENT
BEGIN:VEVENT
DTSTART:20260327T193000
DTEND:20260327T211000
SUMMARY:Lanier Grey vs. CH Grey
DESCRIPTION:Lanier PC- Alcoser #43 (68), Durkin #99 (39)CH PC - Alexander #72 (33) --- GABL Major - Gwinnett Alliance Baseball League
LOCATION:EER 6
CATEGORIES:QuickScores; Baseball Game
TRANSP:0
DALARM:20260327T173000;PT10M;2;Lanier Grey vs. CH Grey
END:VEVENT
BEGIN:VEVENT
DTSTART:20260331T180000
DTEND:20260331T194000
SUMMARY:PTR Huitron vs. CH Grey
DESCRIPTION:PR: Conklin-38, Sauers-22, Huitron-40 CH- Archer-80, Alexander K-11 --- GABL Major - Gwinnett Alliance Baseball League
LOCATION:PTR 2
CATEGORIES:QuickScores; Baseball Game
TRANSP:0
DALARM:20260331T160000;PT10M;2;PTR Huitron vs. CH Grey
END:VEVENT
BEGIN:VEVENT
DTSTART:20260402T193000
DTEND:20260402T211000
SUMMARY:CH Grey vs. NG Grey Gosselin
DESCRIPTION:CH Grey- Krueger 46NGG- Bourne 47, Pricop 58, Brounaugh 18 --- GABL Major - Gwinnett Alliance Baseball League
LOCATION:CHP 2
CATEGORIES:QuickScores; Baseball Game
TRANSP:0
DALARM:20260402T173000;PT10M;2;CH Grey vs. NG Grey Gosselin
END:VEVENT
BEGIN:VEVENT
DTSTART:20260415T180000
DTEND:20260415T194000
SUMMARY:CH Green vs. CH Grey
DESCRIPTION:CH Green: H. Valliere 28, J. Hernandez 35, E. Fortune 32, D. Thomas 10, D. Finch 22; CH Grey: A Martin 54 --- GABL Major - Gwinnett Alliance Baseball League
LOCATION:CHP 2
CATEGORIES:QuickScores; Baseball Game
TRANSP:0
DALARM:20260415T160000;PT10M;2;CH Green vs. CH Grey
END:VEVENT
BEGIN:VEVENT
DTSTART:20260417T191500
DTEND:20260417T205500
SUMMARY:NG Red Hunter vs. CH Grey
DESCRIPTION:NG Red: Allard 50, Downie 46CH Grey: Kreger 51 --- GABL Major - Gwinnett Alliance Baseball League
LOCATION:GPP 5
CATEGORIES:QuickScores; Baseball Game
TRANSP:0
DALARM:20260417T171500;PT10M;2;NG Red Hunter vs. CH Grey
END:VEVENT
BEGIN:VEVENT
DTSTART:20260423T193000
DTEND:20260423T211000
SUMMARY:CH Grey vs. Lanier Grey
DESCRIPTION:CH Grey - Martin 30, Yarn 59
Lanier Grey - O’Neil 38, Jordan 65 --- GABL Major - Gwinnett Alliance Baseball League
LOCATION:CHP 2
CATEGORIES:QuickScores; Baseball Game
TRANSP:0
DALARM:20260423T173000;PT10M;2;CH Grey vs. Lanier Grey
END:VEVENT
BEGIN:VEVENT
DTSTART:20260425T153000
DTEND:20260425T171000
SUMMARY:CH Grey vs. PTR Huitron
DESCRIPTION:MOved from CHP --- GABL Major - Gwinnett Alliance Baseball League
LOCATION:GPP 5
CATEGORIES:QuickScores; Baseball Game
TRANSP:0
DALARM:20260425T133000;PT10M;2;CH Grey vs. PTR Huitron
END:VEVENT
BEGIN:VEVENT
DTSTART:20260501T193000
DTEND:20260501T211000
SUMMARY:CH Grey vs. NG Red Hunter
DESCRIPTION:GABL Major - Gwinnett Alliance Baseball League
LOCATION:CHP 2
CATEGORIES:QuickScores; Baseball Game
TRANSP:0
DALARM:20260501T173000;PT10M;2;CH Grey vs. NG Red Hunter
END:VEVENT
BEGIN:VEVENT
DTSTART:20260509T153000
DTEND:20260509T171000
SUMMARY:CH Grey vs. Lanier Black
DESCRIPTION:MOved from CHP --- GABL Major - Gwinnett Alliance Baseball League
LOCATION:CHP 2
CATEGORIES:QuickScores; Baseball Game
TRANSP:0
DALARM:20260509T133000;PT10M;2;CH Grey vs. Lanier Black
END:VEVENT
END:VCALENDAR
