BEGIN:VCALENDAR
VERSION:1.0
BEGIN:VEVENT
DTSTART:20260314T131500
DTEND:20260314T142500
SUMMARY:Lanier Grey vs. CH Grey
DESCRIPTION:GABL T-Ball - Gwinnett Alliance Baseball League
LOCATION:PTR 1
CATEGORIES:QuickScores; Baseball Game
TRANSP:0
DALARM:20260314T111500;PT10M;2;Lanier Grey vs. CH Grey
END:VEVENT
BEGIN:VEVENT
DTSTART:20260318T180000
DTEND:20260318T191000
SUMMARY:CH Grey vs. Lanier White
DESCRIPTION:GABL T-Ball - Gwinnett Alliance Baseball League
LOCATION:CHP 6
CATEGORIES:QuickScores; Baseball Game
TRANSP:0
DALARM:20260318T160000;PT10M;2;CH Grey vs. Lanier White
END:VEVENT
BEGIN:VEVENT
DTSTART:20260321T100000
DTEND:20260321T111000
SUMMARY:CH Green Camo vs. CH Grey
DESCRIPTION:GABL T-Ball - Gwinnett Alliance Baseball League
LOCATION:EER 1
CATEGORIES:QuickScores; Baseball Game
TRANSP:0
DALARM:20260321T080000;PT10M;2;CH Green Camo vs. CH Grey
END:VEVENT
BEGIN:VEVENT
DTSTART:20260325T180000
DTEND:20260325T191000
SUMMARY:CH Grey vs. CH Black Camo
DESCRIPTION:GABL T-Ball - Gwinnett Alliance Baseball League
LOCATION:CHP 6
CATEGORIES:QuickScores; Baseball Game
TRANSP:0
DALARM:20260325T160000;PT10M;2;CH Grey vs. CH Black Camo
END:VEVENT
BEGIN:VEVENT
DTSTART:20260328T130000
DTEND:20260328T141000
SUMMARY:PTR Green vs. CH Grey
DESCRIPTION:GABL T-Ball - Gwinnett Alliance Baseball League
LOCATION:PTR 1
CATEGORIES:QuickScores; Baseball Game
TRANSP:0
DALARM:20260328T110000;PT10M;2;PTR Green vs. CH Grey
END:VEVENT
BEGIN:VEVENT
DTSTART:20260401T180000
DTEND:20260401T191000
SUMMARY:CH Grey vs. CH Green
DESCRIPTION:GABL T-Ball - Gwinnett Alliance Baseball League
LOCATION:CHP 6
CATEGORIES:QuickScores; Baseball Game
TRANSP:0
DALARM:20260401T160000;PT10M;2;CH Grey vs. CH Green
END:VEVENT
BEGIN:VEVENT
DTSTART:20260416T191500
DTEND:20260416T202500
SUMMARY:PTR Bagwell vs. CH Grey
DESCRIPTION:Moved from 4/15 --- GABL T-Ball - Gwinnett Alliance Baseball League
LOCATION:PTR 1
CATEGORIES:QuickScores; Baseball Game
TRANSP:0
DALARM:20260416T171500;PT10M;2;PTR Bagwell vs. CH Grey
END:VEVENT
BEGIN:VEVENT
DTSTART:20260418T120000
DTEND:20260418T131000
SUMMARY:CH Grey vs. CH Green Camo
DESCRIPTION:GABL T-Ball - Gwinnett Alliance Baseball League
LOCATION:PTR 1
CATEGORIES:QuickScores; Baseball Game
TRANSP:0
DALARM:20260418T100000;PT10M;2;CH Grey vs. CH Green Camo
END:VEVENT
BEGIN:VEVENT
DTSTART:20260420T180000
DTEND:20260420T191000
SUMMARY:CH Black Camo vs. CH Grey
DESCRIPTION:GABL T-Ball - Gwinnett Alliance Baseball League
LOCATION:CHP 6
CATEGORIES:QuickScores; Baseball Game
TRANSP:0
DALARM:20260420T160000;PT10M;2;CH Black Camo vs. CH Grey
END:VEVENT
BEGIN:VEVENT
DTSTART:20260422T180000
DTEND:20260422T191000
SUMMARY:PTR Sanchez vs. CH Grey
DESCRIPTION:GABL T-Ball - Gwinnett Alliance Baseball League
LOCATION:CHP 6
CATEGORIES:QuickScores; Baseball Game
TRANSP:0
DALARM:20260422T160000;PT10M;2;PTR Sanchez vs. CH Grey
END:VEVENT
BEGIN:VEVENT
DTSTART:20260429T180000
DTEND:20260429T191000
SUMMARY:CH Grey vs. Lanier Orange
DESCRIPTION:GABL T-Ball - Gwinnett Alliance Baseball League
LOCATION:CHP 6
CATEGORIES:QuickScores; Baseball Game
TRANSP:0
DALARM:20260429T160000;PT10M;2;CH Grey vs. Lanier Orange
END:VEVENT
BEGIN:VEVENT
DTSTART:20260506T180000
DTEND:20260506T191000
SUMMARY:CH Grey vs. Lanier Grey
DESCRIPTION:GABL T-Ball - Gwinnett Alliance Baseball League
LOCATION:CHP 6
CATEGORIES:QuickScores; Baseball Game
TRANSP:0
DALARM:20260506T160000;PT10M;2;CH Grey vs. Lanier Grey
END:VEVENT
END:VCALENDAR
