BEGIN:VCALENDAR
VERSION:1.0
BEGIN:VEVENT
DTSTART:20260324T180000
DTEND:20260324T190000
SUMMARY:Los Gatos vs. Ryder
DESCRIPTION:12U BASEBALL SPRING - El Paso County Sportspark
LOCATION:Field 9
CATEGORIES:QuickScores; Baseball - Youth Game
TRANSP:0
DALARM:20260324T160000;PT10M;2;Los Gatos vs. Ryder
END:VEVENT
BEGIN:VEVENT
DTSTART:20260404T144000
DTEND:20260404T154000
SUMMARY:Los Gatos vs. BC
DESCRIPTION:12U BASEBALL SPRING - El Paso County Sportspark
LOCATION:Field 8
CATEGORIES:QuickScores; Baseball - Youth Game
TRANSP:0
DALARM:20260404T124000;PT10M;2;Los Gatos vs. BC
END:VEVENT
BEGIN:VEVENT
DTSTART:20260404T160500
DTEND:20260404T170500
SUMMARY:Jack City vs. Los Gatos
DESCRIPTION:12U BASEBALL SPRING - El Paso County Sportspark
LOCATION:Field 7
CATEGORIES:QuickScores; Baseball - Youth Game
TRANSP:0
DALARM:20260404T140500;PT10M;2;Jack City vs. Los Gatos
END:VEVENT
BEGIN:VEVENT
DTSTART:20260414T180000
DTEND:20260414T190000
SUMMARY:Desert Boyz vs. Los Gatos
DESCRIPTION:12U BASEBALL SPRING - El Paso County Sportspark
LOCATION:Field 10
CATEGORIES:QuickScores; Baseball - Youth Game
TRANSP:0
DALARM:20260414T160000;PT10M;2;Desert Boyz vs. Los Gatos
END:VEVENT
BEGIN:VEVENT
DTSTART:20260418T160500
DTEND:20260418T170500
SUMMARY:Dodgers vs. Los Gatos
DESCRIPTION:12U BASEBALL SPRING - El Paso County Sportspark
LOCATION:Field 6
CATEGORIES:QuickScores; Baseball - Youth Game
TRANSP:0
DALARM:20260418T140500;PT10M;2;Dodgers vs. Los Gatos
END:VEVENT
BEGIN:VEVENT
DTSTART:20260421T180000
DTEND:20260421T190000
SUMMARY:EP Blue Sox vs. Los Gatos
DESCRIPTION:12U BASEBALL SPRING - El Paso County Sportspark
LOCATION:Field 7
CATEGORIES:QuickScores; Baseball - Youth Game
TRANSP:0
DALARM:20260421T160000;PT10M;2;EP Blue Sox vs. Los Gatos
END:VEVENT
BEGIN:VEVENT
DTSTART:20260428T180000
DTEND:20260428T190000
SUMMARY:TX Mariachis vs. Los Gatos
DESCRIPTION:12U BASEBALL SPRING - El Paso County Sportspark
LOCATION:Field 6
CATEGORIES:QuickScores; Baseball - Youth Game
TRANSP:0
DALARM:20260428T160000;PT10M;2;TX Mariachis vs. Los Gatos
END:VEVENT
BEGIN:VEVENT
DTSTART:20260505T180000
DTEND:20260505T190000
SUMMARY:Los Gatos vs. Future Stars
DESCRIPTION:12U BASEBALL SPRING - El Paso County Sportspark
LOCATION:Field 8
CATEGORIES:QuickScores; Baseball - Youth Game
TRANSP:0
DALARM:20260505T160000;PT10M;2;Los Gatos vs. Future Stars
END:VEVENT
BEGIN:VEVENT
DTSTART:20260509T160500
DTEND:20260509T170500
SUMMARY:Los Gatos vs. B17 Legends
DESCRIPTION:12U BASEBALL SPRING - El Paso County Sportspark
LOCATION:Field 10
CATEGORIES:QuickScores; Baseball - Youth Game
TRANSP:0
DALARM:20260509T140500;PT10M;2;Los Gatos vs. B17 Legends
END:VEVENT
BEGIN:VEVENT
DTSTART:20260512T180000
DTEND:20260512T190000
SUMMARY:Texas Raised vs. Los Gatos
DESCRIPTION:12U BASEBALL SPRING - El Paso County Sportspark
LOCATION:Field 7
CATEGORIES:QuickScores; Baseball - Youth Game
TRANSP:0
DALARM:20260512T160000;PT10M;2;Texas Raised vs. Los Gatos
END:VEVENT
BEGIN:VEVENT
DTSTART:20260516T131500
DTEND:20260516T141500
SUMMARY:Los Gatos vs. Troopers
DESCRIPTION:12U BASEBALL SPRING - El Paso County Sportspark
LOCATION:Field 9
CATEGORIES:QuickScores; Baseball - Youth Game
TRANSP:0
DALARM:20260516T111500;PT10M;2;Los Gatos vs. Troopers
END:VEVENT
BEGIN:VEVENT
DTSTART:20260523T140000
DTEND:20260523T150000
SUMMARY:Los Gatos vs. Texas Majors
DESCRIPTION:12U BASEBALL SPRING - El Paso County Sportspark
LOCATION:Ascarate Field 4
CATEGORIES:QuickScores; Baseball - Youth Game
TRANSP:0
DALARM:20260523T120000;PT10M;2;Los Gatos vs. Texas Majors
END:VEVENT
BEGIN:VEVENT
DTSTART:20260530T131500
DTEND:20260530T141500
SUMMARY:TX Coyotes vs. Los Gatos
DESCRIPTION:12U BASEBALL SPRING - El Paso County Sportspark
LOCATION:Field 7
CATEGORIES:QuickScores; Baseball - Youth Game
TRANSP:0
DALARM:20260530T111500;PT10M;2;TX Coyotes vs. Los Gatos
END:VEVENT
BEGIN:VEVENT
DTSTART:20260530T144000
DTEND:20260530T154000
SUMMARY:Los Gatos vs. El Paso Baseball Crew
DESCRIPTION:12U BASEBALL SPRING - El Paso County Sportspark
LOCATION:Field 7
CATEGORIES:QuickScores; Baseball - Youth Game
TRANSP:0
DALARM:20260530T124000;PT10M;2;Los Gatos vs. El Paso Baseball Crew
END:VEVENT
END:VCALENDAR
