BEGIN:VCALENDAR
VERSION:1.0
BEGIN:VEVENT
DTSTART:20260324T180000
DTEND:20260324T190000
SUMMARY:Desert Boyz vs. Troopers
DESCRIPTION:12U BASEBALL SPRING - El Paso County Sportspark
LOCATION:Field 6
CATEGORIES:QuickScores; Baseball - Youth Game
TRANSP:0
DALARM:20260324T160000;PT10M;2;Desert Boyz vs. Troopers
END:VEVENT
BEGIN:VEVENT
DTSTART:20260404T144000
DTEND:20260404T154000
SUMMARY:Desert Boyz vs. Texas Raised
DESCRIPTION:12U BASEBALL SPRING - El Paso County Sportspark
LOCATION:Field 6
CATEGORIES:QuickScores; Baseball - Youth Game
TRANSP:0
DALARM:20260404T124000;PT10M;2;Desert Boyz vs. Texas Raised
END:VEVENT
BEGIN:VEVENT
DTSTART:20260404T160500
DTEND:20260404T170500
SUMMARY:Future Stars vs. Desert Boyz
DESCRIPTION:12U BASEBALL SPRING - El Paso County Sportspark
LOCATION:Field 6
CATEGORIES:QuickScores; Baseball - Youth Game
TRANSP:0
DALARM:20260404T140500;PT10M;2;Future Stars vs. Desert Boyz
END:VEVENT
BEGIN:VEVENT
DTSTART:20260414T180000
DTEND:20260414T190000
SUMMARY:Desert Boyz vs. Los Gatos
DESCRIPTION:12U BASEBALL SPRING - El Paso County Sportspark
LOCATION:Field 10
CATEGORIES:QuickScores; Baseball - Youth Game
TRANSP:0
DALARM:20260414T160000;PT10M;2;Desert Boyz vs. Los Gatos
END:VEVENT
BEGIN:VEVENT
DTSTART:20260418T115000
DTEND:20260418T125000
SUMMARY:Desert Boyz vs. Jack City
DESCRIPTION:12U BASEBALL SPRING - El Paso County Sportspark
LOCATION:Field 7
CATEGORIES:QuickScores; Baseball - Youth Game
TRANSP:0
DALARM:20260418T095000;PT10M;2;Desert Boyz vs. Jack City
END:VEVENT
BEGIN:VEVENT
DTSTART:20260428T180000
DTEND:20260428T190000
SUMMARY:EP Bombers vs. Desert Boyz
DESCRIPTION:12U BASEBALL SPRING - El Paso County Sportspark
LOCATION:Field 9
CATEGORIES:QuickScores; Baseball - Youth Game
TRANSP:0
DALARM:20260428T160000;PT10M;2;EP Bombers vs. Desert Boyz
END:VEVENT
BEGIN:VEVENT
DTSTART:20260505T180000
DTEND:20260505T190000
SUMMARY:El Paso Baseball Crew vs. Desert Boyz
DESCRIPTION:12U BASEBALL SPRING - El Paso County Sportspark
LOCATION:Field 5
CATEGORIES:QuickScores; Baseball - Youth Game
TRANSP:0
DALARM:20260505T160000;PT10M;2;El Paso Baseball Crew vs. Desert Boyz
END:VEVENT
BEGIN:VEVENT
DTSTART:20260509T144000
DTEND:20260509T154000
SUMMARY:BC vs. Desert Boyz
DESCRIPTION:12U BASEBALL SPRING - El Paso County Sportspark
LOCATION:Field 7
CATEGORIES:QuickScores; Baseball - Youth Game
TRANSP:0
DALARM:20260509T124000;PT10M;2;BC vs. Desert Boyz
END:VEVENT
BEGIN:VEVENT
DTSTART:20260512T180000
DTEND:20260512T190000
SUMMARY:Desert Boyz vs. TX Coyotes
DESCRIPTION:12U BASEBALL SPRING - El Paso County Sportspark
LOCATION:Field 8
CATEGORIES:QuickScores; Baseball - Youth Game
TRANSP:0
DALARM:20260512T160000;PT10M;2;Desert Boyz vs. TX Coyotes
END:VEVENT
BEGIN:VEVENT
DTSTART:20260516T160500
DTEND:20260516T170500
SUMMARY:Dodgers vs. Desert Boyz
DESCRIPTION:12U BASEBALL SPRING - El Paso County Sportspark
LOCATION:Field 10
CATEGORIES:QuickScores; Baseball - Youth Game
TRANSP:0
DALARM:20260516T140500;PT10M;2;Dodgers vs. Desert Boyz
END:VEVENT
BEGIN:VEVENT
DTSTART:20260523T140000
DTEND:20260523T150000
SUMMARY:Desert Boyz vs. B17 Legends
DESCRIPTION:12U BASEBALL SPRING - El Paso County Sportspark
LOCATION:Ascarate Field 10
CATEGORIES:QuickScores; Baseball - Youth Game
TRANSP:0
DALARM:20260523T120000;PT10M;2;Desert Boyz vs. B17 Legends
END:VEVENT
BEGIN:VEVENT
DTSTART:20260523T152500
DTEND:20260523T162500
SUMMARY:Desert Boyz vs. Texas Majors
DESCRIPTION:12U BASEBALL SPRING - El Paso County Sportspark
LOCATION:Ascarate Field 4
CATEGORIES:QuickScores; Baseball - Youth Game
TRANSP:0
DALARM:20260523T132500;PT10M;2;Desert Boyz vs. Texas Majors
END:VEVENT
BEGIN:VEVENT
DTSTART:20260526T180000
DTEND:20260526T190000
SUMMARY:EP Laser Show vs. Desert Boyz
DESCRIPTION:12U BASEBALL SPRING - El Paso County Sportspark
LOCATION:Field 10
CATEGORIES:QuickScores; Baseball - Youth Game
TRANSP:0
DALARM:20260526T160000;PT10M;2;EP Laser Show vs. Desert Boyz
END:VEVENT
BEGIN:VEVENT
DTSTART:20260530T115000
DTEND:20260530T125000
SUMMARY:TX Mariachis vs. Desert Boyz
DESCRIPTION:12U BASEBALL SPRING - El Paso County Sportspark
LOCATION:Field 8
CATEGORIES:QuickScores; Baseball - Youth Game
TRANSP:0
DALARM:20260530T095000;PT10M;2;TX Mariachis vs. Desert Boyz
END:VEVENT
END:VCALENDAR
