BEGIN:VCALENDAR
VERSION:1.0
BEGIN:VEVENT
DTSTART:20260324T180000
DTEND:20260324T190000
SUMMARY:Los Gatos vs. Ryder
DESCRIPTION:12U BASEBALL SPRING - El Paso County Sportspark
LOCATION:Field 9
CATEGORIES:QuickScores; Baseball - Youth Game
TRANSP:0
DALARM:20260324T160000;PT10M;2;Los Gatos vs. Ryder
END:VEVENT
BEGIN:VEVENT
DTSTART:20260404T144000
DTEND:20260404T154000
SUMMARY:Authentic vs. Ryder
DESCRIPTION:12U BASEBALL SPRING - El Paso County Sportspark
LOCATION:Field 10
CATEGORIES:QuickScores; Baseball - Youth Game
TRANSP:0
DALARM:20260404T124000;PT10M;2;Authentic vs. Ryder
END:VEVENT
BEGIN:VEVENT
DTSTART:20260404T160500
DTEND:20260404T170500
SUMMARY:Ryder vs. EP Bombers
DESCRIPTION:12U BASEBALL SPRING - El Paso County Sportspark
LOCATION:Field 10
CATEGORIES:QuickScores; Baseball - Youth Game
TRANSP:0
DALARM:20260404T140500;PT10M;2;Ryder vs. EP Bombers
END:VEVENT
BEGIN:VEVENT
DTSTART:20260407T180000
DTEND:20260407T190000
SUMMARY:Ryder vs. Texas Raised
DESCRIPTION:12U BASEBALL SPRING - El Paso County Sportspark
LOCATION:Field 10
CATEGORIES:QuickScores; Baseball - Youth Game
TRANSP:0
DALARM:20260407T160000;PT10M;2;Ryder vs. Texas Raised
END:VEVENT
BEGIN:VEVENT
DTSTART:20260418T144000
DTEND:20260418T154000
SUMMARY:EP Laser Show vs. Ryder
DESCRIPTION:12U BASEBALL SPRING - El Paso County Sportspark
LOCATION:Field 7
CATEGORIES:QuickScores; Baseball - Youth Game
TRANSP:0
DALARM:20260418T124000;PT10M;2;EP Laser Show vs. Ryder
END:VEVENT
BEGIN:VEVENT
DTSTART:20260418T160500
DTEND:20260418T170500
SUMMARY:Ryder vs. Swarm
DESCRIPTION:12U BASEBALL SPRING - El Paso County Sportspark
LOCATION:Field 7
CATEGORIES:QuickScores; Baseball - Youth Game
TRANSP:0
DALARM:20260418T140500;PT10M;2;Ryder vs. Swarm
END:VEVENT
BEGIN:VEVENT
DTSTART:20260421T180000
DTEND:20260421T190000
SUMMARY:Future Stars vs. Ryder
DESCRIPTION:12U BASEBALL SPRING - El Paso County Sportspark
LOCATION:Field 8
CATEGORIES:QuickScores; Baseball - Youth Game
TRANSP:0
DALARM:20260421T160000;PT10M;2;Future Stars vs. Ryder
END:VEVENT
BEGIN:VEVENT
DTSTART:20260505T180000
DTEND:20260505T190000
SUMMARY:Ryder vs. Yaquis
DESCRIPTION:12U BASEBALL SPRING - El Paso County Sportspark
LOCATION:Field 9
CATEGORIES:QuickScores; Baseball - Youth Game
TRANSP:0
DALARM:20260505T160000;PT10M;2;Ryder vs. Yaquis
END:VEVENT
BEGIN:VEVENT
DTSTART:20260509T144000
DTEND:20260509T154000
SUMMARY:TX Mariachis vs. Ryder
DESCRIPTION:12U BASEBALL SPRING - El Paso County Sportspark
LOCATION:Field 6
CATEGORIES:QuickScores; Baseball - Youth Game
TRANSP:0
DALARM:20260509T124000;PT10M;2;TX Mariachis vs. Ryder
END:VEVENT
BEGIN:VEVENT
DTSTART:20260512T180000
DTEND:20260512T190000
SUMMARY:Ryder vs. EP Blue Sox
DESCRIPTION:12U BASEBALL SPRING - El Paso County Sportspark
LOCATION:Field 5
CATEGORIES:QuickScores; Baseball - Youth Game
TRANSP:0
DALARM:20260512T160000;PT10M;2;Ryder vs. EP Blue Sox
END:VEVENT
BEGIN:VEVENT
DTSTART:20260516T160500
DTEND:20260516T170500
SUMMARY:Ryder vs. TX Coyotes
DESCRIPTION:12U BASEBALL SPRING - El Paso County Sportspark
LOCATION:Field 6
CATEGORIES:QuickScores; Baseball - Youth Game
TRANSP:0
DALARM:20260516T140500;PT10M;2;Ryder vs. TX Coyotes
END:VEVENT
BEGIN:VEVENT
DTSTART:20260519T180000
DTEND:20260519T190000
SUMMARY:Troopers vs. Ryder
DESCRIPTION:12U BASEBALL SPRING - El Paso County Sportspark
LOCATION:Field 7
CATEGORIES:QuickScores; Baseball - Youth Game
TRANSP:0
DALARM:20260519T160000;PT10M;2;Troopers vs. Ryder
END:VEVENT
BEGIN:VEVENT
DTSTART:20260523T140000
DTEND:20260523T150000
SUMMARY:El Paso Baseball Crew vs. Ryder
DESCRIPTION:12U BASEBALL SPRING - El Paso County Sportspark
LOCATION:Ascarate Field 7
CATEGORIES:QuickScores; Baseball - Youth Game
TRANSP:0
DALARM:20260523T120000;PT10M;2;El Paso Baseball Crew vs. Ryder
END:VEVENT
BEGIN:VEVENT
DTSTART:20260530T131500
DTEND:20260530T141500
SUMMARY:Ryder vs. Texas Majors
DESCRIPTION:12U BASEBALL SPRING - El Paso County Sportspark
LOCATION:Field 8
CATEGORIES:QuickScores; Baseball - Youth Game
TRANSP:0
DALARM:20260530T111500;PT10M;2;Ryder vs. Texas Majors
END:VEVENT
END:VCALENDAR
