BEGIN:VCALENDAR
VERSION:1.0
BEGIN:VEVENT
DTSTART:20260404T144000
DTEND:20260404T154000
SUMMARY:TX Mariachis vs. B17 Legends
DESCRIPTION:12U BASEBALL SPRING - El Paso County Sportspark
LOCATION:Field 9
CATEGORIES:QuickScores; Baseball - Youth Game
TRANSP:0
DALARM:20260404T124000;PT10M;2;TX Mariachis vs. B17 Legends
END:VEVENT
BEGIN:VEVENT
DTSTART:20260404T160500
DTEND:20260404T170500
SUMMARY:Troopers vs. TX Mariachis
DESCRIPTION:12U BASEBALL SPRING - El Paso County Sportspark
LOCATION:Field 8
CATEGORIES:QuickScores; Baseball - Youth Game
TRANSP:0
DALARM:20260404T140500;PT10M;2;Troopers vs. TX Mariachis
END:VEVENT
BEGIN:VEVENT
DTSTART:20260407T180000
DTEND:20260407T190000
SUMMARY:TX Mariachis vs. Future Stars
DESCRIPTION:12U BASEBALL SPRING - El Paso County Sportspark
LOCATION:Field 7
CATEGORIES:QuickScores; Baseball - Youth Game
TRANSP:0
DALARM:20260407T160000;PT10M;2;TX Mariachis vs. Future Stars
END:VEVENT
BEGIN:VEVENT
DTSTART:20260414T180000
DTEND:20260414T190000
SUMMARY:Dodgers vs. TX Mariachis
DESCRIPTION:12U BASEBALL SPRING - El Paso County Sportspark
LOCATION:Field 8
CATEGORIES:QuickScores; Baseball - Youth Game
TRANSP:0
DALARM:20260414T160000;PT10M;2;Dodgers vs. TX Mariachis
END:VEVENT
BEGIN:VEVENT
DTSTART:20260418T144000
DTEND:20260418T154000
SUMMARY:Texas Majors vs. TX Mariachis
DESCRIPTION:12U BASEBALL SPRING - El Paso County Sportspark
LOCATION:Field 9
CATEGORIES:QuickScores; Baseball - Youth Game
TRANSP:0
DALARM:20260418T124000;PT10M;2;Texas Majors vs. TX Mariachis
END:VEVENT
BEGIN:VEVENT
DTSTART:20260428T180000
DTEND:20260428T190000
SUMMARY:TX Mariachis vs. Los Gatos
DESCRIPTION:12U BASEBALL SPRING - El Paso County Sportspark
LOCATION:Field 6
CATEGORIES:QuickScores; Baseball - Youth Game
TRANSP:0
DALARM:20260428T160000;PT10M;2;TX Mariachis vs. Los Gatos
END:VEVENT
BEGIN:VEVENT
DTSTART:20260509T131500
DTEND:20260509T141500
SUMMARY:TX Mariachis vs. BC
DESCRIPTION:12U BASEBALL SPRING - El Paso County Sportspark
LOCATION:Field 7
CATEGORIES:QuickScores; Baseball - Youth Game
TRANSP:0
DALARM:20260509T111500;PT10M;2;TX Mariachis vs. BC
END:VEVENT
BEGIN:VEVENT
DTSTART:20260509T144000
DTEND:20260509T154000
SUMMARY:TX Mariachis vs. Ryder
DESCRIPTION:12U BASEBALL SPRING - El Paso County Sportspark
LOCATION:Field 6
CATEGORIES:QuickScores; Baseball - Youth Game
TRANSP:0
DALARM:20260509T124000;PT10M;2;TX Mariachis vs. Ryder
END:VEVENT
BEGIN:VEVENT
DTSTART:20260512T180000
DTEND:20260512T190000
SUMMARY:TX Mariachis vs. Jack City
DESCRIPTION:12U BASEBALL SPRING - El Paso County Sportspark
LOCATION:Field 10
CATEGORIES:QuickScores; Baseball - Youth Game
TRANSP:0
DALARM:20260512T160000;PT10M;2;TX Mariachis vs. Jack City
END:VEVENT
BEGIN:VEVENT
DTSTART:20260516T131500
DTEND:20260516T141500
SUMMARY:EP Blue Sox vs. TX Mariachis
DESCRIPTION:12U BASEBALL SPRING - El Paso County Sportspark
LOCATION:Field 6
CATEGORIES:QuickScores; Baseball - Youth Game
TRANSP:0
DALARM:20260516T111500;PT10M;2;EP Blue Sox vs. TX Mariachis
END:VEVENT
BEGIN:VEVENT
DTSTART:20260519T180000
DTEND:20260519T190000
SUMMARY:Authentic vs. TX Mariachis
DESCRIPTION:12U BASEBALL SPRING - El Paso County Sportspark
LOCATION:Field 9
CATEGORIES:QuickScores; Baseball - Youth Game
TRANSP:0
DALARM:20260519T160000;PT10M;2;Authentic vs. TX Mariachis
END:VEVENT
BEGIN:VEVENT
DTSTART:20260523T140000
DTEND:20260523T150000
SUMMARY:Yaquis vs. TX Mariachis
DESCRIPTION:12U BASEBALL SPRING - El Paso County Sportspark
LOCATION:Ascarate Field 8
CATEGORIES:QuickScores; Baseball - Youth Game
TRANSP:0
DALARM:20260523T120000;PT10M;2;Yaquis vs. TX Mariachis
END:VEVENT
BEGIN:VEVENT
DTSTART:20260526T180000
DTEND:20260526T190000
SUMMARY:Swarm vs. TX Mariachis
DESCRIPTION:12U BASEBALL SPRING - El Paso County Sportspark
LOCATION:Field 5
CATEGORIES:QuickScores; Baseball - Youth Game
TRANSP:0
DALARM:20260526T160000;PT10M;2;Swarm vs. TX Mariachis
END:VEVENT
BEGIN:VEVENT
DTSTART:20260530T115000
DTEND:20260530T125000
SUMMARY:TX Mariachis vs. Desert Boyz
DESCRIPTION:12U BASEBALL SPRING - El Paso County Sportspark
LOCATION:Field 8
CATEGORIES:QuickScores; Baseball - Youth Game
TRANSP:0
DALARM:20260530T095000;PT10M;2;TX Mariachis vs. Desert Boyz
END:VEVENT
END:VCALENDAR
