BEGIN:VCALENDAR
VERSION:1.0
BEGIN:VEVENT
DTSTART:20260324T180000
DTEND:20260324T190000
SUMMARY:Desert Boyz vs. Troopers
DESCRIPTION:12U BASEBALL SPRING - El Paso County Sportspark
LOCATION:Field 6
CATEGORIES:QuickScores; Baseball - Youth Game
TRANSP:0
DALARM:20260324T160000;PT10M;2;Desert Boyz vs. Troopers
END:VEVENT
BEGIN:VEVENT
DTSTART:20260331T180000
DTEND:20260331T190000
SUMMARY:Troopers vs. EP Laser Show
DESCRIPTION:12U BASEBALL SPRING - El Paso County Sportspark
LOCATION:Field 8
CATEGORIES:QuickScores; Baseball - Youth Game
TRANSP:0
DALARM:20260331T160000;PT10M;2;Troopers vs. EP Laser Show
END:VEVENT
BEGIN:VEVENT
DTSTART:20260404T160500
DTEND:20260404T170500
SUMMARY:Troopers vs. TX Mariachis
DESCRIPTION:12U BASEBALL SPRING - El Paso County Sportspark
LOCATION:Field 8
CATEGORIES:QuickScores; Baseball - Youth Game
TRANSP:0
DALARM:20260404T140500;PT10M;2;Troopers vs. TX Mariachis
END:VEVENT
BEGIN:VEVENT
DTSTART:20260407T180000
DTEND:20260407T190000
SUMMARY:EP Blue Sox vs. Troopers
DESCRIPTION:12U BASEBALL SPRING - El Paso County Sportspark
LOCATION:Field 6
CATEGORIES:QuickScores; Baseball - Youth Game
TRANSP:0
DALARM:20260407T160000;PT10M;2;EP Blue Sox vs. Troopers
END:VEVENT
BEGIN:VEVENT
DTSTART:20260414T180000
DTEND:20260414T190000
SUMMARY:Troopers vs. EP Bombers
DESCRIPTION:12U BASEBALL SPRING - El Paso County Sportspark
LOCATION:Field 7
CATEGORIES:QuickScores; Baseball - Youth Game
TRANSP:0
DALARM:20260414T160000;PT10M;2;Troopers vs. EP Bombers
END:VEVENT
BEGIN:VEVENT
DTSTART:20260418T131500
DTEND:20260418T141500
SUMMARY:TX Coyotes vs. Troopers
DESCRIPTION:12U BASEBALL SPRING - El Paso County Sportspark
LOCATION:Field 6
CATEGORIES:QuickScores; Baseball - Youth Game
TRANSP:0
DALARM:20260418T111500;PT10M;2;TX Coyotes vs. Troopers
END:VEVENT
BEGIN:VEVENT
DTSTART:20260505T180000
DTEND:20260505T190000
SUMMARY:Authentic vs. Troopers
DESCRIPTION:12U BASEBALL SPRING - El Paso County Sportspark
LOCATION:Field 10
CATEGORIES:QuickScores; Baseball - Youth Game
TRANSP:0
DALARM:20260505T160000;PT10M;2;Authentic vs. Troopers
END:VEVENT
BEGIN:VEVENT
DTSTART:20260509T160500
DTEND:20260509T170500
SUMMARY:Troopers vs. El Paso Baseball Crew
DESCRIPTION:12U BASEBALL SPRING - El Paso County Sportspark
LOCATION:Field 6
CATEGORIES:QuickScores; Baseball - Youth Game
TRANSP:0
DALARM:20260509T140500;PT10M;2;Troopers vs. El Paso Baseball Crew
END:VEVENT
BEGIN:VEVENT
DTSTART:20260516T131500
DTEND:20260516T141500
SUMMARY:Los Gatos vs. Troopers
DESCRIPTION:12U BASEBALL SPRING - El Paso County Sportspark
LOCATION:Field 9
CATEGORIES:QuickScores; Baseball - Youth Game
TRANSP:0
DALARM:20260516T111500;PT10M;2;Los Gatos vs. Troopers
END:VEVENT
BEGIN:VEVENT
DTSTART:20260516T144000
DTEND:20260516T154000
SUMMARY:Troopers vs. Swarm
DESCRIPTION:12U BASEBALL SPRING - El Paso County Sportspark
LOCATION:Field 9
CATEGORIES:QuickScores; Baseball - Youth Game
TRANSP:0
DALARM:20260516T124000;PT10M;2;Troopers vs. Swarm
END:VEVENT
BEGIN:VEVENT
DTSTART:20260519T180000
DTEND:20260519T190000
SUMMARY:Troopers vs. Ryder
DESCRIPTION:12U BASEBALL SPRING - El Paso County Sportspark
LOCATION:Field 7
CATEGORIES:QuickScores; Baseball - Youth Game
TRANSP:0
DALARM:20260519T160000;PT10M;2;Troopers vs. Ryder
END:VEVENT
BEGIN:VEVENT
DTSTART:20260523T152500
DTEND:20260523T162500
SUMMARY:Future Stars vs. Troopers
DESCRIPTION:12U BASEBALL SPRING - El Paso County Sportspark
LOCATION:Ascarate Field 8
CATEGORIES:QuickScores; Baseball - Youth Game
TRANSP:0
DALARM:20260523T132500;PT10M;2;Future Stars vs. Troopers
END:VEVENT
BEGIN:VEVENT
DTSTART:20260526T180000
DTEND:20260526T190000
SUMMARY:Jack City vs. Troopers
DESCRIPTION:12U BASEBALL SPRING - El Paso County Sportspark
LOCATION:Field 9
CATEGORIES:QuickScores; Baseball - Youth Game
TRANSP:0
DALARM:20260526T160000;PT10M;2;Jack City vs. Troopers
END:VEVENT
BEGIN:VEVENT
DTSTART:20260530T144000
DTEND:20260530T154000
SUMMARY:Troopers vs. Yaquis
DESCRIPTION:12U BASEBALL SPRING - El Paso County Sportspark
LOCATION:Field 10
CATEGORIES:QuickScores; Baseball - Youth Game
TRANSP:0
DALARM:20260530T124000;PT10M;2;Troopers vs. Yaquis
END:VEVENT
END:VCALENDAR
