BEGIN:VCALENDAR
VERSION:1.0
BEGIN:VEVENT
DTSTART:20251209T191500
DTEND:20251209T200000
SUMMARY:Blue Barracudas vs. Red Wolves
DESCRIPTION:Adult Inline Hockey: Winter 2025 - 2026 - 
LOCATION:Nations Tobin Big Rink
CATEGORIES:QuickScores; Inline Hockey Game
TRANSP:0
DALARM:20251209T171500;PT10M;2;Blue Barracudas vs. Red Wolves
END:VEVENT
BEGIN:VEVENT
DTSTART:20251211T200000
DTEND:20251211T204500
SUMMARY:Yellow Outlaws vs. Blue Barracudas
DESCRIPTION:Adult Inline Hockey: Winter 2025 - 2026 - 
LOCATION:Nations Tobin Big Rink
CATEGORIES:QuickScores; Inline Hockey Game
TRANSP:0
DALARM:20251211T180000;PT10M;2;Yellow Outlaws vs. Blue Barracudas
END:VEVENT
BEGIN:VEVENT
DTSTART:20260127T191500
DTEND:20260127T200000
SUMMARY:Black Serpents vs. Blue Barracudas
DESCRIPTION:Adult Inline Hockey: Winter 2025 - 2026 - 
LOCATION:Nations Tobin Big Rink
CATEGORIES:QuickScores; Inline Hockey Game
TRANSP:0
DALARM:20260127T171500;PT10M;2;Black Serpents vs. Blue Barracudas
END:VEVENT
BEGIN:VEVENT
DTSTART:20260129T191500
DTEND:20260129T200000
SUMMARY:Red Wolves vs. Blue Barracudas
DESCRIPTION:Adult Inline Hockey: Winter 2025 - 2026 - 
LOCATION:Nations Tobin Big Rink
CATEGORIES:QuickScores; Inline Hockey Game
TRANSP:0
DALARM:20260129T171500;PT10M;2;Red Wolves vs. Blue Barracudas
END:VEVENT
BEGIN:VEVENT
DTSTART:20260203T200000
DTEND:20260203T204500
SUMMARY:Blue Barracudas vs. Yellow Outlaws
DESCRIPTION:Adult Inline Hockey: Winter 2025 - 2026 - 
LOCATION:Nations Tobin Big Rink
CATEGORIES:QuickScores; Inline Hockey Game
TRANSP:0
DALARM:20260203T180000;PT10M;2;Blue Barracudas vs. Yellow Outlaws
END:VEVENT
BEGIN:VEVENT
DTSTART:20260205T191500
DTEND:20260205T200000
SUMMARY:Blue Barracudas vs. Black Serpents
DESCRIPTION:Adult Inline Hockey: Winter 2025 - 2026 - 
LOCATION:Nations Tobin Big Rink
CATEGORIES:QuickScores; Inline Hockey Game
TRANSP:0
DALARM:20260205T171500;PT10M;2;Blue Barracudas vs. Black Serpents
END:VEVENT
BEGIN:VEVENT
DTSTART:20260210T200000
DTEND:20260210T204500
SUMMARY:Blue Barracudas vs. Red Wolves
DESCRIPTION:Adult Inline Hockey: Winter 2025 - 2026 - 
LOCATION:Nations Tobin Big Rink
CATEGORIES:QuickScores; Inline Hockey Game
TRANSP:0
DALARM:20260210T180000;PT10M;2;Blue Barracudas vs. Red Wolves
END:VEVENT
BEGIN:VEVENT
DTSTART:20260212T191500
DTEND:20260212T200000
SUMMARY:Blue Barracudas vs. Yellow Outlaws
DESCRIPTION:Adult Inline Hockey: Winter 2025 - 2026 - 
LOCATION:Nations Tobin Big Rink
CATEGORIES:QuickScores; Inline Hockey Game
TRANSP:0
DALARM:20260212T171500;PT10M;2;Blue Barracudas vs. Yellow Outlaws
END:VEVENT
BEGIN:VEVENT
DTSTART:20260217T200000
DTEND:20260217T204500
SUMMARY:Black Serpents vs. Blue Barracudas
DESCRIPTION:Adult Inline Hockey: Winter 2025 - 2026 - 
LOCATION:Nations Tobin Big Rink
CATEGORIES:QuickScores; Inline Hockey Game
TRANSP:0
DALARM:20260217T180000;PT10M;2;Black Serpents vs. Blue Barracudas
END:VEVENT
BEGIN:VEVENT
DTSTART:20260219T191500
DTEND:20260219T200000
SUMMARY:[1] Blue Barracudas vs. [4] Red Wolves
DESCRIPTION:Adult Inline Hockey: Winter 2025 - 2026 - 
LOCATION:Nations Tobin Big Rink
CATEGORIES:QuickScores; Inline Hockey Game
TRANSP:0
DALARM:20260219T171500;PT10M;2;[1] Blue Barracudas vs. [4] Red Wolves
END:VEVENT
BEGIN:VEVENT
DTSTART:20260224T191500
DTEND:20260224T200000
SUMMARY:[1] Blue Barracudas vs. [2] Yellow Outlaws
DESCRIPTION:Adult Inline Hockey: Winter 2025 - 2026 - 
LOCATION:Nations Tobin Big Rink
CATEGORIES:QuickScores; Inline Hockey Game
TRANSP:0
DALARM:20260224T171500;PT10M;2;[1] Blue Barracudas vs. [2] Yellow Outlaws
END:VEVENT
BEGIN:VEVENT
DTSTART:20260226T200000
DTEND:20260226T204500
SUMMARY:[1] Blue Barracudas vs. [4] Red Wolves
DESCRIPTION:Adult Inline Hockey: Winter 2025 - 2026 - 
LOCATION:Nations Tobin Big Rink
CATEGORIES:QuickScores; Inline Hockey Game
TRANSP:0
DALARM:20260226T180000;PT10M;2;[1] Blue Barracudas vs. [4] Red Wolves
END:VEVENT
END:VCALENDAR
