BEGIN:VCALENDAR
VERSION:1.0
BEGIN:VEVENT
DTSTART:20260304T192000
DTEND:20260304T203000
SUMMARY:Dacula - Parker vs. Grayson - Hardeman-Stone
DESCRIPTION:TEEBALL 6U - 
LOCATION:Dacula Park - Field 4 (T-Ball / Rookie)
CATEGORIES:QuickScores; ELITE GWINNETT BASEBALL LEAGUE Game
TRANSP:0
DALARM:20260304T172000;PT10M;2;Dacula - Parker vs. Grayson - Hardeman-Stone
END:VEVENT
BEGIN:VEVENT
DTSTART:20260307T124000
DTEND:20260307T135000
SUMMARY:Dacula - Smith vs. Dacula - Parker
DESCRIPTION:TEEBALL 6U - 
LOCATION:Shorty Howell -Field 6 (TeeBall)
CATEGORIES:QuickScores; ELITE GWINNETT BASEBALL LEAGUE Game
TRANSP:0
DALARM:20260307T104000;PT10M;2;Dacula - Smith vs. Dacula - Parker
END:VEVENT
BEGIN:VEVENT
DTSTART:20260310T192000
DTEND:20260310T203000
SUMMARY:Lawrenceville - Kronenberg vs. Dacula - Parker
DESCRIPTION:TEEBALL 6U - 
LOCATION:Shorty Howell -Field 6 (TeeBall)
CATEGORIES:QuickScores; ELITE GWINNETT BASEBALL LEAGUE Game
TRANSP:0
DALARM:20260310T172000;PT10M;2;Lawrenceville - Kronenberg vs. Dacula - Parker
END:VEVENT
BEGIN:VEVENT
DTSTART:20260314T112000
DTEND:20260314T123000
SUMMARY:Lawrenceville - Bonner vs. Dacula - Parker
DESCRIPTION:TEEBALL 6U - 
LOCATION:Dacula Park - Field 4 (T-Ball / Rookie)
CATEGORIES:QuickScores; ELITE GWINNETT BASEBALL LEAGUE Game
TRANSP:0
DALARM:20260314T092000;PT10M;2;Lawrenceville - Bonner vs. Dacula - Parker
END:VEVENT
BEGIN:VEVENT
DTSTART:20260319T180000
DTEND:20260319T191000
SUMMARY:Dacula - Parker vs. Duluth McLeod
DESCRIPTION:TEEBALL 6U - 
LOCATION:Dacula Park - Field 4 (T-Ball / Rookie)
CATEGORIES:QuickScores; ELITE GWINNETT BASEBALL LEAGUE Game
TRANSP:0
DALARM:20260319T160000;PT10M;2;Dacula - Parker vs. Duluth McLeod
END:VEVENT
BEGIN:VEVENT
DTSTART:20260321T124000
DTEND:20260321T135000
SUMMARY:Dacula - Mitchell vs. Dacula - Parker
DESCRIPTION:TEEBALL 6U - 
LOCATION:Lawrenceville - Field 1
CATEGORIES:QuickScores; ELITE GWINNETT BASEBALL LEAGUE Game
TRANSP:0
DALARM:20260321T104000;PT10M;2;Dacula - Mitchell vs. Dacula - Parker
END:VEVENT
BEGIN:VEVENT
DTSTART:20260325T180000
DTEND:20260325T191000
SUMMARY:Dacula - Parker vs. Lawrenceville - Buggs - Henderson
DESCRIPTION:TEEBALL 6U - 
LOCATION:Lawrenceville - Field 1
CATEGORIES:QuickScores; ELITE GWINNETT BASEBALL LEAGUE Game
TRANSP:0
DALARM:20260325T160000;PT10M;2;Dacula - Parker vs. Lawrenceville - Buggs - Henderson
END:VEVENT
BEGIN:VEVENT
DTSTART:20260328T100000
DTEND:20260328T111000
SUMMARY:Grayson - Fickle vs. Dacula - Parker
DESCRIPTION:TEEBALL 6U - 
LOCATION:Bay Creek - Field 8 (TeeBall)
CATEGORIES:QuickScores; ELITE GWINNETT BASEBALL LEAGUE Game
TRANSP:0
DALARM:20260328T080000;PT10M;2;Grayson - Fickle vs. Dacula - Parker
END:VEVENT
BEGIN:VEVENT
DTSTART:20260330T180000
DTEND:20260330T191000
SUMMARY:Dacula - Parker vs. Duluth Wright
DESCRIPTION:TEEBALL 6U - 
LOCATION:Dacula Park - Field 4 (T-Ball / Rookie)
CATEGORIES:QuickScores; ELITE GWINNETT BASEBALL LEAGUE Game
TRANSP:0
DALARM:20260330T160000;PT10M;2;Dacula - Parker vs. Duluth Wright
END:VEVENT
BEGIN:VEVENT
DTSTART:20260401T180000
DTEND:20260401T191000
SUMMARY:Dacula - Parker vs. Dacula - Smith
DESCRIPTION:Weather Delay (Mid-Game)Top of the 3rd, 2 Outs, with 12 min left of game time Parker team at bat Ellis is batter Wyatt is on 3rd Micah is on Second and RJ is on First Smiths team is in the Field I do have a picture of score board at start of the lighting alarm and everything is also documented in our team scorebook as well as the main scorebook --- TEEBALL 6U - 
LOCATION:Dacula Park - Field 4 (T-Ball / Rookie)
CATEGORIES:QuickScores; ELITE GWINNETT BASEBALL LEAGUE Game
TRANSP:0
DALARM:20260401T160000;PT10M;2;Dacula - Parker vs. Dacula - Smith
END:VEVENT
BEGIN:VEVENT
DTSTART:20260415T192000
DTEND:20260415T203000
SUMMARY:Grayson - Hardeman-Stone vs. Dacula - Parker
DESCRIPTION:TEEBALL 6U - 
LOCATION:Bay Creek - Field 8 (TeeBall)
CATEGORIES:QuickScores; ELITE GWINNETT BASEBALL LEAGUE Game
TRANSP:0
DALARM:20260415T172000;PT10M;2;Grayson - Hardeman-Stone vs. Dacula - Parker
END:VEVENT
BEGIN:VEVENT
DTSTART:20260425T100000
DTEND:20260425T111000
SUMMARY:Dacula - Parker vs. Lawrenceville - Bonner
DESCRIPTION:TEEBALL 6U - 
LOCATION:Dacula Park - Field 4 (T-Ball / Rookie)
CATEGORIES:QuickScores; ELITE GWINNETT BASEBALL LEAGUE Game
TRANSP:0
DALARM:20260425T080000;PT10M;2;Dacula - Parker vs. Lawrenceville - Bonner
END:VEVENT
END:VCALENDAR
