BEGIN:VCALENDAR
VERSION:1.0
BEGIN:VEVENT
DTSTART:20260304T180000
DTEND:20260304T191000
SUMMARY:Lawrenceville - Buggs - Henderson vs. Lawrenceville - Kronenberg
DESCRIPTION:TEEBALL 6U - 
LOCATION:Lawrenceville - Field 1
CATEGORIES:QuickScores; ELITE GWINNETT BASEBALL LEAGUE Game
TRANSP:0
DALARM:20260304T160000;PT10M;2;Lawrenceville - Buggs - Henderson vs. Lawrenceville - Kronenberg
END:VEVENT
BEGIN:VEVENT
DTSTART:20260307T140000
DTEND:20260307T151000
SUMMARY:Lawrenceville - Buggs - Henderson vs. Grayson - Hardeman-Stone
DESCRIPTION:TEEBALL 6U - 
LOCATION:Shorty Howell -Field 6 (TeeBall)
CATEGORIES:QuickScores; ELITE GWINNETT BASEBALL LEAGUE Game
TRANSP:0
DALARM:20260307T120000;PT10M;2;Lawrenceville - Buggs - Henderson vs. Grayson - Hardeman-Stone
END:VEVENT
BEGIN:VEVENT
DTSTART:20260311T180000
DTEND:20260311T191000
SUMMARY:Lawrenceville - Buggs - Henderson vs. Duluth McLeod
DESCRIPTION:TEEBALL 6U - 
LOCATION:Lawrenceville - Field 1
CATEGORIES:QuickScores; ELITE GWINNETT BASEBALL LEAGUE Game
TRANSP:0
DALARM:20260311T160000;PT10M;2;Lawrenceville - Buggs - Henderson vs. Duluth McLeod
END:VEVENT
BEGIN:VEVENT
DTSTART:20260314T124000
DTEND:20260314T135000
SUMMARY:Lawrenceville - Buggs - Henderson vs. Dacula - Smith
DESCRIPTION:TEEBALL 6U - 
LOCATION:Dacula Park - Field 4 (T-Ball / Rookie)
CATEGORIES:QuickScores; ELITE GWINNETT BASEBALL LEAGUE Game
TRANSP:0
DALARM:20260314T104000;PT10M;2;Lawrenceville - Buggs - Henderson vs. Dacula - Smith
END:VEVENT
BEGIN:VEVENT
DTSTART:20260319T192000
DTEND:20260319T203000
SUMMARY:Lawrenceville - Buggs - Henderson vs. Duluth Wright
DESCRIPTION:TEEBALL 6U - 
LOCATION:Lawrenceville - Field 1
CATEGORIES:QuickScores; ELITE GWINNETT BASEBALL LEAGUE Game
TRANSP:0
DALARM:20260319T172000;PT10M;2;Lawrenceville - Buggs - Henderson vs. Duluth Wright
END:VEVENT
BEGIN:VEVENT
DTSTART:20260321T100000
DTEND:20260321T111000
SUMMARY:Lawrenceville - Bonner vs. Lawrenceville - Buggs - Henderson
DESCRIPTION:TEEBALL 6U - 
LOCATION:Lawrenceville - Field 1
CATEGORIES:QuickScores; ELITE GWINNETT BASEBALL LEAGUE Game
TRANSP:0
DALARM:20260321T080000;PT10M;2;Lawrenceville - Bonner vs. Lawrenceville - Buggs - Henderson
END:VEVENT
BEGIN:VEVENT
DTSTART:20260323T180000
DTEND:20260323T191000
SUMMARY:Lawrenceville - Buggs - Henderson vs. Dacula - Mitchell
DESCRIPTION:TEEBALL 6U - 
LOCATION:Lawrenceville - Field 1
CATEGORIES:QuickScores; ELITE GWINNETT BASEBALL LEAGUE Game
TRANSP:0
DALARM:20260323T160000;PT10M;2;Lawrenceville - Buggs - Henderson vs. Dacula - Mitchell
END:VEVENT
BEGIN:VEVENT
DTSTART:20260325T180000
DTEND:20260325T191000
SUMMARY:Dacula - Parker vs. Lawrenceville - Buggs - Henderson
DESCRIPTION:TEEBALL 6U - 
LOCATION:Lawrenceville - Field 1
CATEGORIES:QuickScores; ELITE GWINNETT BASEBALL LEAGUE Game
TRANSP:0
DALARM:20260325T160000;PT10M;2;Dacula - Parker vs. Lawrenceville - Buggs - Henderson
END:VEVENT
BEGIN:VEVENT
DTSTART:20260330T192000
DTEND:20260330T203000
SUMMARY:Grayson - Fickle vs. Lawrenceville - Buggs - Henderson
DESCRIPTION:TEEBALL 6U - 
LOCATION:Lawrenceville - Field 1
CATEGORIES:QuickScores; ELITE GWINNETT BASEBALL LEAGUE Game
TRANSP:0
DALARM:20260330T172000;PT10M;2;Grayson - Fickle vs. Lawrenceville - Buggs - Henderson
END:VEVENT
BEGIN:VEVENT
DTSTART:20260401T192000
DTEND:20260401T203000
SUMMARY:Grayson - Hardeman-Stone vs. Lawrenceville - Buggs - Henderson
DESCRIPTION:Game finished after a 30" weather delay (agreed by both coaches) --- TEEBALL 6U - 
LOCATION:Bay Creek - Field 8 (TeeBall)
CATEGORIES:QuickScores; ELITE GWINNETT BASEBALL LEAGUE Game
TRANSP:0
DALARM:20260401T172000;PT10M;2;Grayson - Hardeman-Stone vs. Lawrenceville - Buggs - Henderson
END:VEVENT
BEGIN:VEVENT
DTSTART:20260415T180000
DTEND:20260415T191000
SUMMARY:Lawrenceville - Kronenberg vs. Lawrenceville - Buggs - Henderson
DESCRIPTION:TEEBALL 6U - 
LOCATION:Lawrenceville - Field 1
CATEGORIES:QuickScores; ELITE GWINNETT BASEBALL LEAGUE Game
TRANSP:0
DALARM:20260415T160000;PT10M;2;Lawrenceville - Kronenberg vs. Lawrenceville - Buggs - Henderson
END:VEVENT
BEGIN:VEVENT
DTSTART:20260425T112000
DTEND:20260425T123000
SUMMARY:Dacula - Smith vs. Lawrenceville - Buggs - Henderson
DESCRIPTION:TEEBALL 6U - 
LOCATION:Dacula Park - Field 4 (T-Ball / Rookie)
CATEGORIES:QuickScores; ELITE GWINNETT BASEBALL LEAGUE Game
TRANSP:0
DALARM:20260425T092000;PT10M;2;Dacula - Smith vs. Lawrenceville - Buggs - Henderson
END:VEVENT
END:VCALENDAR
