BEGIN:VCALENDAR
VERSION:1.0
BEGIN:VEVENT
DTSTART:20260304T192000
DTEND:20260304T203000
SUMMARY:Lawrenceville - Bonner vs. Dacula - Mitchell
DESCRIPTION:TEEBALL 6U - 
LOCATION:Lawrenceville - Field 1
CATEGORIES:QuickScores; ELITE GWINNETT BASEBALL LEAGUE Game
TRANSP:0
DALARM:20260304T172000;PT10M;2;Lawrenceville - Bonner vs. Dacula - Mitchell
END:VEVENT
BEGIN:VEVENT
DTSTART:20260307T152000
DTEND:20260307T163000
SUMMARY:Lawrenceville - Bonner vs. Grayson - Fickle
DESCRIPTION:TEEBALL 6U - 
LOCATION:Shorty Howell -Field 6 (TeeBall)
CATEGORIES:QuickScores; ELITE GWINNETT BASEBALL LEAGUE Game
TRANSP:0
DALARM:20260307T132000;PT10M;2;Lawrenceville - Bonner vs. Grayson - Fickle
END:VEVENT
BEGIN:VEVENT
DTSTART:20260310T180000
DTEND:20260310T191000
SUMMARY:Duluth Wright vs. Lawrenceville - Bonner
DESCRIPTION:TEEBALL 6U - 
LOCATION:Shorty Howell -Field 6 (TeeBall)
CATEGORIES:QuickScores; ELITE GWINNETT BASEBALL LEAGUE Game
TRANSP:0
DALARM:20260310T160000;PT10M;2;Duluth Wright vs. Lawrenceville - Bonner
END:VEVENT
BEGIN:VEVENT
DTSTART:20260314T112000
DTEND:20260314T123000
SUMMARY:Lawrenceville - Bonner vs. Dacula - Parker
DESCRIPTION:TEEBALL 6U - 
LOCATION:Dacula Park - Field 4 (T-Ball / Rookie)
CATEGORIES:QuickScores; ELITE GWINNETT BASEBALL LEAGUE Game
TRANSP:0
DALARM:20260314T092000;PT10M;2;Lawrenceville - Bonner vs. Dacula - Parker
END:VEVENT
BEGIN:VEVENT
DTSTART:20260321T100000
DTEND:20260321T111000
SUMMARY:Lawrenceville - Bonner vs. Lawrenceville - Buggs - Henderson
DESCRIPTION:TEEBALL 6U - 
LOCATION:Lawrenceville - Field 1
CATEGORIES:QuickScores; ELITE GWINNETT BASEBALL LEAGUE Game
TRANSP:0
DALARM:20260321T080000;PT10M;2;Lawrenceville - Bonner vs. Lawrenceville - Buggs - Henderson
END:VEVENT
BEGIN:VEVENT
DTSTART:20260323T192000
DTEND:20260323T203000
SUMMARY:Duluth McLeod vs. Lawrenceville - Bonner
DESCRIPTION:TEEBALL 6U - 
LOCATION:Lawrenceville - Field 1
CATEGORIES:QuickScores; ELITE GWINNETT BASEBALL LEAGUE Game
TRANSP:0
DALARM:20260323T172000;PT10M;2;Duluth McLeod vs. Lawrenceville - Bonner
END:VEVENT
BEGIN:VEVENT
DTSTART:20260324T192000
DTEND:20260324T203000
SUMMARY:Lawrenceville - Bonner vs. Grayson - Hardeman-Stone
DESCRIPTION:TEEBALL 6U - 
LOCATION:Dacula Park - Field 4 (T-Ball / Rookie)
CATEGORIES:QuickScores; ELITE GWINNETT BASEBALL LEAGUE Game
TRANSP:0
DALARM:20260324T172000;PT10M;2;Lawrenceville - Bonner vs. Grayson - Hardeman-Stone
END:VEVENT
BEGIN:VEVENT
DTSTART:20260330T180000
DTEND:20260330T191000
SUMMARY:Lawrenceville - Bonner vs. Lawrenceville - Kronenberg
DESCRIPTION:TEEBALL 6U - 
LOCATION:Lawrenceville - Field 1
CATEGORIES:QuickScores; ELITE GWINNETT BASEBALL LEAGUE Game
TRANSP:0
DALARM:20260330T160000;PT10M;2;Lawrenceville - Bonner vs. Lawrenceville - Kronenberg
END:VEVENT
BEGIN:VEVENT
DTSTART:20260401T180000
DTEND:20260401T191000
SUMMARY:Grayson - Fickle vs. Lawrenceville - Bonner
DESCRIPTION:Weather Delay (Mid-Game) - 3 mins left of game time --- TEEBALL 6U - 
LOCATION:Bay Creek - Field 8 (TeeBall)
CATEGORIES:QuickScores; ELITE GWINNETT BASEBALL LEAGUE Game
TRANSP:0
DALARM:20260401T160000;PT10M;2;Grayson - Fickle vs. Lawrenceville - Bonner
END:VEVENT
BEGIN:VEVENT
DTSTART:20260421T180000
DTEND:20260421T191000
SUMMARY:Dacula - Mitchell vs. Lawrenceville - Bonner
DESCRIPTION:TEEBALL 6U - 
LOCATION:Dacula Park - Field 4 (T-Ball / Rookie)
CATEGORIES:QuickScores; ELITE GWINNETT BASEBALL LEAGUE Game
TRANSP:0
DALARM:20260421T160000;PT10M;2;Dacula - Mitchell vs. Lawrenceville - Bonner
END:VEVENT
BEGIN:VEVENT
DTSTART:20260425T100000
DTEND:20260425T111000
SUMMARY:Dacula - Parker vs. Lawrenceville - Bonner
DESCRIPTION:TEEBALL 6U - 
LOCATION:Dacula Park - Field 4 (T-Ball / Rookie)
CATEGORIES:QuickScores; ELITE GWINNETT BASEBALL LEAGUE Game
TRANSP:0
DALARM:20260425T080000;PT10M;2;Dacula - Parker vs. Lawrenceville - Bonner
END:VEVENT
BEGIN:VEVENT
DTSTART:20260428T180000
DTEND:20260428T203000
SUMMARY:Dacula - Smith vs. Lawrenceville - Bonner
DESCRIPTION:TEEBALL 6U - 
LOCATION:Dacula Park - Field 4 (T-Ball / Rookie)
CATEGORIES:QuickScores; ELITE GWINNETT BASEBALL LEAGUE Game
TRANSP:0
DALARM:20260428T160000;PT10M;2;Dacula - Smith vs. Lawrenceville - Bonner
END:VEVENT
END:VCALENDAR
