BEGIN:VCALENDAR
VERSION:1.0
BEGIN:VEVENT
DTSTART:20260304T180000
DTEND:20260304T191000
SUMMARY:Dacula - Smith vs. Grayson - Fickle
DESCRIPTION:TEEBALL 6U - 
LOCATION:Dacula Park - Field 4 (T-Ball / Rookie)
CATEGORIES:QuickScores; ELITE GWINNETT BASEBALL LEAGUE Game
TRANSP:0
DALARM:20260304T160000;PT10M;2;Dacula - Smith vs. Grayson - Fickle
END:VEVENT
BEGIN:VEVENT
DTSTART:20260307T152000
DTEND:20260307T163000
SUMMARY:Lawrenceville - Bonner vs. Grayson - Fickle
DESCRIPTION:TEEBALL 6U - 
LOCATION:Shorty Howell -Field 6 (TeeBall)
CATEGORIES:QuickScores; ELITE GWINNETT BASEBALL LEAGUE Game
TRANSP:0
DALARM:20260307T132000;PT10M;2;Lawrenceville - Bonner vs. Grayson - Fickle
END:VEVENT
BEGIN:VEVENT
DTSTART:20260310T180000
DTEND:20260310T191000
SUMMARY:Grayson - Hardeman-Stone vs. Grayson - Fickle
DESCRIPTION:TEEBALL 6U - 
LOCATION:Bay Creek - Field 8 (TeeBall)
CATEGORIES:QuickScores; ELITE GWINNETT BASEBALL LEAGUE Game
TRANSP:0
DALARM:20260310T160000;PT10M;2;Grayson - Hardeman-Stone vs. Grayson - Fickle
END:VEVENT
BEGIN:VEVENT
DTSTART:20260314T100000
DTEND:20260314T111000
SUMMARY:Dacula - Mitchell vs. Grayson - Fickle
DESCRIPTION:TEEBALL 6U - 
LOCATION:Dacula Park - Field 4 (T-Ball / Rookie)
CATEGORIES:QuickScores; ELITE GWINNETT BASEBALL LEAGUE Game
TRANSP:0
DALARM:20260314T080000;PT10M;2;Dacula - Mitchell vs. Grayson - Fickle
END:VEVENT
BEGIN:VEVENT
DTSTART:20260319T180000
DTEND:20260319T191000
SUMMARY:Lawrenceville - Kronenberg vs. Grayson - Fickle
DESCRIPTION:TEEBALL 6U - 
LOCATION:Lawrenceville - Field 1
CATEGORIES:QuickScores; ELITE GWINNETT BASEBALL LEAGUE Game
TRANSP:0
DALARM:20260319T160000;PT10M;2;Lawrenceville - Kronenberg vs. Grayson - Fickle
END:VEVENT
BEGIN:VEVENT
DTSTART:20260321T152000
DTEND:20260321T163000
SUMMARY:Grayson - Fickle vs. Duluth Wright
DESCRIPTION:TEEBALL 6U - 
LOCATION:Lawrenceville - Field 1
CATEGORIES:QuickScores; ELITE GWINNETT BASEBALL LEAGUE Game
TRANSP:0
DALARM:20260321T132000;PT10M;2;Grayson - Fickle vs. Duluth Wright
END:VEVENT
BEGIN:VEVENT
DTSTART:20260326T180000
DTEND:20260326T191000
SUMMARY:Duluth McLeod vs. Grayson - Fickle
DESCRIPTION:TEEBALL 6U - 
LOCATION:Shorty Howell -Field 6 (TeeBall)
CATEGORIES:QuickScores; ELITE GWINNETT BASEBALL LEAGUE Game
TRANSP:0
DALARM:20260326T160000;PT10M;2;Duluth McLeod vs. Grayson - Fickle
END:VEVENT
BEGIN:VEVENT
DTSTART:20260328T100000
DTEND:20260328T111000
SUMMARY:Grayson - Fickle vs. Dacula - Parker
DESCRIPTION:TEEBALL 6U - 
LOCATION:Bay Creek - Field 8 (TeeBall)
CATEGORIES:QuickScores; ELITE GWINNETT BASEBALL LEAGUE Game
TRANSP:0
DALARM:20260328T080000;PT10M;2;Grayson - Fickle vs. Dacula - Parker
END:VEVENT
BEGIN:VEVENT
DTSTART:20260330T192000
DTEND:20260330T203000
SUMMARY:Grayson - Fickle vs. Lawrenceville - Buggs - Henderson
DESCRIPTION:TEEBALL 6U - 
LOCATION:Lawrenceville - Field 1
CATEGORIES:QuickScores; ELITE GWINNETT BASEBALL LEAGUE Game
TRANSP:0
DALARM:20260330T172000;PT10M;2;Grayson - Fickle vs. Lawrenceville - Buggs - Henderson
END:VEVENT
BEGIN:VEVENT
DTSTART:20260401T180000
DTEND:20260401T191000
SUMMARY:Grayson - Fickle vs. Lawrenceville - Bonner
DESCRIPTION:Weather Delay (Mid-Game) - 3 mins left of game time --- TEEBALL 6U - 
LOCATION:Bay Creek - Field 8 (TeeBall)
CATEGORIES:QuickScores; ELITE GWINNETT BASEBALL LEAGUE Game
TRANSP:0
DALARM:20260401T160000;PT10M;2;Grayson - Fickle vs. Lawrenceville - Bonner
END:VEVENT
BEGIN:VEVENT
DTSTART:20260415T180000
DTEND:20260415T191000
SUMMARY:Grayson - Fickle vs. Dacula - Smith
DESCRIPTION:TEEBALL 6U - 
LOCATION:Bay Creek - Field 8 (TeeBall)
CATEGORIES:QuickScores; ELITE GWINNETT BASEBALL LEAGUE Game
TRANSP:0
DALARM:20260415T160000;PT10M;2;Grayson - Fickle vs. Dacula - Smith
END:VEVENT
BEGIN:VEVENT
DTSTART:20260417T192000
DTEND:20260417T203000
SUMMARY:Grayson - Fickle vs. Dacula - Mitchell
DESCRIPTION:TEEBALL 6U - 
LOCATION:Lawrenceville - Field 1
CATEGORIES:QuickScores; ELITE GWINNETT BASEBALL LEAGUE Game
TRANSP:0
DALARM:20260417T172000;PT10M;2;Grayson - Fickle vs. Dacula - Mitchell
END:VEVENT
END:VCALENDAR
