BEGIN:VCALENDAR
VERSION:1.0
BEGIN:VEVENT
DTSTART:20260214T153000
DTEND:20260214T161500
SUMMARY:DSC U9/10B Orange vs. Magic U10B Purple
DESCRIPTION:U10 Boys X - Dakota United Soccer Club
LOCATION:SANFORD 2 - Bismarck Mandan CVB
CATEGORIES:QuickScores; Soccer - Youth Game
TRANSP:0
DALARM:20260214T133000;PT10M;2;DSC U9/10B Orange vs. Magic U10B Purple
END:VEVENT
BEGIN:VEVENT
DTSTART:20260214T204500
DTEND:20260214T213000
SUMMARY:CCSC U10B Sky vs. DSC U9/10B Orange
DESCRIPTION:U10 Boys X - Dakota United Soccer Club
LOCATION:SANFORD 3 - Scheels
CATEGORIES:QuickScores; Soccer - Youth Game
TRANSP:0
DALARM:20260214T184500;PT10M;2;CCSC U10B Sky vs. DSC U9/10B Orange
END:VEVENT
BEGIN:VEVENT
DTSTART:20260215T101500
DTEND:20260215T110000
SUMMARY:DSC U9/10B Orange vs. MC Legends U10B Grey
DESCRIPTION:U10 Boys X - Dakota United Soccer Club
LOCATION:SANFORD 3 - Scheels
CATEGORIES:QuickScores; Soccer - Youth Game
TRANSP:0
DALARM:20260215T081500;PT10M;2;DSC U9/10B Orange vs. MC Legends U10B Grey
END:VEVENT
END:VCALENDAR
