BEGIN:VCALENDAR
VERSION:1.0
BEGIN:VEVENT
DTSTART:20260213T183000
DTEND:20260213T191500
SUMMARY:Magic U08/9G Green vs. CCSC U08/9G Sky
DESCRIPTION:U8/9 Girls X - Dakota United Soccer Club
LOCATION:SANFORD 3 - Scheels
CATEGORIES:QuickScores; Soccer - Youth Game
TRANSP:0
DALARM:20260213T163000;PT10M;2;Magic U08/9G Green vs. CCSC U08/9G Sky
END:VEVENT
BEGIN:VEVENT
DTSTART:20260214T170000
DTEND:20260214T174500
SUMMARY:CCSC U08/9G Sky vs. MSC U08/9G
DESCRIPTION:U8/9 Girls X - Dakota United Soccer Club
LOCATION:SANFORD 3 - Scheels
CATEGORIES:QuickScores; Soccer - Youth Game
TRANSP:0
DALARM:20260214T150000;PT10M;2;CCSC U08/9G Sky vs. MSC U08/9G
END:VEVENT
BEGIN:VEVENT
DTSTART:20260215T084500
DTEND:20260215T093000
SUMMARY:DSC U08/9G vs. CCSC U08/9G Sky
DESCRIPTION:U8/9 Girls X - Dakota United Soccer Club
LOCATION:SANFORD 2 - Bismarck Mandan CVB
CATEGORIES:QuickScores; Soccer - Youth Game
TRANSP:0
DALARM:20260215T064500;PT10M;2;DSC U08/9G vs. CCSC U08/9G Sky
END:VEVENT
END:VCALENDAR
