BEGIN:VCALENDAR
VERSION:1.0
BEGIN:VEVENT
DTSTART:20260214T080000
DTEND:20260214T084500
SUMMARY:DSC U13/14B White vs. WUFC U13/14B Orange
DESCRIPTION:U14 Boys Gold - Dakota United Soccer Club
LOCATION:DOME 1 - Fort Abraham Lincoln Foundation
CATEGORIES:QuickScores; Soccer - Youth Game
TRANSP:0
DALARM:20260214T060000;PT10M;2;DSC U13/14B White vs. WUFC U13/14B Orange
END:VEVENT
BEGIN:VEVENT
DTSTART:20260214T170000
DTEND:20260214T174500
SUMMARY:WUFC U13/14B Orange vs. MC Legends U14B Red
DESCRIPTION:U14 Boys Gold - Dakota United Soccer Club
LOCATION:DOME 1 - Fort Abraham Lincoln Foundation
CATEGORIES:QuickScores; Soccer - Youth Game
TRANSP:0
DALARM:20260214T150000;PT10M;2;WUFC U13/14B Orange vs. MC Legends U14B Red
END:VEVENT
BEGIN:VEVENT
DTSTART:20260215T123000
DTEND:20260215T131500
SUMMARY:WUFC U13/14B Orange vs. MC Legends U14B Black
DESCRIPTION:U14 Boys Gold - Dakota United Soccer Club
LOCATION:DOME 1 - Fort Abraham Lincoln Foundation
CATEGORIES:QuickScores; Soccer - Youth Game
TRANSP:0
DALARM:20260215T103000;PT10M;2;WUFC U13/14B Orange vs. MC Legends U14B Black
END:VEVENT
END:VCALENDAR
