BEGIN:VCALENDAR
VERSION:1.0
BEGIN:VEVENT
DTSTART:20260213T191500
DTEND:20260213T200000
SUMMARY:MC Legends U14B Red vs. DSC U13/14B White
DESCRIPTION:U14 Boys Gold - Dakota United Soccer Club
LOCATION:DOME 1 - Fort Abraham Lincoln Foundation
CATEGORIES:QuickScores; Soccer - Youth Game
TRANSP:0
DALARM:20260213T171500;PT10M;2;MC Legends U14B Red vs. DSC U13/14B White
END:VEVENT
BEGIN:VEVENT
DTSTART:20260214T071500
DTEND:20260214T080000
SUMMARY:MC Legends U14B Red vs. MC Legends U14B Black
DESCRIPTION:U14 Boys Gold - Dakota United Soccer Club
LOCATION:DOME 1 - Fort Abraham Lincoln Foundation
CATEGORIES:QuickScores; Soccer - Youth Game
TRANSP:0
DALARM:20260214T051500;PT10M;2;MC Legends U14B Red vs. MC Legends U14B Black
END:VEVENT
BEGIN:VEVENT
DTSTART:20260214T170000
DTEND:20260214T174500
SUMMARY:WUFC U13/14B Orange vs. MC Legends U14B Red
DESCRIPTION:U14 Boys Gold - Dakota United Soccer Club
LOCATION:DOME 1 - Fort Abraham Lincoln Foundation
CATEGORIES:QuickScores; Soccer - Youth Game
TRANSP:0
DALARM:20260214T150000;PT10M;2;WUFC U13/14B Orange vs. MC Legends U14B Red
END:VEVENT
END:VCALENDAR
