BEGIN:VCALENDAR
VERSION:1.0
BEGIN:VEVENT
DTSTART:20260213T174500
DTEND:20260213T183000
SUMMARY:CCSC U12B White vs. Magic U12B Green
DESCRIPTION:U11/12 Boys X - Dakota United Soccer Club
LOCATION:SANFORD 2 - Bismarck Mandan CVB
CATEGORIES:QuickScores; Soccer - Youth Game
TRANSP:0
DALARM:20260213T154500;PT10M;2;CCSC U12B White vs. Magic U12B Green
END:VEVENT
BEGIN:VEVENT
DTSTART:20260214T101500
DTEND:20260214T110000
SUMMARY:WUFC U11/12B White vs. CCSC U12B White
DESCRIPTION:U11/12 Boys X - Dakota United Soccer Club
LOCATION:SANFORD 1 - Fort Abraham Lincoln Foundation
CATEGORIES:QuickScores; Soccer - Youth Game
TRANSP:0
DALARM:20260214T081500;PT10M;2;WUFC U11/12B White vs. CCSC U12B White
END:VEVENT
END:VCALENDAR
