BEGIN:VCALENDAR
VERSION:1.0
BEGIN:VEVENT
DTSTART:20260108T190000
DTEND:20260108T200000
SUMMARY:Dan Herbas vs. Brett Wertz
DESCRIPTION:Jr Jazz Kindergarten - Draper City UT Parks and Recreation
LOCATION:Willow Springs West
CATEGORIES:QuickScores; Basketball - Youth Game
TRANSP:0
DALARM:20260108T170000;PT10M;2;Dan Herbas vs. Brett Wertz
END:VEVENT
BEGIN:VEVENT
DTSTART:20260115T170000
DTEND:20260115T180000
SUMMARY:Brett Wertz vs. Matt Emadi
DESCRIPTION:Jr Jazz Kindergarten - Draper City UT Parks and Recreation
LOCATION:Willow Springs East
CATEGORIES:QuickScores; Basketball - Youth Game
TRANSP:0
DALARM:20260115T150000;PT10M;2;Brett Wertz vs. Matt Emadi
END:VEVENT
BEGIN:VEVENT
DTSTART:20260122T200000
DTEND:20260122T210000
SUMMARY:Brett Wertz vs. Carson Wentlander
DESCRIPTION:Jr Jazz Kindergarten - Draper City UT Parks and Recreation
LOCATION:Willow Springs West
CATEGORIES:QuickScores; Basketball - Youth Game
TRANSP:0
DALARM:20260122T180000;PT10M;2;Brett Wertz vs. Carson Wentlander
END:VEVENT
BEGIN:VEVENT
DTSTART:20260129T190000
DTEND:20260129T200000
SUMMARY:Brett Wertz vs. Dexter Davies
DESCRIPTION:Jr Jazz Kindergarten - Draper City UT Parks and Recreation
LOCATION:Willow Springs East
CATEGORIES:QuickScores; Basketball - Youth Game
TRANSP:0
DALARM:20260129T170000;PT10M;2;Brett Wertz vs. Dexter Davies
END:VEVENT
BEGIN:VEVENT
DTSTART:20260205T170000
DTEND:20260205T180000
SUMMARY:Eric Emery vs. Brett Wertz
DESCRIPTION:Jr Jazz Kindergarten - Draper City UT Parks and Recreation
LOCATION:Willow Springs West
CATEGORIES:QuickScores; Basketball - Youth Game
TRANSP:0
DALARM:20260205T150000;PT10M;2;Eric Emery vs. Brett Wertz
END:VEVENT
BEGIN:VEVENT
DTSTART:20260212T180000
DTEND:20260212T190000
SUMMARY:Lisa Grow vs. Brett Wertz
DESCRIPTION:Jr Jazz Kindergarten - Draper City UT Parks and Recreation
LOCATION:Willow Springs East
CATEGORIES:QuickScores; Basketball - Youth Game
TRANSP:0
DALARM:20260212T160000;PT10M;2;Lisa Grow vs. Brett Wertz
END:VEVENT
BEGIN:VEVENT
DTSTART:20260219T200000
DTEND:20260219T210000
SUMMARY:John Koelliker vs. Brett Wertz
DESCRIPTION:Jr Jazz Kindergarten - Draper City UT Parks and Recreation
LOCATION:Willow Springs East
CATEGORIES:QuickScores; Basketball - Youth Game
TRANSP:0
DALARM:20260219T180000;PT10M;2;John Koelliker vs. Brett Wertz
END:VEVENT
BEGIN:VEVENT
DTSTART:20260305T180000
DTEND:20260305T190000
SUMMARY:Brett Wertz vs. Donald Porter
DESCRIPTION:Jr Jazz Kindergarten - Draper City UT Parks and Recreation
LOCATION:Willow Springs West
CATEGORIES:QuickScores; Basketball - Youth Game
TRANSP:0
DALARM:20260305T160000;PT10M;2;Brett Wertz vs. Donald Porter
END:VEVENT
END:VCALENDAR
