BEGIN:VCALENDAR
VERSION:1.0
BEGIN:VEVENT
DTSTART:20260108T190000
DTEND:20260108T200000
SUMMARY:Dexter Davies vs. Donald Porter
DESCRIPTION:Jr Jazz Kindergarten - Draper City UT Parks and Recreation
LOCATION:Willow Springs East
CATEGORIES:QuickScores; Basketball - Youth Game
TRANSP:0
DALARM:20260108T170000;PT10M;2;Dexter Davies vs. Donald Porter
END:VEVENT
BEGIN:VEVENT
DTSTART:20260115T200000
DTEND:20260115T210000
SUMMARY:Donald Porter vs. Lisa Grow
DESCRIPTION:Jr Jazz Kindergarten - Draper City UT Parks and Recreation
LOCATION:Willow Springs West
CATEGORIES:QuickScores; Basketball - Youth Game
TRANSP:0
DALARM:20260115T180000;PT10M;2;Donald Porter vs. Lisa Grow
END:VEVENT
BEGIN:VEVENT
DTSTART:20260122T200000
DTEND:20260122T210000
SUMMARY:Donald Porter vs. Matt Emadi
DESCRIPTION:Jr Jazz Kindergarten - Draper City UT Parks and Recreation
LOCATION:Willow Springs East
CATEGORIES:QuickScores; Basketball - Youth Game
TRANSP:0
DALARM:20260122T180000;PT10M;2;Donald Porter vs. Matt Emadi
END:VEVENT
BEGIN:VEVENT
DTSTART:20260129T170000
DTEND:20260129T180000
SUMMARY:Donald Porter vs. Nia Farrar
DESCRIPTION:Jr Jazz Kindergarten - Draper City UT Parks and Recreation
LOCATION:Willow Springs East
CATEGORIES:QuickScores; Basketball - Youth Game
TRANSP:0
DALARM:20260129T150000;PT10M;2;Donald Porter vs. Nia Farrar
END:VEVENT
BEGIN:VEVENT
DTSTART:20260205T170000
DTEND:20260205T180000
SUMMARY:Donald Porter vs. Dan Herbas
DESCRIPTION:Jr Jazz Kindergarten - Draper City UT Parks and Recreation
LOCATION:Willow Springs East
CATEGORIES:QuickScores; Basketball - Youth Game
TRANSP:0
DALARM:20260205T150000;PT10M;2;Donald Porter vs. Dan Herbas
END:VEVENT
BEGIN:VEVENT
DTSTART:20260212T170000
DTEND:20260212T180000
SUMMARY:Josh Flade vs. Donald Porter
DESCRIPTION:Jr Jazz Kindergarten - Draper City UT Parks and Recreation
LOCATION:Willow Springs West
CATEGORIES:QuickScores; Basketball - Youth Game
TRANSP:0
DALARM:20260212T150000;PT10M;2;Josh Flade vs. Donald Porter
END:VEVENT
BEGIN:VEVENT
DTSTART:20260219T180000
DTEND:20260219T190000
SUMMARY:Carson Wentlander vs. Donald Porter
DESCRIPTION:Jr Jazz Kindergarten - Draper City UT Parks and Recreation
LOCATION:Willow Springs East
CATEGORIES:QuickScores; Basketball - Youth Game
TRANSP:0
DALARM:20260219T160000;PT10M;2;Carson Wentlander vs. Donald Porter
END:VEVENT
BEGIN:VEVENT
DTSTART:20260305T180000
DTEND:20260305T190000
SUMMARY:Brett Wertz vs. Donald Porter
DESCRIPTION:Jr Jazz Kindergarten - Draper City UT Parks and Recreation
LOCATION:Willow Springs West
CATEGORIES:QuickScores; Basketball - Youth Game
TRANSP:0
DALARM:20260305T160000;PT10M;2;Brett Wertz vs. Donald Porter
END:VEVENT
END:VCALENDAR
