BEGIN:VCALENDAR
VERSION:1.0
BEGIN:VEVENT
DTSTART:20260108T190000
DTEND:20260108T200000
SUMMARY:Dan Herbas vs. Brett Wertz
DESCRIPTION:Jr Jazz Kindergarten - Draper City UT Parks and Recreation
LOCATION:Willow Springs West
CATEGORIES:QuickScores; Basketball - Youth Game
TRANSP:0
DALARM:20260108T170000;PT10M;2;Dan Herbas vs. Brett Wertz
END:VEVENT
BEGIN:VEVENT
DTSTART:20260115T180000
DTEND:20260115T190000
SUMMARY:Wilson Simons vs. Dan Herbas
DESCRIPTION:Jr Jazz Kindergarten - Draper City UT Parks and Recreation
LOCATION:Willow Springs West
CATEGORIES:QuickScores; Basketball - Youth Game
TRANSP:0
DALARM:20260115T160000;PT10M;2;Wilson Simons vs. Dan Herbas
END:VEVENT
BEGIN:VEVENT
DTSTART:20260122T190000
DTEND:20260122T200000
SUMMARY:Dan Herbas vs. Josh Flade
DESCRIPTION:Jr Jazz Kindergarten - Draper City UT Parks and Recreation
LOCATION:Willow Springs East
CATEGORIES:QuickScores; Basketball - Youth Game
TRANSP:0
DALARM:20260122T170000;PT10M;2;Dan Herbas vs. Josh Flade
END:VEVENT
BEGIN:VEVENT
DTSTART:20260129T200000
DTEND:20260129T210000
SUMMARY:Dan Herbas vs. Chris Cassity
DESCRIPTION:Jr Jazz Kindergarten - Draper City UT Parks and Recreation
LOCATION:Willow Springs West
CATEGORIES:QuickScores; Basketball - Youth Game
TRANSP:0
DALARM:20260129T180000;PT10M;2;Dan Herbas vs. Chris Cassity
END:VEVENT
BEGIN:VEVENT
DTSTART:20260205T170000
DTEND:20260205T180000
SUMMARY:Donald Porter vs. Dan Herbas
DESCRIPTION:Jr Jazz Kindergarten - Draper City UT Parks and Recreation
LOCATION:Willow Springs East
CATEGORIES:QuickScores; Basketball - Youth Game
TRANSP:0
DALARM:20260205T150000;PT10M;2;Donald Porter vs. Dan Herbas
END:VEVENT
BEGIN:VEVENT
DTSTART:20260212T200000
DTEND:20260212T210000
SUMMARY:Josh Landry vs. Dan Herbas
DESCRIPTION:Jr Jazz Kindergarten - Draper City UT Parks and Recreation
LOCATION:Willow Springs East
CATEGORIES:QuickScores; Basketball - Youth Game
TRANSP:0
DALARM:20260212T180000;PT10M;2;Josh Landry vs. Dan Herbas
END:VEVENT
BEGIN:VEVENT
DTSTART:20260219T190000
DTEND:20260219T200000
SUMMARY:Lisa Grow vs. Dan Herbas
DESCRIPTION:Jr Jazz Kindergarten - Draper City UT Parks and Recreation
LOCATION:Willow Springs West
CATEGORIES:QuickScores; Basketball - Youth Game
TRANSP:0
DALARM:20260219T170000;PT10M;2;Lisa Grow vs. Dan Herbas
END:VEVENT
BEGIN:VEVENT
DTSTART:20260305T180000
DTEND:20260305T190000
SUMMARY:Dan Herbas vs. Trevor Slater
DESCRIPTION:Jr Jazz Kindergarten - Draper City UT Parks and Recreation
LOCATION:Willow Springs East
CATEGORIES:QuickScores; Basketball - Youth Game
TRANSP:0
DALARM:20260305T160000;PT10M;2;Dan Herbas vs. Trevor Slater
END:VEVENT
END:VCALENDAR
