BEGIN:VCALENDAR
VERSION:1.0
BEGIN:VEVENT
DTSTART:20260108T200000
DTEND:20260108T210000
SUMMARY:Lisa Grow vs. Nia Farrar
DESCRIPTION:Jr Jazz Kindergarten - Draper City UT Parks and Recreation
LOCATION:Willow Springs East
CATEGORIES:QuickScores; Basketball - Youth Game
TRANSP:0
DALARM:20260108T180000;PT10M;2;Lisa Grow vs. Nia Farrar
END:VEVENT
BEGIN:VEVENT
DTSTART:20260115T200000
DTEND:20260115T210000
SUMMARY:Nia Farrar vs. Brady Lindley
DESCRIPTION:Jr Jazz Kindergarten - Draper City UT Parks and Recreation
LOCATION:Willow Springs East
CATEGORIES:QuickScores; Basketball - Youth Game
TRANSP:0
DALARM:20260115T180000;PT10M;2;Nia Farrar vs. Brady Lindley
END:VEVENT
BEGIN:VEVENT
DTSTART:20260122T170000
DTEND:20260122T180000
SUMMARY:Trevor Slater vs. Nia Farrar
DESCRIPTION:Jr Jazz Kindergarten - Draper City UT Parks and Recreation
LOCATION:Willow Springs West
CATEGORIES:QuickScores; Basketball - Youth Game
TRANSP:0
DALARM:20260122T150000;PT10M;2;Trevor Slater vs. Nia Farrar
END:VEVENT
BEGIN:VEVENT
DTSTART:20260129T170000
DTEND:20260129T180000
SUMMARY:Donald Porter vs. Nia Farrar
DESCRIPTION:Jr Jazz Kindergarten - Draper City UT Parks and Recreation
LOCATION:Willow Springs East
CATEGORIES:QuickScores; Basketball - Youth Game
TRANSP:0
DALARM:20260129T150000;PT10M;2;Donald Porter vs. Nia Farrar
END:VEVENT
BEGIN:VEVENT
DTSTART:20260205T180000
DTEND:20260205T190000
SUMMARY:Nia Farrar vs. Dexter Davies
DESCRIPTION:Jr Jazz Kindergarten - Draper City UT Parks and Recreation
LOCATION:Willow Springs East
CATEGORIES:QuickScores; Basketball - Youth Game
TRANSP:0
DALARM:20260205T160000;PT10M;2;Nia Farrar vs. Dexter Davies
END:VEVENT
BEGIN:VEVENT
DTSTART:20260212T190000
DTEND:20260212T200000
SUMMARY:Nia Farrar vs. John Koelliker
DESCRIPTION:Jr Jazz Kindergarten - Draper City UT Parks and Recreation
LOCATION:Willow Springs East
CATEGORIES:QuickScores; Basketball - Youth Game
TRANSP:0
DALARM:20260212T170000;PT10M;2;Nia Farrar vs. John Koelliker
END:VEVENT
BEGIN:VEVENT
DTSTART:20260219T180000
DTEND:20260219T190000
SUMMARY:Nia Farrar vs. Josh Landry
DESCRIPTION:Jr Jazz Kindergarten - Draper City UT Parks and Recreation
LOCATION:Willow Springs West
CATEGORIES:QuickScores; Basketball - Youth Game
TRANSP:0
DALARM:20260219T160000;PT10M;2;Nia Farrar vs. Josh Landry
END:VEVENT
BEGIN:VEVENT
DTSTART:20260305T190000
DTEND:20260305T200000
SUMMARY:Josh Flade vs. Nia Farrar
DESCRIPTION:Jr Jazz Kindergarten - Draper City UT Parks and Recreation
LOCATION:Willow Springs West
CATEGORIES:QuickScores; Basketball - Youth Game
TRANSP:0
DALARM:20260305T170000;PT10M;2;Josh Flade vs. Nia Farrar
END:VEVENT
END:VCALENDAR
