BEGIN:VCALENDAR
VERSION:1.0
BEGIN:VEVENT
DTSTART:20260108T180000
DTEND:20260108T190000
SUMMARY:Chris Cassity vs. Eric Emery
DESCRIPTION:Jr Jazz Kindergarten - Draper City UT Parks and Recreation
LOCATION:Willow Springs East
CATEGORIES:QuickScores; Basketball - Youth Game
TRANSP:0
DALARM:20260108T160000;PT10M;2;Chris Cassity vs. Eric Emery
END:VEVENT
BEGIN:VEVENT
DTSTART:20260115T190000
DTEND:20260115T200000
SUMMARY:Josh Landry vs. Eric Emery
DESCRIPTION:Jr Jazz Kindergarten - Draper City UT Parks and Recreation
LOCATION:Willow Springs East
CATEGORIES:QuickScores; Basketball - Youth Game
TRANSP:0
DALARM:20260115T170000;PT10M;2;Josh Landry vs. Eric Emery
END:VEVENT
BEGIN:VEVENT
DTSTART:20260122T190000
DTEND:20260122T200000
SUMMARY:Eric Emery vs. Wilson Simons
DESCRIPTION:Jr Jazz Kindergarten - Draper City UT Parks and Recreation
LOCATION:Willow Springs West
CATEGORIES:QuickScores; Basketball - Youth Game
TRANSP:0
DALARM:20260122T170000;PT10M;2;Eric Emery vs. Wilson Simons
END:VEVENT
BEGIN:VEVENT
DTSTART:20260129T200000
DTEND:20260129T210000
SUMMARY:Eric Emery vs. Trevor Slater
DESCRIPTION:Jr Jazz Kindergarten - Draper City UT Parks and Recreation
LOCATION:Willow Springs East
CATEGORIES:QuickScores; Basketball - Youth Game
TRANSP:0
DALARM:20260129T180000;PT10M;2;Eric Emery vs. Trevor Slater
END:VEVENT
BEGIN:VEVENT
DTSTART:20260205T170000
DTEND:20260205T180000
SUMMARY:Eric Emery vs. Brett Wertz
DESCRIPTION:Jr Jazz Kindergarten - Draper City UT Parks and Recreation
LOCATION:Willow Springs West
CATEGORIES:QuickScores; Basketball - Youth Game
TRANSP:0
DALARM:20260205T150000;PT10M;2;Eric Emery vs. Brett Wertz
END:VEVENT
BEGIN:VEVENT
DTSTART:20260212T180000
DTEND:20260212T190000
SUMMARY:Brady Lindley vs. Eric Emery
DESCRIPTION:Jr Jazz Kindergarten - Draper City UT Parks and Recreation
LOCATION:Willow Springs West
CATEGORIES:QuickScores; Basketball - Youth Game
TRANSP:0
DALARM:20260212T160000;PT10M;2;Brady Lindley vs. Eric Emery
END:VEVENT
BEGIN:VEVENT
DTSTART:20260219T200000
DTEND:20260219T210000
SUMMARY:Josh Flade vs. Eric Emery
DESCRIPTION:Jr Jazz Kindergarten - Draper City UT Parks and Recreation
LOCATION:Willow Springs West
CATEGORIES:QuickScores; Basketball - Youth Game
TRANSP:0
DALARM:20260219T180000;PT10M;2;Josh Flade vs. Eric Emery
END:VEVENT
BEGIN:VEVENT
DTSTART:20260305T170000
DTEND:20260305T180000
SUMMARY:Eric Emery vs. John Koelliker
DESCRIPTION:Jr Jazz Kindergarten - Draper City UT Parks and Recreation
LOCATION:Willow Springs East
CATEGORIES:QuickScores; Basketball - Youth Game
TRANSP:0
DALARM:20260305T150000;PT10M;2;Eric Emery vs. John Koelliker
END:VEVENT
END:VCALENDAR
