BEGIN:VCALENDAR
VERSION:1.0
BEGIN:VEVENT
DTSTART:20250921T080000
DTEND:20250921T090000
SUMMARY:Bzzzz Lemonade vs. Goon Squad
DESCRIPTION:Flag Football - Dixon Park District
LOCATION:West Field
CATEGORIES:QuickScores; Flag Football - Adult Game
TRANSP:0
DALARM:20250921T060000;PT10M;2;Bzzzz Lemonade vs. Goon Squad
END:VEVENT
BEGIN:VEVENT
DTSTART:20250928T110000
DTEND:20250928T120000
SUMMARY:Bzzzz Lemonade vs. B&B
DESCRIPTION:Flag Football - Dixon Park District
LOCATION:West Field
CATEGORIES:QuickScores; Flag Football - Adult Game
TRANSP:0
DALARM:20250928T090000;PT10M;2;Bzzzz Lemonade vs. B&B
END:VEVENT
BEGIN:VEVENT
DTSTART:20251005T100000
DTEND:20251005T110000
SUMMARY:Bzzzz Lemonade vs. Realize Athletics
DESCRIPTION:Flag Football - Dixon Park District
LOCATION:West Field
CATEGORIES:QuickScores; Flag Football - Adult Game
TRANSP:0
DALARM:20251005T080000;PT10M;2;Bzzzz Lemonade vs. Realize Athletics
END:VEVENT
BEGIN:VEVENT
DTSTART:20251012T110000
DTEND:20251012T120000
SUMMARY:BTA vs. Bzzzz Lemonade
DESCRIPTION:Flag Football - Dixon Park District
LOCATION:West Field
CATEGORIES:QuickScores; Flag Football - Adult Game
TRANSP:0
DALARM:20251012T090000;PT10M;2;BTA vs. Bzzzz Lemonade
END:VEVENT
BEGIN:VEVENT
DTSTART:20251019T080000
DTEND:20251019T090000
SUMMARY:Bzzzz Lemonade vs. Primetime
DESCRIPTION:Flag Football - Dixon Park District
LOCATION:West Field
CATEGORIES:QuickScores; Flag Football - Adult Game
TRANSP:0
DALARM:20251019T060000;PT10M;2;Bzzzz Lemonade vs. Primetime
END:VEVENT
BEGIN:VEVENT
DTSTART:20251026T100000
DTEND:20251026T110000
SUMMARY:Royal Palms vs. Bzzzz Lemonade
DESCRIPTION:Flag Football - Dixon Park District
LOCATION:West Field
CATEGORIES:QuickScores; Flag Football - Adult Game
TRANSP:0
DALARM:20251026T080000;PT10M;2;Royal Palms vs. Bzzzz Lemonade
END:VEVENT
BEGIN:VEVENT
DTSTART:20251102T110000
DTEND:20251102T110000
SUMMARY:Terminators vs. Bzzzz Lemonade
DESCRIPTION:Flag Football - Dixon Park District
LOCATION:West Field
CATEGORIES:QuickScores; Flag Football - Adult Game
TRANSP:0
DALARM:20251102T080000;PT10M;2;Terminators vs. Bzzzz Lemonade
END:VEVENT
BEGIN:VEVENT
DTSTART:20251109T090000
DTEND:20251109T100000
SUMMARY:Goon Squad vs. Bzzzz Lemonade
DESCRIPTION:Flag Football - Dixon Park District
LOCATION:West Field
CATEGORIES:QuickScores; Flag Football - Adult Game
TRANSP:0
DALARM:20251109T070000;PT10M;2;Goon Squad vs. Bzzzz Lemonade
END:VEVENT
BEGIN:VEVENT
DTSTART:20251116T090000
DTEND:20251116T100000
SUMMARY:[4] BTA vs. [5] Bzzzz Lemonade
DESCRIPTION:Flag Football - Dixon Park District
LOCATION:East Field
CATEGORIES:QuickScores; Flag Football - Adult Game
TRANSP:0
DALARM:20251116T070000;PT10M;2;[4] BTA vs. [5] Bzzzz Lemonade
END:VEVENT
END:VCALENDAR
