BEGIN:VCALENDAR
VERSION:1.0
BEGIN:VEVENT
DTSTART:20250921T100000
DTEND:20250921T110000
SUMMARY:B&B vs. Terminators
DESCRIPTION:Flag Football - Dixon Park District
LOCATION:West Field
CATEGORIES:QuickScores; Flag Football - Adult Game
TRANSP:0
DALARM:20250921T080000;PT10M;2;B&B vs. Terminators
END:VEVENT
BEGIN:VEVENT
DTSTART:20250928T110000
DTEND:20250928T120000
SUMMARY:Bzzzz Lemonade vs. B&B
DESCRIPTION:Flag Football - Dixon Park District
LOCATION:West Field
CATEGORIES:QuickScores; Flag Football - Adult Game
TRANSP:0
DALARM:20250928T090000;PT10M;2;Bzzzz Lemonade vs. B&B
END:VEVENT
BEGIN:VEVENT
DTSTART:20251005T090000
DTEND:20251005T100000
SUMMARY:Goon Squad vs. B&B
DESCRIPTION:Flag Football - Dixon Park District
LOCATION:West Field
CATEGORIES:QuickScores; Flag Football - Adult Game
TRANSP:0
DALARM:20251005T070000;PT10M;2;Goon Squad vs. B&B
END:VEVENT
BEGIN:VEVENT
DTSTART:20251012T080000
DTEND:20251012T090000
SUMMARY:Primetime vs. B&B
DESCRIPTION:Flag Football - Dixon Park District
LOCATION:West Field
CATEGORIES:QuickScores; Flag Football - Adult Game
TRANSP:0
DALARM:20251012T060000;PT10M;2;Primetime vs. B&B
END:VEVENT
BEGIN:VEVENT
DTSTART:20251019T090000
DTEND:20251019T100000
SUMMARY:B&B vs. Royal Palms
DESCRIPTION:Flag Football - Dixon Park District
LOCATION:West Field
CATEGORIES:QuickScores; Flag Football - Adult Game
TRANSP:0
DALARM:20251019T070000;PT10M;2;B&B vs. Royal Palms
END:VEVENT
BEGIN:VEVENT
DTSTART:20251026T110000
DTEND:20251026T120000
SUMMARY:B&B vs. BTA
DESCRIPTION:Flag Football - Dixon Park District
LOCATION:West Field
CATEGORIES:QuickScores; Flag Football - Adult Game
TRANSP:0
DALARM:20251026T090000;PT10M;2;B&B vs. BTA
END:VEVENT
BEGIN:VEVENT
DTSTART:20251102T100000
DTEND:20251102T100000
SUMMARY:B&B vs. Realize Athletics
DESCRIPTION:Flag Football - Dixon Park District
LOCATION:West Field
CATEGORIES:QuickScores; Flag Football - Adult Game
TRANSP:0
DALARM:20251102T070000;PT10M;2;B&B vs. Realize Athletics
END:VEVENT
BEGIN:VEVENT
DTSTART:20251109T080000
DTEND:20251109T090000
SUMMARY:Terminators vs. B&B
DESCRIPTION:Flag Football - Dixon Park District
LOCATION:West Field
CATEGORIES:QuickScores; Flag Football - Adult Game
TRANSP:0
DALARM:20251109T060000;PT10M;2;Terminators vs. B&B
END:VEVENT
END:VCALENDAR
