BEGIN:VCALENDAR
VERSION:1.0
BEGIN:VEVENT
DTSTART:20260406T190000
DTEND:20260406T200000
SUMMARY:Practice: (UH) Glynn
DESCRIPTION:(Central Park/ University Hills YMCA) Spring Basketball League - 10-11y Boys - YMCA of Metropolitan Denver - Youth Sports
LOCATION:UH Full Court
CATEGORIES:QuickScores; Basketball League Game
TRANSP:0
DALARM:20260406T170000;PT10M;2;Practice: (UH) Glynn
END:VEVENT
BEGIN:VEVENT
DTSTART:20260411T100000
DTEND:20260411T110000
SUMMARY:(UH) Murphy vs. (UH) Glynn
DESCRIPTION:(Central Park/ University Hills YMCA) Spring Basketball League - 10-11y Boys - YMCA of Metropolitan Denver - Youth Sports
LOCATION:Rocky Mountain Prep - Fletcher
CATEGORIES:QuickScores; Basketball League Game
TRANSP:0
DALARM:20260411T080000;PT10M;2;(UH) Murphy vs. (UH) Glynn
END:VEVENT
BEGIN:VEVENT
DTSTART:20260413T190000
DTEND:20260413T200000
SUMMARY:Practice: (UH) Glynn
DESCRIPTION:(Central Park/ University Hills YMCA) Spring Basketball League - 10-11y Boys - YMCA of Metropolitan Denver - Youth Sports
LOCATION:UH Full Court
CATEGORIES:QuickScores; Basketball League Game
TRANSP:0
DALARM:20260413T170000;PT10M;2;Practice: (UH) Glynn
END:VEVENT
BEGIN:VEVENT
DTSTART:20260418T090000
DTEND:20260418T100000
SUMMARY:(SW) Wallace vs. (UH) Glynn
DESCRIPTION:(Central Park/ University Hills YMCA) Spring Basketball League - 10-11y Boys - YMCA of Metropolitan Denver - Youth Sports
LOCATION:Rocky Mountain Prep - Fletcher
CATEGORIES:QuickScores; Basketball League Game
TRANSP:0
DALARM:20260418T070000;PT10M;2;(SW) Wallace vs. (UH) Glynn
END:VEVENT
BEGIN:VEVENT
DTSTART:20260420T190000
DTEND:20260420T200000
SUMMARY:Practice: (UH) Glynn
DESCRIPTION:(Central Park/ University Hills YMCA) Spring Basketball League - 10-11y Boys - YMCA of Metropolitan Denver - Youth Sports
LOCATION:UH Full Court
CATEGORIES:QuickScores; Basketball League Game
TRANSP:0
DALARM:20260420T170000;PT10M;2;Practice: (UH) Glynn
END:VEVENT
BEGIN:VEVENT
DTSTART:20260425T123000
DTEND:20260425T133000
SUMMARY:(UH) Sawyer vs. (UH) Glynn
DESCRIPTION:(Central Park/ University Hills YMCA) Spring Basketball League - 10-11y Boys - YMCA of Metropolitan Denver - Youth Sports
LOCATION:Southwest YMCA Full Court
CATEGORIES:QuickScores; Basketball League Game
TRANSP:0
DALARM:20260425T103000;PT10M;2;(UH) Sawyer vs. (UH) Glynn
END:VEVENT
BEGIN:VEVENT
DTSTART:20260427T190000
DTEND:20260427T200000
SUMMARY:Practice: (UH) Glynn
DESCRIPTION:(Central Park/ University Hills YMCA) Spring Basketball League - 10-11y Boys - YMCA of Metropolitan Denver - Youth Sports
LOCATION:UH Full Court
CATEGORIES:QuickScores; Basketball League Game
TRANSP:0
DALARM:20260427T170000;PT10M;2;Practice: (UH) Glynn
END:VEVENT
BEGIN:VEVENT
DTSTART:20260502T233000
DTEND:20260503T003000
SUMMARY:(UH) Klein vs. (UH) Glynn
DESCRIPTION:Game Location Change --- (Central Park/ University Hills YMCA) Spring Basketball League - 10-11y Boys - YMCA of Metropolitan Denver - Youth Sports
LOCATION:Glendale
CATEGORIES:QuickScores; Basketball League Game
TRANSP:0
DALARM:20260502T213000;PT10M;2;(UH) Klein vs. (UH) Glynn
END:VEVENT
BEGIN:VEVENT
DTSTART:20260504T190000
DTEND:20260504T200000
SUMMARY:Practice: (UH) Glynn
DESCRIPTION:(Central Park/ University Hills YMCA) Spring Basketball League - 10-11y Boys - YMCA of Metropolitan Denver - Youth Sports
LOCATION:UH Full Court
CATEGORIES:QuickScores; Basketball League Game
TRANSP:0
DALARM:20260504T170000;PT10M;2;Practice: (UH) Glynn
END:VEVENT
BEGIN:VEVENT
DTSTART:20260509T100000
DTEND:20260509T110000
SUMMARY:(UH) Glynn vs. (CP) Freeman
DESCRIPTION:(Central Park/ University Hills YMCA) Spring Basketball League - 10-11y Boys - YMCA of Metropolitan Denver - Youth Sports
LOCATION:Rocky Mountain Prep - Fletcher
CATEGORIES:QuickScores; Basketball League Game
TRANSP:0
DALARM:20260509T080000;PT10M;2;(UH) Glynn vs. (CP) Freeman
END:VEVENT
BEGIN:VEVENT
DTSTART:20260511T190000
DTEND:20260511T200000
SUMMARY:Practice: (UH) Glynn
DESCRIPTION:(Central Park/ University Hills YMCA) Spring Basketball League - 10-11y Boys - YMCA of Metropolitan Denver - Youth Sports
LOCATION:UH Full Court
CATEGORIES:QuickScores; Basketball League Game
TRANSP:0
DALARM:20260511T170000;PT10M;2;Practice: (UH) Glynn
END:VEVENT
BEGIN:VEVENT
DTSTART:20260516T233000
DTEND:20260517T003000
SUMMARY:(UH) Glynn vs. (UH) Murphy
DESCRIPTION:Game Location Change --- (Central Park/ University Hills YMCA) Spring Basketball League - 10-11y Boys - YMCA of Metropolitan Denver - Youth Sports
LOCATION:Glendale
CATEGORIES:QuickScores; Basketball League Game
TRANSP:0
DALARM:20260516T213000;PT10M;2;(UH) Glynn vs. (UH) Murphy
END:VEVENT
BEGIN:VEVENT
DTSTART:20260518T190000
DTEND:20260518T200000
SUMMARY:Practice: (UH) Glynn
DESCRIPTION:(Central Park/ University Hills YMCA) Spring Basketball League - 10-11y Boys - YMCA of Metropolitan Denver - Youth Sports
LOCATION:UH Full Court
CATEGORIES:QuickScores; Basketball League Game
TRANSP:0
DALARM:20260518T170000;PT10M;2;Practice: (UH) Glynn
END:VEVENT
BEGIN:VEVENT
DTSTART:20260525T190000
DTEND:20260525T200000
SUMMARY:Practice: (UH) Glynn
DESCRIPTION:(Central Park/ University Hills YMCA) Spring Basketball League - 10-11y Boys - YMCA of Metropolitan Denver - Youth Sports
LOCATION:UH Full Court
CATEGORIES:QuickScores; Basketball League Game
TRANSP:0
DALARM:20260525T170000;PT10M;2;Practice: (UH) Glynn
END:VEVENT
BEGIN:VEVENT
DTSTART:20260530T100000
DTEND:20260530T110000
SUMMARY:(UH) Murphy vs. (UH) Glynn
DESCRIPTION:(Central Park/ University Hills YMCA) Spring Basketball League - 10-11y Boys - YMCA of Metropolitan Denver - Youth Sports
LOCATION:Rocky Mountain Prep - Fletcher
CATEGORIES:QuickScores; Basketball League Game
TRANSP:0
DALARM:20260530T080000;PT10M;2;(UH) Murphy vs. (UH) Glynn
END:VEVENT
BEGIN:VEVENT
DTSTART:20260601T190000
DTEND:20260601T200000
SUMMARY:Practice: (UH) Glynn
DESCRIPTION:(Central Park/ University Hills YMCA) Spring Basketball League - 10-11y Boys - YMCA of Metropolitan Denver - Youth Sports
LOCATION:UH Full Court
CATEGORIES:QuickScores; Basketball League Game
TRANSP:0
DALARM:20260601T170000;PT10M;2;Practice: (UH) Glynn
END:VEVENT
BEGIN:VEVENT
DTSTART:20260606T100000
DTEND:20260606T110000
SUMMARY:(UH) Glynn vs. (UH) Sawyer
DESCRIPTION:(Central Park/ University Hills YMCA) Spring Basketball League - 10-11y Boys - YMCA of Metropolitan Denver - Youth Sports
LOCATION:Rocky Mountain Prep - Fletcher
CATEGORIES:QuickScores; Basketball League Game
TRANSP:0
DALARM:20260606T080000;PT10M;2;(UH) Glynn vs. (UH) Sawyer
END:VEVENT
END:VCALENDAR
