BEGIN:VCALENDAR
VERSION:1.0
BEGIN:VEVENT
DTSTART:20260323T180000
DTEND:20260323T190000
SUMMARY:Legacy vs. Wylie Purple
DESCRIPTION:Wylie PurpleAllen, A - 73Tellgren, C - 39Legacy Blue intermediate Bryer 66Davi  49Doak  8 --- Intermediate B - District 5 Little League
LOCATION:Wylie LL Intermediate
CATEGORIES:QuickScores; Baseball Game
TRANSP:0
DALARM:20260323T160000;PT10M;2;Legacy vs. Wylie Purple
END:VEVENT
BEGIN:VEVENT
DTSTART:20260326T180000
DTEND:20260326T190000
SUMMARY:Legacy vs. Northern Elite
DESCRIPTION:LegacyV. Gonzales - 54D. Ratcliff -45NorthernDillon - 64Kayden -15 --- Intermediate B - District 5 Little League
LOCATION:Northern
CATEGORIES:QuickScores; Baseball Game
TRANSP:0
DALARM:20260326T160000;PT10M;2;Legacy vs. Northern Elite
END:VEVENT
BEGIN:VEVENT
DTSTART:20260330T180000
DTEND:20260330T190000
SUMMARY:Wylie Purple vs. Legacy
DESCRIPTION:Legacy blue  Legacy blueBryer  47Mello 44Hayes  28Raylan 25Wylie PurpleAndrew Gray 56Cannon Rhea 25 --- Intermediate B - District 5 Little League
LOCATION:Wylie LL Intermediate
CATEGORIES:QuickScores; Baseball Game
TRANSP:0
DALARM:20260330T160000;PT10M;2;Wylie Purple vs. Legacy
END:VEVENT
BEGIN:VEVENT
DTSTART:20260402T180000
DTEND:20260402T190000
SUMMARY:Northern Cubs vs. Legacy
DESCRIPTION:LegacyDavi 73Raylan 66Cubs pitchingDenman 53McFarlen 34Garza 37 --- Intermediate B - District 5 Little League
LOCATION:Wylie LL Intermediate
CATEGORIES:QuickScores; Baseball Game
TRANSP:0
DALARM:20260402T160000;PT10M;2;Northern Cubs vs. Legacy
END:VEVENT
BEGIN:VEVENT
DTSTART:20260406T200000
DTEND:20260406T210000
SUMMARY:Wylie Black vs. Legacy
DESCRIPTION:Wylie BlackW. Berry 39Legacy Lattimore - 23Mankin - 75Ratcliff - 7Halloway - 47 --- Intermediate B - District 5 Little League
LOCATION:Wylie LL Intermediate
CATEGORIES:QuickScores; Baseball Game
TRANSP:0
DALARM:20260406T180000;PT10M;2;Wylie Black vs. Legacy
END:VEVENT
BEGIN:VEVENT
DTSTART:20260409T180000
DTEND:20260409T190000
SUMMARY:Legacy vs. Northern Cubs
DESCRIPTION:LegacyGonzales - 75Cubs pitching:Garza -73Denman - 41 --- Intermediate B - District 5 Little League
LOCATION:Northern
CATEGORIES:QuickScores; Baseball Game
TRANSP:0
DALARM:20260409T160000;PT10M;2;Legacy vs. Northern Cubs
END:VEVENT
BEGIN:VEVENT
DTSTART:20260416T180000
DTEND:20260416T190000
SUMMARY:Jim Ned vs. Legacy
DESCRIPTION:JN
Gonzales- 74
Halloway - 19
Mankin - 6

JN
Rigged Grun: 50
Jaxson Foster: 49 --- Intermediate B - District 5 Little League
LOCATION:Wylie LL Intermediate
CATEGORIES:QuickScores; Baseball Game
TRANSP:0
DALARM:20260416T160000;PT10M;2;Jim Ned vs. Legacy
END:VEVENT
BEGIN:VEVENT
DTSTART:20260423T180000
DTEND:20260423T190000
SUMMARY:Legacy vs. Jim Ned
DESCRIPTION:Intermediate B - District 5 Little League
LOCATION:Jim Ned Aaron Watson
CATEGORIES:QuickScores; Baseball Game
TRANSP:0
DALARM:20260423T160000;PT10M;2;Legacy vs. Jim Ned
END:VEVENT
BEGIN:VEVENT
DTSTART:20260428T200000
DTEND:20260428T210000
SUMMARY:Northern Elite vs. Legacy
DESCRIPTION:Intermediate B - District 5 Little League
LOCATION:Legacy JR
CATEGORIES:QuickScores; Baseball Game
TRANSP:0
DALARM:20260428T180000;PT10M;2;Northern Elite vs. Legacy
END:VEVENT
BEGIN:VEVENT
DTSTART:20260430T200000
DTEND:20260430T210000
SUMMARY:Wylie Black vs. Legacy
DESCRIPTION:Intermediate B - District 5 Little League
LOCATION:Wylie LL Intermediate
CATEGORIES:QuickScores; Baseball Game
TRANSP:0
DALARM:20260430T180000;PT10M;2;Wylie Black vs. Legacy
END:VEVENT
BEGIN:VEVENT
DTSTART:20260504T180000
DTEND:20260504T190000
SUMMARY:Legacy vs. Wylie Purple
DESCRIPTION:Intermediate B - District 5 Little League
LOCATION:Wylie LL Intermediate
CATEGORIES:QuickScores; Baseball Game
TRANSP:0
DALARM:20260504T160000;PT10M;2;Legacy vs. Wylie Purple
END:VEVENT
BEGIN:VEVENT
DTSTART:20260507T200000
DTEND:20260507T210000
SUMMARY:Legacy vs. Wylie Black
DESCRIPTION:Intermediate B - District 5 Little League
LOCATION:Wylie LL Intermediate
CATEGORIES:QuickScores; Baseball Game
TRANSP:0
DALARM:20260507T180000;PT10M;2;Legacy vs. Wylie Black
END:VEVENT
END:VCALENDAR
