BEGIN:VCALENDAR
VERSION:1.0
BEGIN:VEVENT
DTSTART:20260323T200000
DTEND:20260323T210000
SUMMARY:Northern Elite vs. Wylie Black
DESCRIPTION:Wylie Black Berry - 47Wilson - 36Green - 14Elite Juan Talavera - 46Sergio renteria - 46 --- Intermediate B - District 5 Little League
LOCATION:Wylie LL Intermediate
CATEGORIES:QuickScores; Baseball Game
TRANSP:0
DALARM:20260323T180000;PT10M;2;Northern Elite vs. Wylie Black
END:VEVENT
BEGIN:VEVENT
DTSTART:20260326T180000
DTEND:20260326T190000
SUMMARY:Northern Cubs vs. Wylie Black
DESCRIPTION:Northern Cubs pitch count:McFarlen - 79Wylie blackJ. Vent- 48K. Wilson- 28C. Green- 16 --- Intermediate B - District 5 Little League
LOCATION:Wylie LL Intermediate
CATEGORIES:QuickScores; Baseball Game
TRANSP:0
DALARM:20260326T160000;PT10M;2;Northern Cubs vs. Wylie Black
END:VEVENT
BEGIN:VEVENT
DTSTART:20260330T200000
DTEND:20260330T210000
SUMMARY:Wylie Black vs. Jim Ned
DESCRIPTION:WylieK Wilson-58J eaves- 14C green- 16L Beasley- 22Jim Ned Pitching Case Brendle’s: 74Jackson Foster: 4 --- Intermediate B - District 5 Little League
LOCATION:Wylie LL Intermediate
CATEGORIES:QuickScores; Baseball Game
TRANSP:0
DALARM:20260330T180000;PT10M;2;Wylie Black vs. Jim Ned
END:VEVENT
BEGIN:VEVENT
DTSTART:20260402T200000
DTEND:20260402T210000
SUMMARY:Wylie Black vs. Wylie Purple
DESCRIPTION:Wylie BlackJ. Vent- 74Wylie PurpleCarson Tellgren - 69Austin Allen - 44 --- Intermediate B - District 5 Little League
LOCATION:Wylie LL Intermediate
CATEGORIES:QuickScores; Baseball Game
TRANSP:0
DALARM:20260402T180000;PT10M;2;Wylie Black vs. Wylie Purple
END:VEVENT
BEGIN:VEVENT
DTSTART:20260406T200000
DTEND:20260406T210000
SUMMARY:Wylie Black vs. Legacy
DESCRIPTION:Wylie BlackW. Berry 39Legacy Lattimore - 23Mankin - 75Ratcliff - 7Halloway - 47 --- Intermediate B - District 5 Little League
LOCATION:Wylie LL Intermediate
CATEGORIES:QuickScores; Baseball Game
TRANSP:0
DALARM:20260406T180000;PT10M;2;Wylie Black vs. Legacy
END:VEVENT
BEGIN:VEVENT
DTSTART:20260409T180000
DTEND:20260409T190000
SUMMARY:Northern Elite vs. Wylie Black
DESCRIPTION:Wylie BlackJ. Vent- 29W. Berry- 66EliteSergio - 9Heath - 76 --- Intermediate B - District 5 Little League
LOCATION:Wylie LL Intermediate
CATEGORIES:QuickScores; Baseball Game
TRANSP:0
DALARM:20260409T160000;PT10M;2;Northern Elite vs. Wylie Black
END:VEVENT
BEGIN:VEVENT
DTSTART:20260416T200000
DTEND:20260416T210000
SUMMARY:Wylie Black vs. Wylie Purple
DESCRIPTION:Wylie Black

W. Berry-35
J. Hall- 19
K. Wilson- 11

Purple
Cannon Rhea- 84
Andrew Gray - 23 --- Intermediate B - District 5 Little League
LOCATION:Wylie LL Intermediate
CATEGORIES:QuickScores; Baseball Game
TRANSP:0
DALARM:20260416T180000;PT10M;2;Wylie Black vs. Wylie Purple
END:VEVENT
BEGIN:VEVENT
DTSTART:20260423T200000
DTEND:20260423T210000
SUMMARY:Northern Elite vs. Wylie Black
DESCRIPTION:Intermediate B - District 5 Little League
LOCATION:Wylie LL Intermediate
CATEGORIES:QuickScores; Baseball Game
TRANSP:0
DALARM:20260423T180000;PT10M;2;Northern Elite vs. Wylie Black
END:VEVENT
BEGIN:VEVENT
DTSTART:20260427T180000
DTEND:20260427T190000
SUMMARY:Wylie Black vs. Northern Cubs
DESCRIPTION:Intermediate B - District 5 Little League
LOCATION:Wylie LL Intermediate
CATEGORIES:QuickScores; Baseball Game
TRANSP:0
DALARM:20260427T160000;PT10M;2;Wylie Black vs. Northern Cubs
END:VEVENT
BEGIN:VEVENT
DTSTART:20260430T200000
DTEND:20260430T210000
SUMMARY:Wylie Black vs. Legacy
DESCRIPTION:Intermediate B - District 5 Little League
LOCATION:Wylie LL Intermediate
CATEGORIES:QuickScores; Baseball Game
TRANSP:0
DALARM:20260430T180000;PT10M;2;Wylie Black vs. Legacy
END:VEVENT
BEGIN:VEVENT
DTSTART:20260504T200000
DTEND:20260504T210000
SUMMARY:Jim Ned vs. Wylie Black
DESCRIPTION:Intermediate B - District 5 Little League
LOCATION:Wylie LL Intermediate
CATEGORIES:QuickScores; Baseball Game
TRANSP:0
DALARM:20260504T180000;PT10M;2;Jim Ned vs. Wylie Black
END:VEVENT
BEGIN:VEVENT
DTSTART:20260507T200000
DTEND:20260507T210000
SUMMARY:Legacy vs. Wylie Black
DESCRIPTION:Intermediate B - District 5 Little League
LOCATION:Wylie LL Intermediate
CATEGORIES:QuickScores; Baseball Game
TRANSP:0
DALARM:20260507T180000;PT10M;2;Legacy vs. Wylie Black
END:VEVENT
END:VCALENDAR
