BEGIN:VCALENDAR
VERSION:1.0
BEGIN:VEVENT
DTSTART:20260323T180000
DTEND:20260323T190000
SUMMARY:Legacy vs. Wylie Purple
DESCRIPTION:Wylie PurpleAllen, A - 73Tellgren, C - 39Legacy Blue intermediate Bryer 66Davi  49Doak  8 --- Intermediate B - District 5 Little League
LOCATION:Wylie LL Intermediate
CATEGORIES:QuickScores; Baseball Game
TRANSP:0
DALARM:20260323T160000;PT10M;2;Legacy vs. Wylie Purple
END:VEVENT
BEGIN:VEVENT
DTSTART:20260326T200000
DTEND:20260326T210000
SUMMARY:Jim Ned vs. Wylie Purple
DESCRIPTION:Wylie Purple 10Andrew Gray: 47Cannon Rhea: 29Jim NedBaylor Mueller: 97 finished batter Carson Jennings: 20 --- Intermediate B - District 5 Little League
LOCATION:Wylie LL Intermediate
CATEGORIES:QuickScores; Baseball Game
TRANSP:0
DALARM:20260326T180000;PT10M;2;Jim Ned vs. Wylie Purple
END:VEVENT
BEGIN:VEVENT
DTSTART:20260330T180000
DTEND:20260330T190000
SUMMARY:Wylie Purple vs. Legacy
DESCRIPTION:Legacy blue  Legacy blueBryer  47Mello 44Hayes  28Raylan 25Wylie PurpleAndrew Gray 56Cannon Rhea 25 --- Intermediate B - District 5 Little League
LOCATION:Wylie LL Intermediate
CATEGORIES:QuickScores; Baseball Game
TRANSP:0
DALARM:20260330T160000;PT10M;2;Wylie Purple vs. Legacy
END:VEVENT
BEGIN:VEVENT
DTSTART:20260402T200000
DTEND:20260402T210000
SUMMARY:Wylie Black vs. Wylie Purple
DESCRIPTION:Wylie BlackJ. Vent- 74Wylie PurpleCarson Tellgren - 69Austin Allen - 44 --- Intermediate B - District 5 Little League
LOCATION:Wylie LL Intermediate
CATEGORIES:QuickScores; Baseball Game
TRANSP:0
DALARM:20260402T180000;PT10M;2;Wylie Black vs. Wylie Purple
END:VEVENT
BEGIN:VEVENT
DTSTART:20260406T180000
DTEND:20260406T190000
SUMMARY:Wylie Purple vs. Northern Elite
DESCRIPTION:Wylie Purple Purple:Brady Mock: 44Austin Allen: 24Cannon Rhea: 23EliteKayden - 61Juan - 57Dillon - 58 --- Intermediate B - District 5 Little League
LOCATION:Wylie LL Intermediate
CATEGORIES:QuickScores; Baseball Game
TRANSP:0
DALARM:20260406T160000;PT10M;2;Wylie Purple vs. Northern Elite
END:VEVENT
BEGIN:VEVENT
DTSTART:20260409T200000
DTEND:20260409T210000
SUMMARY:Wylie Purple vs. Jim Ned
DESCRIPTION:Wylie Purple:Barrett Hyde - 34Andrew Gray - 39Cannon Rhea - 12JNBaylor Mueller: 83Jaxon Foster: 34Case Brendle: 10Rigged Grun: 7 --- Intermediate B - District 5 Little League
LOCATION:Wylie LL Intermediate
CATEGORIES:QuickScores; Baseball Game
TRANSP:0
DALARM:20260409T180000;PT10M;2;Wylie Purple vs. Jim Ned
END:VEVENT
BEGIN:VEVENT
DTSTART:20260416T200000
DTEND:20260416T210000
SUMMARY:Wylie Black vs. Wylie Purple
DESCRIPTION:Wylie Black

W. Berry-35
J. Hall- 19
K. Wilson- 11

Purple
Cannon Rhea- 84
Andrew Gray - 23 --- Intermediate B - District 5 Little League
LOCATION:Wylie LL Intermediate
CATEGORIES:QuickScores; Baseball Game
TRANSP:0
DALARM:20260416T180000;PT10M;2;Wylie Black vs. Wylie Purple
END:VEVENT
BEGIN:VEVENT
DTSTART:20260423T180000
DTEND:20260423T190000
SUMMARY:Wylie Purple vs. Northern Cubs
DESCRIPTION:Intermediate B - District 5 Little League
LOCATION:Wylie LL Intermediate
CATEGORIES:QuickScores; Baseball Game
TRANSP:0
DALARM:20260423T160000;PT10M;2;Wylie Purple vs. Northern Cubs
END:VEVENT
BEGIN:VEVENT
DTSTART:20260427T200000
DTEND:20260427T210000
SUMMARY:Wylie Purple vs. Jim Ned
DESCRIPTION:Intermediate B - District 5 Little League
LOCATION:Wylie LL Intermediate
CATEGORIES:QuickScores; Baseball Game
TRANSP:0
DALARM:20260427T180000;PT10M;2;Wylie Purple vs. Jim Ned
END:VEVENT
BEGIN:VEVENT
DTSTART:20260430T180000
DTEND:20260430T190000
SUMMARY:Northern Cubs vs. Wylie Purple
DESCRIPTION:Intermediate B - District 5 Little League
LOCATION:Wylie LL Intermediate
CATEGORIES:QuickScores; Baseball Game
TRANSP:0
DALARM:20260430T160000;PT10M;2;Northern Cubs vs. Wylie Purple
END:VEVENT
BEGIN:VEVENT
DTSTART:20260504T180000
DTEND:20260504T190000
SUMMARY:Legacy vs. Wylie Purple
DESCRIPTION:Intermediate B - District 5 Little League
LOCATION:Wylie LL Intermediate
CATEGORIES:QuickScores; Baseball Game
TRANSP:0
DALARM:20260504T160000;PT10M;2;Legacy vs. Wylie Purple
END:VEVENT
BEGIN:VEVENT
DTSTART:20260507T180000
DTEND:20260507T190000
SUMMARY:Northern Elite vs. Wylie Purple
DESCRIPTION:Intermediate B - District 5 Little League
LOCATION:Wylie LL Intermediate
CATEGORIES:QuickScores; Baseball Game
TRANSP:0
DALARM:20260507T160000;PT10M;2;Northern Elite vs. Wylie Purple
END:VEVENT
END:VCALENDAR
