BEGIN:VCALENDAR
VERSION:1.0
BEGIN:VEVENT
DTSTART:20260323T180000
DTEND:20260323T190000
SUMMARY:Clyde vs. Breckenridge Green
DESCRIPTION:Breckenridge Green Gage - 48Wyatt- 20Clyde•Fenwick 48•Mackey 17•Farmer 35 --- Intermediate A - District 5 Little League
LOCATION:Breckenridge Little League
CATEGORIES:QuickScores; Baseball Game
TRANSP:0
DALARM:20260323T160000;PT10M;2;Clyde vs. Breckenridge Green
END:VEVENT
BEGIN:VEVENT
DTSTART:20260330T180000
DTEND:20260330T190000
SUMMARY:Breckenridge Green vs. Eastland
DESCRIPTION:Breckenridge GreenWyatt Burns- 62Nate Reyes - 41Eastland Aguilar, G : 68Landers, H : 45Hatton, P : 21 --- Intermediate A - District 5 Little League
LOCATION:Breckenridge Little League
CATEGORIES:QuickScores; Baseball Game
TRANSP:0
DALARM:20260330T160000;PT10M;2;Breckenridge Green vs. Eastland
END:VEVENT
BEGIN:VEVENT
DTSTART:20260402T180000
DTEND:20260402T190000
SUMMARY:Breckenridge Green vs. Albany
DESCRIPTION:Game needs to be rescheduled --- Intermediate A - District 5 Little League
LOCATION:Albany LL
CATEGORIES:QuickScores; Baseball Game
TRANSP:0
DALARM:20260402T160000;PT10M;2;Breckenridge Green vs. Albany
END:VEVENT
BEGIN:VEVENT
DTSTART:20260406T180000
DTEND:20260406T190000
SUMMARY:Breckenridge White vs. Breckenridge Green
DESCRIPTION:Breckenridge Green Tyson H - 41Colt N - 45Nando G - 17WhitePorter Easter 86Gage Ethridge 14 --- Intermediate A - District 5 Little League
LOCATION:Breckenridge Little League
CATEGORIES:QuickScores; Baseball Game
TRANSP:0
DALARM:20260406T160000;PT10M;2;Breckenridge White vs. Breckenridge Green
END:VEVENT
BEGIN:VEVENT
DTSTART:20260409T200000
DTEND:20260409T210000
SUMMARY:Breckenridge Green vs. Hawley
DESCRIPTION:Hawley pitchersKarson Hooper 85Benaiah Norman 8BreckKrawford Kennedy 79Gage Ethridge 15 --- Intermediate A - District 5 Little League
LOCATION:Northern
CATEGORIES:QuickScores; Baseball Game
TRANSP:0
DALARM:20260409T180000;PT10M;2;Breckenridge Green vs. Hawley
END:VEVENT
BEGIN:VEVENT
DTSTART:20260414T200000
DTEND:20260414T210000
SUMMARY:Hawley vs. Breckenridge Green
DESCRIPTION:Game rescheduled from 26 March

Breckenridge Green 

Porter Easter- 39 (started last batter at 33)
Wyatt Burns 31

Hawley
Burleson 46
C Hooper 29
Norman 22 --- Intermediate A - District 5 Little League
LOCATION:Albany LL
CATEGORIES:QuickScores; Baseball Game
TRANSP:0
DALARM:20260414T180000;PT10M;2;Hawley vs. Breckenridge Green
END:VEVENT
BEGIN:VEVENT
DTSTART:20260416T180000
DTEND:20260416T190000
SUMMARY:Breckenridge Green vs. Clyde
DESCRIPTION:Breckenridge Green 

Gage Ethridge 67 
(Started last batter 62) --- Intermediate A - District 5 Little League
LOCATION:Hanner Aux 1 Intermediate
CATEGORIES:QuickScores; Baseball Game
TRANSP:0
DALARM:20260416T160000;PT10M;2;Breckenridge Green vs. Clyde
END:VEVENT
BEGIN:VEVENT
DTSTART:20260423T180000
DTEND:20260423T190000
SUMMARY:Eastland vs. Breckenridge Green
DESCRIPTION:Intermediate A - District 5 Little League
LOCATION:Breckenridge Little League
CATEGORIES:QuickScores; Baseball Game
TRANSP:0
DALARM:20260423T160000;PT10M;2;Eastland vs. Breckenridge Green
END:VEVENT
BEGIN:VEVENT
DTSTART:20260427T190000
DTEND:20260427T200000
SUMMARY:Breckenridge Green vs. Breckenridge White
DESCRIPTION:Intermediate A - District 5 Little League
LOCATION:Breckenridge Little League
CATEGORIES:QuickScores; Baseball Game
TRANSP:0
DALARM:20260427T170000;PT10M;2;Breckenridge Green vs. Breckenridge White
END:VEVENT
BEGIN:VEVENT
DTSTART:20260430T200000
DTEND:20260430T210000
SUMMARY:Hawley vs. Breckenridge Green
DESCRIPTION:Intermediate A - District 5 Little League
LOCATION:Breckenridge Little League
CATEGORIES:QuickScores; Baseball Game
TRANSP:0
DALARM:20260430T180000;PT10M;2;Hawley vs. Breckenridge Green
END:VEVENT
BEGIN:VEVENT
DTSTART:20260504T190000
DTEND:20260504T200000
SUMMARY:Breckenridge White vs. Breckenridge Green
DESCRIPTION:Intermediate A - District 5 Little League
LOCATION:Breckenridge Little League
CATEGORIES:QuickScores; Baseball Game
TRANSP:0
DALARM:20260504T170000;PT10M;2;Breckenridge White vs. Breckenridge Green
END:VEVENT
BEGIN:VEVENT
DTSTART:20260507T180000
DTEND:20260507T190000
SUMMARY:Breckenridge Green vs. Albany
DESCRIPTION:Intermediate A - District 5 Little League
LOCATION:Breckenridge Little League
CATEGORIES:QuickScores; Baseball Game
TRANSP:0
DALARM:20260507T160000;PT10M;2;Breckenridge Green vs. Albany
END:VEVENT
END:VCALENDAR
