BEGIN:VCALENDAR
VERSION:1.0
BEGIN:VEVENT
DTSTART:20260323T200000
DTEND:20260323T210000
SUMMARY:Wylie White vs. Wylie Purple
DESCRIPTION:Wylie white Hart 52 FBLunsford 44Wylie PurpleAmonett- 44Hughes- 52 FBRuff- 15 --- Juniors A - District 5 Little League
LOCATION:Wylie LL JR
CATEGORIES:QuickScores; Baseball Game
TRANSP:0
DALARM:20260323T180000;PT10M;2;Wylie White vs. Wylie Purple
END:VEVENT
BEGIN:VEVENT
DTSTART:20260326T180000
DTEND:20260326T190000
SUMMARY:Wylie Purple vs. Legacy White
DESCRIPTION:Wylie PurpleAmonett- 43Hughes- 64Thursday 3/26Legacy whiteG Johnson - 88M Crites - 29 --- Juniors A - District 5 Little League
LOCATION:Legacy JR
CATEGORIES:QuickScores; Baseball Game
TRANSP:0
DALARM:20260326T160000;PT10M;2;Wylie Purple vs. Legacy White
END:VEVENT
BEGIN:VEVENT
DTSTART:20260330T200000
DTEND:20260330T210000
SUMMARY:Wylie Gray vs. Wylie Purple
DESCRIPTION:Wylie PurpleHughes- 96 FBRuff- 3Wylie GrayStewart...........58Adams.............24 --- Juniors A - District 5 Little League
LOCATION:Wylie LL JR
CATEGORIES:QuickScores; Baseball Game
TRANSP:0
DALARM:20260330T180000;PT10M;2;Wylie Gray vs. Wylie Purple
END:VEVENT
BEGIN:VEVENT
DTSTART:20260406T200000
DTEND:20260406T210000
SUMMARY:Wylie Purple vs. Wylie Black
DESCRIPTION:Wylie PurpleAmonett- 95Ruff- 13BlackWright - 49Yanez - 53 --- Juniors A - District 5 Little League
LOCATION:Wylie LL JR
CATEGORIES:QuickScores; Baseball Game
TRANSP:0
DALARM:20260406T180000;PT10M;2;Wylie Purple vs. Wylie Black
END:VEVENT
BEGIN:VEVENT
DTSTART:20260409T180000
DTEND:20260409T190000
SUMMARY:Wylie Purple vs. Legacy Red
DESCRIPTION:Wylie Purple-Hughes- 76Ruff- 30Legacy red Alcantar - 86Brazell - 20 --- Juniors A - District 5 Little League
LOCATION:Legacy JR
CATEGORIES:QuickScores; Baseball Game
TRANSP:0
DALARM:20260409T160000;PT10M;2;Wylie Purple vs. Legacy Red
END:VEVENT
BEGIN:VEVENT
DTSTART:20260416T200000
DTEND:20260416T210000
SUMMARY:Wylie Gold vs. Wylie Purple
DESCRIPTION:Wylie Gold 

B. Morris - 66
H. Pirrung - 34
Wylie Purple- 4

Amonett- 42
Hughes- 44
Percival- 12 --- Juniors A - District 5 Little League
LOCATION:Wylie LL JR
CATEGORIES:QuickScores; Baseball Game
TRANSP:0
DALARM:20260416T180000;PT10M;2;Wylie Gold vs. Wylie Purple
END:VEVENT
BEGIN:VEVENT
DTSTART:20260423T180000
DTEND:20260423T190000
SUMMARY:Wylie Purple vs. Legacy Navy
DESCRIPTION:Juniors A - District 5 Little League
LOCATION:Legacy JR
CATEGORIES:QuickScores; Baseball Game
TRANSP:0
DALARM:20260423T160000;PT10M;2;Wylie Purple vs. Legacy Navy
END:VEVENT
BEGIN:VEVENT
DTSTART:20260427T200000
DTEND:20260427T210000
SUMMARY:Wylie White vs. Wylie Purple
DESCRIPTION:Juniors A - District 5 Little League
LOCATION:Wylie LL JR
CATEGORIES:QuickScores; Baseball Game
TRANSP:0
DALARM:20260427T180000;PT10M;2;Wylie White vs. Wylie Purple
END:VEVENT
BEGIN:VEVENT
DTSTART:20260430T180000
DTEND:20260430T190000
SUMMARY:Legacy White vs. Wylie Purple
DESCRIPTION:Juniors A - District 5 Little League
LOCATION:Legacy JR
CATEGORIES:QuickScores; Baseball Game
TRANSP:0
DALARM:20260430T160000;PT10M;2;Legacy White vs. Wylie Purple
END:VEVENT
BEGIN:VEVENT
DTSTART:20260504T200000
DTEND:20260504T210000
SUMMARY:Wylie Gray vs. Wylie Purple
DESCRIPTION:Juniors A - District 5 Little League
LOCATION:Wylie LL JR
CATEGORIES:QuickScores; Baseball Game
TRANSP:0
DALARM:20260504T180000;PT10M;2;Wylie Gray vs. Wylie Purple
END:VEVENT
BEGIN:VEVENT
DTSTART:20260507T180000
DTEND:20260507T190000
SUMMARY:Wylie Purple vs. Wylie Black
DESCRIPTION:Juniors A - District 5 Little League
LOCATION:Wylie LL JR
CATEGORIES:QuickScores; Baseball Game
TRANSP:0
DALARM:20260507T160000;PT10M;2;Wylie Purple vs. Wylie Black
END:VEVENT
BEGIN:VEVENT
DTSTART:20260511T180000
DTEND:20260511T190000
SUMMARY:Wylie Purple vs. Wylie Gold
DESCRIPTION:Juniors A - District 5 Little League
LOCATION:Wylie LL JR
CATEGORIES:QuickScores; Baseball Game
TRANSP:0
DALARM:20260511T160000;PT10M;2;Wylie Purple vs. Wylie Gold
END:VEVENT
END:VCALENDAR
