BEGIN:VCALENDAR
VERSION:1.0
BEGIN:VEVENT
DTSTART:20260110T101500
DTEND:20260110T111500
SUMMARY:Schaumburg - Damhauser vs. Schaumburg - Berg
DESCRIPTION:7th/8th Grade Girls - Carol Stream Park District
LOCATION:Harper College: Building M Court B
CATEGORIES:QuickScores; Basketball - Youth Game
TRANSP:0
DALARM:20260110T081500;PT10M;2;Schaumburg - Damhauser vs. Schaumburg - Berg
END:VEVENT
BEGIN:VEVENT
DTSTART:20260117T101500
DTEND:20260117T111500
SUMMARY:Schaumburg - Berg vs. Villa Park - Payton
DESCRIPTION:7th/8th Grade Girls - Carol Stream Park District
LOCATION:Schaumburg-Jane Addams Jr. High
CATEGORIES:QuickScores; Basketball - Youth Game
TRANSP:0
DALARM:20260117T081500;PT10M;2;Schaumburg - Berg vs. Villa Park - Payton
END:VEVENT
BEGIN:VEVENT
DTSTART:20260131T103000
DTEND:20260131T113000
SUMMARY:Glendale Heights vs. Schaumburg - Berg
DESCRIPTION:7th/8th Grade Girls - Carol Stream Park District
LOCATION:Glendale Heights Sports Hub - Court A
CATEGORIES:QuickScores; Basketball - Youth Game
TRANSP:0
DALARM:20260131T083000;PT10M;2;Glendale Heights vs. Schaumburg - Berg
END:VEVENT
BEGIN:VEVENT
DTSTART:20260208T141500
DTEND:20260208T151500
SUMMARY:Schaumburg - Berg vs. Carol Stream - Aces
DESCRIPTION:Rescheduled Due To Weather --- 7th/8th Grade Girls - Carol Stream Park District
LOCATION:Schaumburg-Jane Addams Jr. High
CATEGORIES:QuickScores; Basketball - Youth Game
TRANSP:0
DALARM:20260208T121500;PT10M;2;Schaumburg - Berg vs. Carol Stream - Aces
END:VEVENT
BEGIN:VEVENT
DTSTART:20260214T180000
DTEND:20260214T190000
SUMMARY:Glen Ellyn - Cox vs. Schaumburg - Berg
DESCRIPTION:7th/8th Grade Girls - Carol Stream Park District
LOCATION:Ackerman SFC - Court 3
CATEGORIES:QuickScores; Basketball - Youth Game
TRANSP:0
DALARM:20260214T160000;PT10M;2;Glen Ellyn - Cox vs. Schaumburg - Berg
END:VEVENT
BEGIN:VEVENT
DTSTART:20260221T133000
DTEND:20260221T143000
SUMMARY:AYS 1 Juan vs. Schaumburg - Berg
DESCRIPTION:7th/8th Grade Girls - Carol Stream Park District
LOCATION:Addison Trail High School - Fieldhouse
CATEGORIES:QuickScores; Basketball - Youth Game
TRANSP:0
DALARM:20260221T113000;PT10M;2;AYS 1 Juan vs. Schaumburg - Berg
END:VEVENT
BEGIN:VEVENT
DTSTART:20260228T111500
DTEND:20260228T121500
SUMMARY:Schaumburg - Berg vs. Bartlett - Blue Devils
DESCRIPTION:7th/8th Grade Girls - Carol Stream Park District
LOCATION:Schaumburg - Keller Jr. High
CATEGORIES:QuickScores; Basketball - Youth Game
TRANSP:0
DALARM:20260228T091500;PT10M;2;Schaumburg - Berg vs. Bartlett - Blue Devils
END:VEVENT
BEGIN:VEVENT
DTSTART:20260228T181500
DTEND:20260228T191500
SUMMARY:Schaumburg - Berg vs. Carol Stream - Fever
DESCRIPTION:Reschedule --- 7th/8th Grade Girls - Carol Stream Park District
LOCATION:Schaumburg-Eisenhower Jr. High
CATEGORIES:QuickScores; Basketball - Youth Game
TRANSP:0
DALARM:20260228T161500;PT10M;2;Schaumburg - Berg vs. Carol Stream - Fever
END:VEVENT
END:VCALENDAR
