BEGIN:VCALENDAR
VERSION:1.0
BEGIN:VEVENT
DTSTART:20250817T170000
DTEND:20250817T180000
SUMMARY:DirtyBallz vs. Tuna Sub
DESCRIPTION:Adult Softball - Sunday League - Carol Stream Park District
LOCATION:McCaslin 4
CATEGORIES:QuickScores; Softball - Adult Game
TRANSP:0
DALARM:20250817T150000;PT10M;2;DirtyBallz vs. Tuna Sub
END:VEVENT
BEGIN:VEVENT
DTSTART:20250817T180000
DTEND:20250817T190000
SUMMARY:DirtyBallz vs. Slap A Pitch
DESCRIPTION:Adult Softball - Sunday League - Carol Stream Park District
LOCATION:McCaslin 3
CATEGORIES:QuickScores; Softball - Adult Game
TRANSP:0
DALARM:20250817T160000;PT10M;2;DirtyBallz vs. Slap A Pitch
END:VEVENT
BEGIN:VEVENT
DTSTART:20250824T120000
DTEND:20250824T130000
SUMMARY:DirtyBallz vs. Sloppy Seconds
DESCRIPTION:Adult Softball - Sunday League - Carol Stream Park District
LOCATION:McCaslin 2
CATEGORIES:QuickScores; Softball - Adult Game
TRANSP:0
DALARM:20250824T100000;PT10M;2;DirtyBallz vs. Sloppy Seconds
END:VEVENT
BEGIN:VEVENT
DTSTART:20250824T130000
DTEND:20250824T140000
SUMMARY:Angry Pandas vs. DirtyBallz
DESCRIPTION:Adult Softball - Sunday League - Carol Stream Park District
LOCATION:McCaslin 2
CATEGORIES:QuickScores; Softball - Adult Game
TRANSP:0
DALARM:20250824T110000;PT10M;2;Angry Pandas vs. DirtyBallz
END:VEVENT
BEGIN:VEVENT
DTSTART:20250907T120000
DTEND:20250907T130000
SUMMARY:BuzzBallz vs. DirtyBallz
DESCRIPTION:Adult Softball - Sunday League - Carol Stream Park District
LOCATION:McCaslin 4
CATEGORIES:QuickScores; Softball - Adult Game
TRANSP:0
DALARM:20250907T100000;PT10M;2;BuzzBallz vs. DirtyBallz
END:VEVENT
BEGIN:VEVENT
DTSTART:20250907T130000
DTEND:20250907T140000
SUMMARY:DirtyBallz vs. Burnt Skiddadles
DESCRIPTION:Adult Softball - Sunday League - Carol Stream Park District
LOCATION:McCaslin 4
CATEGORIES:QuickScores; Softball - Adult Game
TRANSP:0
DALARM:20250907T110000;PT10M;2;DirtyBallz vs. Burnt Skiddadles
END:VEVENT
BEGIN:VEVENT
DTSTART:20250928T193000
DTEND:20250928T203000
SUMMARY:Tuna Sub vs. DirtyBallz
DESCRIPTION:Time Change --- Adult Softball - Sunday League - Carol Stream Park District
LOCATION:McCaslin 3
CATEGORIES:QuickScores; Softball - Adult Game
TRANSP:0
DALARM:20250928T173000;PT10M;2;Tuna Sub vs. DirtyBallz
END:VEVENT
BEGIN:VEVENT
DTSTART:20250928T213000
DTEND:20250928T223000
SUMMARY:Slap A Pitch vs. DirtyBallz
DESCRIPTION:Time Change --- Adult Softball - Sunday League - Carol Stream Park District
LOCATION:McCaslin 3
CATEGORIES:QuickScores; Softball - Adult Game
TRANSP:0
DALARM:20250928T193000;PT10M;2;Slap A Pitch vs. DirtyBallz
END:VEVENT
BEGIN:VEVENT
DTSTART:20251005T120000
DTEND:20251005T130000
SUMMARY:Shrimp Squad vs. DirtyBallz
DESCRIPTION:Adult Softball - Sunday League - Carol Stream Park District
LOCATION:McCaslin 4
CATEGORIES:QuickScores; Softball - Adult Game
TRANSP:0
DALARM:20251005T100000;PT10M;2;Shrimp Squad vs. DirtyBallz
END:VEVENT
BEGIN:VEVENT
DTSTART:20251005T140000
DTEND:20251005T150000
SUMMARY:DirtyBallz vs. SLUG N CHUG
DESCRIPTION:Adult Softball - Sunday League - Carol Stream Park District
LOCATION:McCaslin 4
CATEGORIES:QuickScores; Softball - Adult Game
TRANSP:0
DALARM:20251005T120000;PT10M;2;DirtyBallz vs. SLUG N CHUG
END:VEVENT
BEGIN:VEVENT
DTSTART:20251012T170000
DTEND:20251012T180000
SUMMARY:[4] BuzzBallz vs. [5] DirtyBallz
DESCRIPTION:Field Change --- Adult Softball - Sunday League - Carol Stream Park District
LOCATION:McCaslin 3
CATEGORIES:QuickScores; Softball - Adult Game
TRANSP:0
DALARM:20251012T150000;PT10M;2;[4] BuzzBallz vs. [5] DirtyBallz
END:VEVENT
END:VCALENDAR
