BEGIN:VCALENDAR
VERSION:1.0
BEGIN:VEVENT
DTSTART:20250817T160000
DTEND:20250817T170000
SUMMARY:BuzzBallz vs. Tuna Sub
DESCRIPTION:Adult Softball - Sunday League - Carol Stream Park District
LOCATION:McCaslin 4
CATEGORIES:QuickScores; Softball - Adult Game
TRANSP:0
DALARM:20250817T140000;PT10M;2;BuzzBallz vs. Tuna Sub
END:VEVENT
BEGIN:VEVENT
DTSTART:20250817T170000
DTEND:20250817T180000
SUMMARY:DirtyBallz vs. Tuna Sub
DESCRIPTION:Adult Softball - Sunday League - Carol Stream Park District
LOCATION:McCaslin 4
CATEGORIES:QuickScores; Softball - Adult Game
TRANSP:0
DALARM:20250817T150000;PT10M;2;DirtyBallz vs. Tuna Sub
END:VEVENT
BEGIN:VEVENT
DTSTART:20250824T140000
DTEND:20250824T150000
SUMMARY:Tuna Sub vs. Sloppy Seconds
DESCRIPTION:Adult Softball - Sunday League - Carol Stream Park District
LOCATION:McCaslin 1
CATEGORIES:QuickScores; Softball - Adult Game
TRANSP:0
DALARM:20250824T120000;PT10M;2;Tuna Sub vs. Sloppy Seconds
END:VEVENT
BEGIN:VEVENT
DTSTART:20250824T150000
DTEND:20250824T160000
SUMMARY:SLUG N CHUG vs. Tuna Sub
DESCRIPTION:Adult Softball - Sunday League - Carol Stream Park District
LOCATION:McCaslin 1
CATEGORIES:QuickScores; Softball - Adult Game
TRANSP:0
DALARM:20250824T130000;PT10M;2;SLUG N CHUG vs. Tuna Sub
END:VEVENT
BEGIN:VEVENT
DTSTART:20250907T150000
DTEND:20250907T160000
SUMMARY:Tuna Sub vs. Angry Pandas
DESCRIPTION:Adult Softball - Sunday League - Carol Stream Park District
LOCATION:McCaslin 4
CATEGORIES:QuickScores; Softball - Adult Game
TRANSP:0
DALARM:20250907T130000;PT10M;2;Tuna Sub vs. Angry Pandas
END:VEVENT
BEGIN:VEVENT
DTSTART:20250907T160000
DTEND:20250907T170000
SUMMARY:Shrimp Squad vs. Tuna Sub
DESCRIPTION:Adult Softball - Sunday League - Carol Stream Park District
LOCATION:McCaslin 4
CATEGORIES:QuickScores; Softball - Adult Game
TRANSP:0
DALARM:20250907T140000;PT10M;2;Shrimp Squad vs. Tuna Sub
END:VEVENT
BEGIN:VEVENT
DTSTART:20250928T193000
DTEND:20250928T203000
SUMMARY:Tuna Sub vs. DirtyBallz
DESCRIPTION:Time Change --- Adult Softball - Sunday League - Carol Stream Park District
LOCATION:McCaslin 3
CATEGORIES:QuickScores; Softball - Adult Game
TRANSP:0
DALARM:20250928T173000;PT10M;2;Tuna Sub vs. DirtyBallz
END:VEVENT
BEGIN:VEVENT
DTSTART:20250928T203000
DTEND:20250928T213000
SUMMARY:Tuna Sub vs. BuzzBallz
DESCRIPTION:Time Change --- Adult Softball - Sunday League - Carol Stream Park District
LOCATION:McCaslin 4
CATEGORIES:QuickScores; Softball - Adult Game
TRANSP:0
DALARM:20250928T183000;PT10M;2;Tuna Sub vs. BuzzBallz
END:VEVENT
BEGIN:VEVENT
DTSTART:20251005T140000
DTEND:20251005T150000
SUMMARY:Slap A Pitch vs. Tuna Sub
DESCRIPTION:Adult Softball - Sunday League - Carol Stream Park District
LOCATION:McCaslin 3
CATEGORIES:QuickScores; Softball - Adult Game
TRANSP:0
DALARM:20251005T120000;PT10M;2;Slap A Pitch vs. Tuna Sub
END:VEVENT
BEGIN:VEVENT
DTSTART:20251005T150000
DTEND:20251005T160000
SUMMARY:Tuna Sub vs. Burnt Skiddadles
DESCRIPTION:Adult Softball - Sunday League - Carol Stream Park District
LOCATION:McCaslin 4
CATEGORIES:QuickScores; Softball - Adult Game
TRANSP:0
DALARM:20251005T130000;PT10M;2;Tuna Sub vs. Burnt Skiddadles
END:VEVENT
BEGIN:VEVENT
DTSTART:20251012T180000
DTEND:20251012T190000
SUMMARY:[3] Tuna Sub vs. [6] SLUG N CHUG
DESCRIPTION:Field Change --- Adult Softball - Sunday League - Carol Stream Park District
LOCATION:McCaslin 4
CATEGORIES:QuickScores; Softball - Adult Game
TRANSP:0
DALARM:20251012T160000;PT10M;2;[3] Tuna Sub vs. [6] SLUG N CHUG
END:VEVENT
BEGIN:VEVENT
DTSTART:20251012T200000
DTEND:20251012T210000
SUMMARY:[2] Sloppy Seconds vs. [3] Tuna Sub
DESCRIPTION:Field Change --- Adult Softball - Sunday League - Carol Stream Park District
LOCATION:McCaslin 4
CATEGORIES:QuickScores; Softball - Adult Game
TRANSP:0
DALARM:20251012T180000;PT10M;2;[2] Sloppy Seconds vs. [3] Tuna Sub
END:VEVENT
END:VCALENDAR
