BEGIN:VCALENDAR
VERSION:1.0
BEGIN:VEVENT
DTSTART:20250816T113000
DTEND:20250816T133000
SUMMARY:Carol Stream - Dodgers vs. Carol Stream - Rangers
DESCRIPTION:Youth Baseball - 10U - Carol Stream Park District
LOCATION:Armstrong 4
CATEGORIES:QuickScores; Baseball - Youth Game
TRANSP:0
DALARM:20250816T093000;PT10M;2;Carol Stream - Dodgers vs. Carol Stream - Rangers
END:VEVENT
BEGIN:VEVENT
DTSTART:20250823T090000
DTEND:20250823T110000
SUMMARY:Carol Stream - Rangers vs. Villa Park - Gentile
DESCRIPTION:Location Update --- Youth Baseball - 10U - Carol Stream Park District
LOCATION:McCaslin 2
CATEGORIES:QuickScores; Baseball - Youth Game
TRANSP:0
DALARM:20250823T070000;PT10M;2;Carol Stream - Rangers vs. Villa Park - Gentile
END:VEVENT
BEGIN:VEVENT
DTSTART:20250825T180000
DTEND:20250825T200000
SUMMARY:Carol Stream - Rangers vs. Bloomingdale - Yankees
DESCRIPTION:Youth Baseball - 10U - Carol Stream Park District
LOCATION:McCaslin 1
CATEGORIES:QuickScores; Baseball - Youth Game
TRANSP:0
DALARM:20250825T160000;PT10M;2;Carol Stream - Rangers vs. Bloomingdale - Yankees
END:VEVENT
BEGIN:VEVENT
DTSTART:20250906T110000
DTEND:20250906T130000
SUMMARY:Villa Park - Caifano vs. Carol Stream - Rangers
DESCRIPTION:Youth Baseball - 10U - Carol Stream Park District
LOCATION:Jefferson 2
CATEGORIES:QuickScores; Baseball - Youth Game
TRANSP:0
DALARM:20250906T090000;PT10M;2;Villa Park - Caifano vs. Carol Stream - Rangers
END:VEVENT
BEGIN:VEVENT
DTSTART:20250913T140000
DTEND:20250913T160000
SUMMARY:Roselle - Dodgers - Degrado vs. Carol Stream - Rangers
DESCRIPTION:Youth Baseball - 10U - Carol Stream Park District
LOCATION:Clauss - Field 1 (Yellow)
CATEGORIES:QuickScores; Baseball - Youth Game
TRANSP:0
DALARM:20250913T120000;PT10M;2;Roselle - Dodgers - Degrado vs. Carol Stream - Rangers
END:VEVENT
BEGIN:VEVENT
DTSTART:20250919T180000
DTEND:20250919T200000
SUMMARY:Carol Stream - Rangers vs. Villa Park - Luckey
DESCRIPTION:Youth Baseball - 10U - Carol Stream Park District
LOCATION:McCaslin 4
CATEGORIES:QuickScores; Baseball - Youth Game
TRANSP:0
DALARM:20250919T160000;PT10M;2;Carol Stream - Rangers vs. Villa Park - Luckey
END:VEVENT
BEGIN:VEVENT
DTSTART:20250920T113000
DTEND:20250920T133000
SUMMARY:Carol Stream - Braves vs. Carol Stream - Rangers
DESCRIPTION:Youth Baseball - 10U - Carol Stream Park District
LOCATION:McCaslin 4
CATEGORIES:QuickScores; Baseball - Youth Game
TRANSP:0
DALARM:20250920T093000;PT10M;2;Carol Stream - Braves vs. Carol Stream - Rangers
END:VEVENT
BEGIN:VEVENT
DTSTART:20250922T180000
DTEND:20250922T200000
SUMMARY:Carol Stream - Rangers vs. Carol Stream - Cardinals
DESCRIPTION:Youth Baseball - 10U - Carol Stream Park District
LOCATION:McCaslin 3
CATEGORIES:QuickScores; Baseball - Youth Game
TRANSP:0
DALARM:20250922T160000;PT10M;2;Carol Stream - Rangers vs. Carol Stream - Cardinals
END:VEVENT
BEGIN:VEVENT
DTSTART:20251004T113000
DTEND:20251004T133000
SUMMARY:[ 4 ] Carol Stream - Rangers vs. [ 13 ] Glendale Heights - (Phillies)
DESCRIPTION:Youth Baseball - 10U - Carol Stream Park District
LOCATION:McCaslin 3
CATEGORIES:QuickScores; Baseball - Youth Game
TRANSP:0
DALARM:20251004T093000;PT10M;2;[ 4 ] Carol Stream - Rangers vs. [ 13 ] Glendale Heights - (Phillies)
END:VEVENT
BEGIN:VEVENT
DTSTART:20251007T180000
DTEND:20251007T200000
SUMMARY:[ 4 ] Carol Stream - Rangers vs. [ 5 ] Carol Stream - Red Sox
DESCRIPTION:Youth Baseball - 10U - Carol Stream Park District
LOCATION:Armstrong 4
CATEGORIES:QuickScores; Baseball - Youth Game
TRANSP:0
DALARM:20251007T160000;PT10M;2;[ 4 ] Carol Stream - Rangers vs. [ 5 ] Carol Stream - Red Sox
END:VEVENT
END:VCALENDAR
