BEGIN:VCALENDAR
VERSION:1.0
BEGIN:VEVENT
DTSTART:20250522T200000
DTEND:20250522T210000
SUMMARY:Timberwolves - Dugo vs. Timberwolves - Dugo
DESCRIPTION:Youth Basketball - 7th/8th Grade Boys Practices - Carol Stream Park District
LOCATION:Fountain View - Court 1
CATEGORIES:QuickScores; Facilities Game
TRANSP:0
DALARM:20250522T180000;PT10M;2;Timberwolves - Dugo vs. Timberwolves - Dugo
END:VEVENT
BEGIN:VEVENT
DTSTART:20250529T200000
DTEND:20250529T210000
SUMMARY:Timberwolves - Dugo vs. Timberwolves - Dugo
DESCRIPTION:Youth Basketball - 7th/8th Grade Boys Practices - Carol Stream Park District
LOCATION:Evergreen - Full Gym
CATEGORIES:QuickScores; Facilities Game
TRANSP:0
DALARM:20250529T180000;PT10M;2;Timberwolves - Dugo vs. Timberwolves - Dugo
END:VEVENT
BEGIN:VEVENT
DTSTART:20250605T200000
DTEND:20250605T210000
SUMMARY:Timberwolves - Dugo vs. Timberwolves - Dugo
DESCRIPTION:Youth Basketball - 7th/8th Grade Boys Practices - Carol Stream Park District
LOCATION:Fountain View - Court 1
CATEGORIES:QuickScores; Facilities Game
TRANSP:0
DALARM:20250605T180000;PT10M;2;Timberwolves - Dugo vs. Timberwolves - Dugo
END:VEVENT
BEGIN:VEVENT
DTSTART:20250612T200000
DTEND:20250612T210000
SUMMARY:Timberwolves - Dugo vs. Timberwolves - Dugo
DESCRIPTION:Youth Basketball - 7th/8th Grade Boys Practices - Carol Stream Park District
LOCATION:Evergreen - Full Gym
CATEGORIES:QuickScores; Facilities Game
TRANSP:0
DALARM:20250612T180000;PT10M;2;Timberwolves - Dugo vs. Timberwolves - Dugo
END:VEVENT
BEGIN:VEVENT
DTSTART:20250619T200000
DTEND:20250619T210000
SUMMARY:Timberwolves - Dugo vs. Timberwolves - Dugo
DESCRIPTION:Youth Basketball - 7th/8th Grade Boys Practices - Carol Stream Park District
LOCATION:Evergreen - Full Gym
CATEGORIES:QuickScores; Facilities Game
TRANSP:0
DALARM:20250619T180000;PT10M;2;Timberwolves - Dugo vs. Timberwolves - Dugo
END:VEVENT
BEGIN:VEVENT
DTSTART:20250626T200000
DTEND:20250626T210000
SUMMARY:Timberwolves - Dugo vs. Timberwolves - Dugo
DESCRIPTION:Updated Location --- Youth Basketball - 7th/8th Grade Boys Practices - Carol Stream Park District
LOCATION:Fountain View - Court 3
CATEGORIES:QuickScores; Facilities Game
TRANSP:0
DALARM:20250626T180000;PT10M;2;Timberwolves - Dugo vs. Timberwolves - Dugo
END:VEVENT
BEGIN:VEVENT
DTSTART:20250703T200000
DTEND:20250703T210000
SUMMARY:Timberwolves - Dugo vs. Timberwolves - Dugo
DESCRIPTION:Updated Location --- Youth Basketball - 7th/8th Grade Boys Practices - Carol Stream Park District
LOCATION:Fountain View - Court 2
CATEGORIES:QuickScores; Facilities Game
TRANSP:0
DALARM:20250703T180000;PT10M;2;Timberwolves - Dugo vs. Timberwolves - Dugo
END:VEVENT
BEGIN:VEVENT
DTSTART:20250710T200000
DTEND:20250710T210000
SUMMARY:Timberwolves - Dugo vs. Timberwolves - Dugo
DESCRIPTION:Youth Basketball - 7th/8th Grade Boys Practices - Carol Stream Park District
LOCATION:Evergreen - Full Gym
CATEGORIES:QuickScores; Facilities Game
TRANSP:0
DALARM:20250710T180000;PT10M;2;Timberwolves - Dugo vs. Timberwolves - Dugo
END:VEVENT
BEGIN:VEVENT
DTSTART:20250717T200000
DTEND:20250717T210000
SUMMARY:Timberwolves - Dugo vs. Timberwolves - Dugo
DESCRIPTION:Youth Basketball - 7th/8th Grade Boys Practices - Carol Stream Park District
LOCATION:Evergreen - Full Gym
CATEGORIES:QuickScores; Facilities Game
TRANSP:0
DALARM:20250717T180000;PT10M;2;Timberwolves - Dugo vs. Timberwolves - Dugo
END:VEVENT
BEGIN:VEVENT
DTSTART:20250724T200000
DTEND:20250724T210000
SUMMARY:Timberwolves - Dugo vs. Timberwolves - Dugo
DESCRIPTION:Youth Basketball - 7th/8th Grade Boys Practices - Carol Stream Park District
LOCATION:Evergreen - Full Gym
CATEGORIES:QuickScores; Facilities Game
TRANSP:0
DALARM:20250724T180000;PT10M;2;Timberwolves - Dugo vs. Timberwolves - Dugo
END:VEVENT
BEGIN:VEVENT
DTSTART:20250731T200000
DTEND:20250731T210000
SUMMARY:Timberwolves - Dugo vs. Timberwolves - Dugo
DESCRIPTION:Youth Basketball - 7th/8th Grade Boys Practices - Carol Stream Park District
LOCATION:Evergreen - Full Gym
CATEGORIES:QuickScores; Facilities Game
TRANSP:0
DALARM:20250731T180000;PT10M;2;Timberwolves - Dugo vs. Timberwolves - Dugo
END:VEVENT
END:VCALENDAR
