BEGIN:VCALENDAR
VERSION:1.0
BEGIN:VEVENT
DTSTART:20250412T130000
DTEND:20250412T140000
SUMMARY:Inter- Pesce vs. Wolfpack- Medina
DESCRIPTION:Youth Soccer - Grade Pre/K (U6) Co-ed League - Carol Stream Park District
LOCATION:Hampe 1 - Soccer (U6)
CATEGORIES:QuickScores; Soccer - Youth Game
TRANSP:0
DALARM:20250412T110000;PT10M;2;Inter- Pesce vs. Wolfpack- Medina
END:VEVENT
BEGIN:VEVENT
DTSTART:20250419T140000
DTEND:20250419T150000
SUMMARY:Fire- Adamiec vs. Inter- Pesce
DESCRIPTION:Youth Soccer - Grade Pre/K (U6) Co-ed League - Carol Stream Park District
LOCATION:Hampe 1 - Soccer (U6)
CATEGORIES:QuickScores; Soccer - Youth Game
TRANSP:0
DALARM:20250419T120000;PT10M;2;Fire- Adamiec vs. Inter- Pesce
END:VEVENT
BEGIN:VEVENT
DTSTART:20250426T150000
DTEND:20250426T160000
SUMMARY:Inter- Pesce vs. Red Bulls- Carter
DESCRIPTION:Youth Soccer - Grade Pre/K (U6) Co-ed League - Carol Stream Park District
LOCATION:Hampe 1 - Soccer (U6)
CATEGORIES:QuickScores; Soccer - Youth Game
TRANSP:0
DALARM:20250426T130000;PT10M;2;Inter- Pesce vs. Red Bulls- Carter
END:VEVENT
BEGIN:VEVENT
DTSTART:20250503T130000
DTEND:20250503T140000
SUMMARY:Sonics- Houswerth vs. Inter- Pesce
DESCRIPTION:Youth Soccer - Grade Pre/K (U6) Co-ed League - Carol Stream Park District
LOCATION:Hampe 1 - Soccer (U6)
CATEGORIES:QuickScores; Soccer - Youth Game
TRANSP:0
DALARM:20250503T110000;PT10M;2;Sonics- Houswerth vs. Inter- Pesce
END:VEVENT
BEGIN:VEVENT
DTSTART:20250510T150000
DTEND:20250510T160000
SUMMARY:Inter- Pesce vs. Galaxy- Tricase
DESCRIPTION:Youth Soccer - Grade Pre/K (U6) Co-ed League - Carol Stream Park District
LOCATION:Hampe 1 - Soccer (U6)
CATEGORIES:QuickScores; Soccer - Youth Game
TRANSP:0
DALARM:20250510T130000;PT10M;2;Inter- Pesce vs. Galaxy- Tricase
END:VEVENT
BEGIN:VEVENT
DTSTART:20250519T180000
DTEND:20250519T190000
SUMMARY:Wolfpack- Medina vs. Inter- Pesce
DESCRIPTION:Game Rescheduled From 5/17 --- Youth Soccer - Grade Pre/K (U6) Co-ed League - Carol Stream Park District
LOCATION:Hampe 1 - Soccer (U6)
CATEGORIES:QuickScores; Soccer - Youth Game
TRANSP:0
DALARM:20250519T160000;PT10M;2;Wolfpack- Medina vs. Inter- Pesce
END:VEVENT
BEGIN:VEVENT
DTSTART:20250531T130000
DTEND:20250531T140000
SUMMARY:Inter- Pesce vs. Fire- Adamiec
DESCRIPTION:Youth Soccer - Grade Pre/K (U6) Co-ed League - Carol Stream Park District
LOCATION:Hampe 1 - Soccer (U6)
CATEGORIES:QuickScores; Soccer - Youth Game
TRANSP:0
DALARM:20250531T110000;PT10M;2;Inter- Pesce vs. Fire- Adamiec
END:VEVENT
BEGIN:VEVENT
DTSTART:20250607T150000
DTEND:20250607T160000
SUMMARY:Red Bulls- Carter vs. Inter- Pesce
DESCRIPTION:Youth Soccer - Grade Pre/K (U6) Co-ed League - Carol Stream Park District
LOCATION:Hampe 1 - Soccer (U6)
CATEGORIES:QuickScores; Soccer - Youth Game
TRANSP:0
DALARM:20250607T130000;PT10M;2;Red Bulls- Carter vs. Inter- Pesce
END:VEVENT
END:VCALENDAR
