BEGIN:VCALENDAR
VERSION:1.0
BEGIN:VEVENT
DTSTART:20250419T100000
DTEND:20250419T120000
SUMMARY:Carol Stream - Cardinals - Brown vs. Carol Stream - Dodgers - Grote
DESCRIPTION:8U Baseball - Carol Stream Park District
LOCATION:McCaslin 4
CATEGORIES:QuickScores; Baseball Game
TRANSP:0
DALARM:20250419T080000;PT10M;2;Carol Stream - Cardinals - Brown vs. Carol Stream - Dodgers - Grote
END:VEVENT
BEGIN:VEVENT
DTSTART:20250430T173000
DTEND:20250430T193000
SUMMARY:Carol Stream - Cardinals - Brown vs. Carol Stream - Royals -  Panvino
DESCRIPTION:Moved from 4/26 --- 8U Baseball - Carol Stream Park District
LOCATION:Armstrong 4
CATEGORIES:QuickScores; Baseball Game
TRANSP:0
DALARM:20250430T153000;PT10M;2;Carol Stream - Cardinals - Brown vs. Carol Stream - Royals -  Panvino
END:VEVENT
BEGIN:VEVENT
DTSTART:20250502T180000
DTEND:20250502T200000
SUMMARY:Carol Stream - Cardinals - Brown vs. Carol Stream - Blue Jays - Hare
DESCRIPTION:Updated Location --- 8U Baseball - Carol Stream Park District
LOCATION:Pleasant Hill North
CATEGORIES:QuickScores; Baseball Game
TRANSP:0
DALARM:20250502T160000;PT10M;2;Carol Stream - Cardinals - Brown vs. Carol Stream - Blue Jays - Hare
END:VEVENT
BEGIN:VEVENT
DTSTART:20250503T123000
DTEND:20250503T143000
SUMMARY:Carol Stream - Cardinals - Brown vs. Carol Stream - A's - Kimme
DESCRIPTION:Updated Location --- 8U Baseball - Carol Stream Park District
LOCATION:Kent Park
CATEGORIES:QuickScores; Baseball Game
TRANSP:0
DALARM:20250503T103000;PT10M;2;Carol Stream - Cardinals - Brown vs. Carol Stream - A's - Kimme
END:VEVENT
BEGIN:VEVENT
DTSTART:20250506T180000
DTEND:20250506T200000
SUMMARY:Carol Stream - Royals -  Panvino vs. Carol Stream - Cardinals - Brown
DESCRIPTION:8U Baseball - Carol Stream Park District
LOCATION:McCaslin 2
CATEGORIES:QuickScores; Baseball Game
TRANSP:0
DALARM:20250506T160000;PT10M;2;Carol Stream - Royals -  Panvino vs. Carol Stream - Cardinals - Brown
END:VEVENT
BEGIN:VEVENT
DTSTART:20250510T123000
DTEND:20250510T143000
SUMMARY:Carol Stream - Cardinals - Brown vs. Glendale Heights - White Sox - Mendoza
DESCRIPTION:8U Baseball - Carol Stream Park District
LOCATION:McCaslin 1
CATEGORIES:QuickScores; Baseball Game
TRANSP:0
DALARM:20250510T103000;PT10M;2;Carol Stream - Cardinals - Brown vs. Glendale Heights - White Sox - Mendoza
END:VEVENT
BEGIN:VEVENT
DTSTART:20250515T180000
DTEND:20250515T200000
SUMMARY:Carol Stream - A's - Kimme vs. Carol Stream - Cardinals - Brown
DESCRIPTION:8U Baseball - Carol Stream Park District
LOCATION:Pleasant Hill North
CATEGORIES:QuickScores; Baseball Game
TRANSP:0
DALARM:20250515T160000;PT10M;2;Carol Stream - A's - Kimme vs. Carol Stream - Cardinals - Brown
END:VEVENT
BEGIN:VEVENT
DTSTART:20250519T180000
DTEND:20250519T200000
SUMMARY:Carol Stream - Braves - Randle vs. Carol Stream - Cardinals - Brown
DESCRIPTION:8U Baseball - Carol Stream Park District
LOCATION:Armstrong 1
CATEGORIES:QuickScores; Baseball Game
TRANSP:0
DALARM:20250519T160000;PT10M;2;Carol Stream - Braves - Randle vs. Carol Stream - Cardinals - Brown
END:VEVENT
BEGIN:VEVENT
DTSTART:20250527T180000
DTEND:20250527T200000
SUMMARY:Carol Stream - White Sox - DiCarlo vs. Carol Stream - Cardinals - Brown
DESCRIPTION:Moved from 5/20 --- 8U Baseball - Carol Stream Park District
LOCATION:Walters Park - Baseball Field
CATEGORIES:QuickScores; Baseball Game
TRANSP:0
DALARM:20250527T160000;PT10M;2;Carol Stream - White Sox - DiCarlo vs. Carol Stream - Cardinals - Brown
END:VEVENT
BEGIN:VEVENT
DTSTART:20250529T180000
DTEND:20250529T200000
SUMMARY:Carol Stream - Dodgers - Grote vs. Carol Stream - Cardinals - Brown
DESCRIPTION:Updated Location --- 8U Baseball - Carol Stream Park District
LOCATION:Walters Park - Baseball Field
CATEGORIES:QuickScores; Baseball Game
TRANSP:0
DALARM:20250529T160000;PT10M;2;Carol Stream - Dodgers - Grote vs. Carol Stream - Cardinals - Brown
END:VEVENT
BEGIN:VEVENT
DTSTART:20250531T100000
DTEND:20250531T120000
SUMMARY:Carol Stream - Cardinals - Brown vs. Carol Stream - Yankees - McCoy
DESCRIPTION:8U Baseball - Carol Stream Park District
LOCATION:Armstrong 4
CATEGORIES:QuickScores; Baseball Game
TRANSP:0
DALARM:20250531T080000;PT10M;2;Carol Stream - Cardinals - Brown vs. Carol Stream - Yankees - McCoy
END:VEVENT
BEGIN:VEVENT
DTSTART:20250603T180000
DTEND:20250603T200000
SUMMARY:Carol Stream - Cardinals - Brown vs. West Chicago - Huetson
DESCRIPTION:8U Baseball - Carol Stream Park District
LOCATION:McCaslin 1
CATEGORIES:QuickScores; Baseball Game
TRANSP:0
DALARM:20250603T160000;PT10M;2;Carol Stream - Cardinals - Brown vs. West Chicago - Huetson
END:VEVENT
BEGIN:VEVENT
DTSTART:20250607T123000
DTEND:20250607T143000
SUMMARY:Carol Stream - Cardinals - Brown vs. Carol Stream - Pirates -  Garza
DESCRIPTION:8U Baseball - Carol Stream Park District
LOCATION:Pleasant Hill North
CATEGORIES:QuickScores; Baseball Game
TRANSP:0
DALARM:20250607T103000;PT10M;2;Carol Stream - Cardinals - Brown vs. Carol Stream - Pirates -  Garza
END:VEVENT
BEGIN:VEVENT
DTSTART:20250611T180000
DTEND:20250611T200000
SUMMARY:Carol Stream - Cubs - Molley vs. Carol Stream - Cardinals - Brown
DESCRIPTION:8U Baseball - Carol Stream Park District
LOCATION:Armstrong 3
CATEGORIES:QuickScores; Baseball Game
TRANSP:0
DALARM:20250611T160000;PT10M;2;Carol Stream - Cubs - Molley vs. Carol Stream - Cardinals - Brown
END:VEVENT
BEGIN:VEVENT
DTSTART:20250618T180000
DTEND:20250618T200000
SUMMARY:Carol Stream - Giants - Morris vs. Carol Stream - Cardinals - Brown
DESCRIPTION:Moved from 6/14 --- 8U Baseball - Carol Stream Park District
LOCATION:Armstrong 1
CATEGORIES:QuickScores; Baseball Game
TRANSP:0
DALARM:20250618T160000;PT10M;2;Carol Stream - Giants - Morris vs. Carol Stream - Cardinals - Brown
END:VEVENT
BEGIN:VEVENT
DTSTART:20250619T180000
DTEND:20250619T200000
SUMMARY:Glendale Heights - Cubs- Aiello vs. Carol Stream - Cardinals - Brown
DESCRIPTION:8U Baseball - Carol Stream Park District
LOCATION:Camera East
CATEGORIES:QuickScores; Baseball Game
TRANSP:0
DALARM:20250619T160000;PT10M;2;Glendale Heights - Cubs- Aiello vs. Carol Stream - Cardinals - Brown
END:VEVENT
END:VCALENDAR
