BEGIN:VCALENDAR
VERSION:1.0
BEGIN:VEVENT
DTSTART:20250405T110000
DTEND:20250405T120000
SUMMARY:Addison - Maroon vs. Streamwood - 2 - Baraks
DESCRIPTION:7/8 Grade - Games - Carol Stream Park District
LOCATION:Fountain View - Court 2
CATEGORIES:QuickScores; Volleyball - Youth Game
TRANSP:0
DALARM:20250405T090000;PT10M;2;Addison - Maroon vs. Streamwood - 2 - Baraks
END:VEVENT
BEGIN:VEVENT
DTSTART:20250412T130000
DTEND:20250412T140000
SUMMARY:Addison - Maroon vs. Bartlett- Nebraska - Vo
DESCRIPTION:7/8 Grade - Games - Carol Stream Park District
LOCATION:Addison Park District - Club Fitness - Court 1
CATEGORIES:QuickScores; Volleyball - Youth Game
TRANSP:0
DALARM:20250412T110000;PT10M;2;Addison - Maroon vs. Bartlett- Nebraska - Vo
END:VEVENT
BEGIN:VEVENT
DTSTART:20250419T120000
DTEND:20250419T130000
SUMMARY:Addison - Maroon vs. Carol Stream - Purple - Priest
DESCRIPTION:7/8 Grade - Games - Carol Stream Park District
LOCATION:Bartlett CC - Court 1
CATEGORIES:QuickScores; Volleyball - Youth Game
TRANSP:0
DALARM:20250419T100000;PT10M;2;Addison - Maroon vs. Carol Stream - Purple - Priest
END:VEVENT
BEGIN:VEVENT
DTSTART:20250426T090000
DTEND:20250426T100000
SUMMARY:Addison - Royal vs. Addison - Maroon
DESCRIPTION:7/8 Grade - Games - Carol Stream Park District
LOCATION:Fountain View - Court 3
CATEGORIES:QuickScores; Volleyball - Youth Game
TRANSP:0
DALARM:20250426T070000;PT10M;2;Addison - Royal vs. Addison - Maroon
END:VEVENT
BEGIN:VEVENT
DTSTART:20250503T160000
DTEND:20250503T170000
SUMMARY:Streamwood 3 - Baraks vs. Addison - Maroon
DESCRIPTION:Moved by an hour --- 7/8 Grade - Games - Carol Stream Park District
LOCATION:Addison Park District - Community Center - Court 1
CATEGORIES:QuickScores; Volleyball - Youth Game
TRANSP:0
DALARM:20250503T140000;PT10M;2;Streamwood 3 - Baraks vs. Addison - Maroon
END:VEVENT
BEGIN:VEVENT
DTSTART:20250510T120000
DTEND:20250510T130000
SUMMARY:Roselle - Starzec vs. Addison - Maroon
DESCRIPTION:7/8 Grade - Games - Carol Stream Park District
LOCATION:Fountain View - Court 3
CATEGORIES:QuickScores; Volleyball - Youth Game
TRANSP:0
DALARM:20250510T100000;PT10M;2;Roselle - Starzec vs. Addison - Maroon
END:VEVENT
BEGIN:VEVENT
DTSTART:20250517T100000
DTEND:20250517T110000
SUMMARY:[2] Addison - Maroon vs. [7] Bartlett- Texas - Arcidiacono
DESCRIPTION:7/8 Grade - Games - Carol Stream Park District
LOCATION:Clauss Recreation Center - Court 1
CATEGORIES:QuickScores; Volleyball - Youth Game
TRANSP:0
DALARM:20250517T080000;PT10M;2;[2] Addison - Maroon vs. [7] Bartlett- Texas - Arcidiacono
END:VEVENT
END:VCALENDAR
