BEGIN:VCALENDAR
VERSION:1.0
BEGIN:VEVENT
DTSTART:20250405T120000
DTEND:20250405T130000
SUMMARY:Streamwood 3 - Baraks vs. Roselle - Cobean/Paez
DESCRIPTION:7/8 Grade - Games - Carol Stream Park District
LOCATION:Fountain View - Court 2
CATEGORIES:QuickScores; Volleyball - Youth Game
TRANSP:0
DALARM:20250405T100000;PT10M;2;Streamwood 3 - Baraks vs. Roselle - Cobean/Paez
END:VEVENT
BEGIN:VEVENT
DTSTART:20250412T130000
DTEND:20250412T140000
SUMMARY:Carol Stream - Pink - Salazar vs. Roselle - Cobean/Paez
DESCRIPTION:7/8 Grade - Games - Carol Stream Park District
LOCATION:Fountain View - Court 1
CATEGORIES:QuickScores; Volleyball - Youth Game
TRANSP:0
DALARM:20250412T110000;PT10M;2;Carol Stream - Pink - Salazar vs. Roselle - Cobean/Paez
END:VEVENT
BEGIN:VEVENT
DTSTART:20250419T130000
DTEND:20250419T140000
SUMMARY:Roselle - Cobean/Paez vs. Streamwood - Lakoma
DESCRIPTION:7/8 Grade - Games - Carol Stream Park District
LOCATION:Clauss Recreation Center - Court 1
CATEGORIES:QuickScores; Volleyball - Youth Game
TRANSP:0
DALARM:20250419T110000;PT10M;2;Roselle - Cobean/Paez vs. Streamwood - Lakoma
END:VEVENT
BEGIN:VEVENT
DTSTART:20250426T110000
DTEND:20250426T120000
SUMMARY:Roselle - Cobean/Paez vs. Carol Stream - Purple - Priest
DESCRIPTION:7/8 Grade - Games - Carol Stream Park District
LOCATION:Clauss Recreation Center - Court 1
CATEGORIES:QuickScores; Volleyball - Youth Game
TRANSP:0
DALARM:20250426T090000;PT10M;2;Roselle - Cobean/Paez vs. Carol Stream - Purple - Priest
END:VEVENT
BEGIN:VEVENT
DTSTART:20250503T110000
DTEND:20250503T120000
SUMMARY:Carol Stream - Green - Urquiaga vs. Roselle - Cobean/Paez
DESCRIPTION:7/8 Grade - Games - Carol Stream Park District
LOCATION:Park Place FRC - East Court
CATEGORIES:QuickScores; Volleyball - Youth Game
TRANSP:0
DALARM:20250503T090000;PT10M;2;Carol Stream - Green - Urquiaga vs. Roselle - Cobean/Paez
END:VEVENT
BEGIN:VEVENT
DTSTART:20250510T100000
DTEND:20250510T110000
SUMMARY:Roselle - Cobean/Paez vs. Bartlett- Michigan - Stokes
DESCRIPTION:7/8 Grade - Games - Carol Stream Park District
LOCATION:Fountain View - Court 3
CATEGORIES:QuickScores; Volleyball - Youth Game
TRANSP:0
DALARM:20250510T080000;PT10M;2;Roselle - Cobean/Paez vs. Bartlett- Michigan - Stokes
END:VEVENT
BEGIN:VEVENT
DTSTART:20250517T100000
DTEND:20250517T110000
SUMMARY:[3] Roselle - Cobean/Paez vs. [6] Streamwood - 2 - Baraks
DESCRIPTION:7/8 Grade - Games - Carol Stream Park District
LOCATION:Clauss Recreation Center - Court 2
CATEGORIES:QuickScores; Volleyball - Youth Game
TRANSP:0
DALARM:20250517T080000;PT10M;2;[3] Roselle - Cobean/Paez vs. [6] Streamwood - 2 - Baraks
END:VEVENT
END:VCALENDAR
