BEGIN:VCALENDAR
VERSION:1.0
BEGIN:VEVENT
DTSTART:20250405T120000
DTEND:20250405T130000
SUMMARY:Bartlett- Michigan - Stokes vs. Bartlett- Texas - Arcidiacono
DESCRIPTION:7/8 Grade - Games - Carol Stream Park District
LOCATION:Bartlett CC - Court 1
CATEGORIES:QuickScores; Volleyball - Youth Game
TRANSP:0
DALARM:20250405T100000;PT10M;2;Bartlett- Michigan - Stokes vs. Bartlett- Texas - Arcidiacono
END:VEVENT
BEGIN:VEVENT
DTSTART:20250412T150000
DTEND:20250412T160000
SUMMARY:Streamwood - Lakoma vs. Bartlett- Michigan - Stokes
DESCRIPTION:7/8 Grade - Games - Carol Stream Park District
LOCATION:Addison Park District - Club Fitness - Court 1
CATEGORIES:QuickScores; Volleyball - Youth Game
TRANSP:0
DALARM:20250412T130000;PT10M;2;Streamwood - Lakoma vs. Bartlett- Michigan - Stokes
END:VEVENT
BEGIN:VEVENT
DTSTART:20250419T100000
DTEND:20250419T110000
SUMMARY:Roselle - Starzec vs. Bartlett- Michigan - Stokes
DESCRIPTION:7/8 Grade - Games - Carol Stream Park District
LOCATION:Bartlett CC - Court 1
CATEGORIES:QuickScores; Volleyball - Youth Game
TRANSP:0
DALARM:20250419T080000;PT10M;2;Roselle - Starzec vs. Bartlett- Michigan - Stokes
END:VEVENT
BEGIN:VEVENT
DTSTART:20250426T120000
DTEND:20250426T130000
SUMMARY:Bartlett- Michigan - Stokes vs. Carol Stream - Pink - Salazar
DESCRIPTION:7/8 Grade - Games - Carol Stream Park District
LOCATION:Fountain View - Court 3
CATEGORIES:QuickScores; Volleyball - Youth Game
TRANSP:0
DALARM:20250426T100000;PT10M;2;Bartlett- Michigan - Stokes vs. Carol Stream - Pink - Salazar
END:VEVENT
BEGIN:VEVENT
DTSTART:20250503T170000
DTEND:20250503T180000
SUMMARY:Bartlett- Michigan - Stokes vs. Addison - Royal
DESCRIPTION:Moved by an hour --- 7/8 Grade - Games - Carol Stream Park District
LOCATION:Addison Park District - Community Center - Court 1
CATEGORIES:QuickScores; Volleyball - Youth Game
TRANSP:0
DALARM:20250503T150000;PT10M;2;Bartlett- Michigan - Stokes vs. Addison - Royal
END:VEVENT
BEGIN:VEVENT
DTSTART:20250510T100000
DTEND:20250510T110000
SUMMARY:Roselle - Cobean/Paez vs. Bartlett- Michigan - Stokes
DESCRIPTION:7/8 Grade - Games - Carol Stream Park District
LOCATION:Fountain View - Court 3
CATEGORIES:QuickScores; Volleyball - Youth Game
TRANSP:0
DALARM:20250510T080000;PT10M;2;Roselle - Cobean/Paez vs. Bartlett- Michigan - Stokes
END:VEVENT
BEGIN:VEVENT
DTSTART:20250517T090000
DTEND:20250517T100000
SUMMARY:[4] Bartlett- Michigan - Stokes vs. [5] Bartlett- Nebraska - Vo
DESCRIPTION:7/8 Grade - Games - Carol Stream Park District
LOCATION:Clauss Recreation Center - Court 2
CATEGORIES:QuickScores; Volleyball - Youth Game
TRANSP:0
DALARM:20250517T070000;PT10M;2;[4] Bartlett- Michigan - Stokes vs. [5] Bartlett- Nebraska - Vo
END:VEVENT
END:VCALENDAR
