BEGIN:VCALENDAR
VERSION:1.0
BEGIN:VEVENT
DTSTART:20250405T140000
DTEND:20250405T150000
SUMMARY:Carol Stream - Blue - Coleman vs. Roselle - Starzec
DESCRIPTION:7/8 Grade - Games - Carol Stream Park District
LOCATION:Bartlett CC - Court 1
CATEGORIES:QuickScores; Volleyball - Youth Game
TRANSP:0
DALARM:20250405T120000;PT10M;2;Carol Stream - Blue - Coleman vs. Roselle - Starzec
END:VEVENT
BEGIN:VEVENT
DTSTART:20250412T150000
DTEND:20250412T160000
SUMMARY:Roselle - Starzec vs. Carol Stream - Black - Jones
DESCRIPTION:7/8 Grade - Games - Carol Stream Park District
LOCATION:Fountain View - Court 1
CATEGORIES:QuickScores; Volleyball - Youth Game
TRANSP:0
DALARM:20250412T130000;PT10M;2;Roselle - Starzec vs. Carol Stream - Black - Jones
END:VEVENT
BEGIN:VEVENT
DTSTART:20250419T100000
DTEND:20250419T110000
SUMMARY:Roselle - Starzec vs. Bartlett- Michigan - Stokes
DESCRIPTION:7/8 Grade - Games - Carol Stream Park District
LOCATION:Bartlett CC - Court 1
CATEGORIES:QuickScores; Volleyball - Youth Game
TRANSP:0
DALARM:20250419T080000;PT10M;2;Roselle - Starzec vs. Bartlett- Michigan - Stokes
END:VEVENT
BEGIN:VEVENT
DTSTART:20250426T100000
DTEND:20250426T110000
SUMMARY:Bartlett- Michigan St. -  Lewensky vs. Roselle - Starzec
DESCRIPTION:7/8 Grade - Games - Carol Stream Park District
LOCATION:Clauss Recreation Center - Court 1
CATEGORIES:QuickScores; Volleyball - Youth Game
TRANSP:0
DALARM:20250426T080000;PT10M;2;Bartlett- Michigan St. -  Lewensky vs. Roselle - Starzec
END:VEVENT
BEGIN:VEVENT
DTSTART:20250503T090000
DTEND:20250503T100000
SUMMARY:Carol Stream - Pink - Salazar vs. Roselle - Starzec
DESCRIPTION:7/8 Grade - Games - Carol Stream Park District
LOCATION:Park Place FRC - East Court
CATEGORIES:QuickScores; Volleyball - Youth Game
TRANSP:0
DALARM:20250503T070000;PT10M;2;Carol Stream - Pink - Salazar vs. Roselle - Starzec
END:VEVENT
BEGIN:VEVENT
DTSTART:20250510T120000
DTEND:20250510T130000
SUMMARY:Roselle - Starzec vs. Addison - Maroon
DESCRIPTION:7/8 Grade - Games - Carol Stream Park District
LOCATION:Fountain View - Court 3
CATEGORIES:QuickScores; Volleyball - Youth Game
TRANSP:0
DALARM:20250510T100000;PT10M;2;Roselle - Starzec vs. Addison - Maroon
END:VEVENT
BEGIN:VEVENT
DTSTART:20250517T090000
DTEND:20250517T100000
SUMMARY:[1] Addison - Royal vs. [8] Roselle - Starzec
DESCRIPTION:7/8 Grade - Games - Carol Stream Park District
LOCATION:Clauss Recreation Center - Court 1
CATEGORIES:QuickScores; Volleyball - Youth Game
TRANSP:0
DALARM:20250517T070000;PT10M;2;[1] Addison - Royal vs. [8] Roselle - Starzec
END:VEVENT
END:VCALENDAR
