BEGIN:VCALENDAR
VERSION:1.0
BEGIN:VEVENT
DTSTART:20250116T201500
DTEND:20250116T210000
SUMMARY:Hold The Pickles vs. Day Dinkers
DESCRIPTION:Adult Pickleball - Thursday League Recreation Red - Carol Stream Park District
LOCATION:Simkus - Court 2 (West) - Pickleball 1
CATEGORIES:QuickScores; Pickleball Game
TRANSP:0
DALARM:20250116T181500;PT10M;2;Hold The Pickles vs. Day Dinkers
END:VEVENT
BEGIN:VEVENT
DTSTART:20250123T180000
DTEND:20250123T184500
SUMMARY:Idlers vs. Hold The Pickles
DESCRIPTION:Adult Pickleball - Thursday League Recreation Red - Carol Stream Park District
LOCATION:Simkus - Court 2 (West) - Pickleball 1
CATEGORIES:QuickScores; Pickleball Game
TRANSP:0
DALARM:20250123T160000;PT10M;2;Idlers vs. Hold The Pickles
END:VEVENT
BEGIN:VEVENT
DTSTART:20250130T210000
DTEND:20250130T214500
SUMMARY:Hold The Pickles vs. Dilly Dilly
DESCRIPTION:Adult Pickleball - Thursday League Recreation Red - Carol Stream Park District
LOCATION:Simkus - Court 2 (West) - Pickleball 1
CATEGORIES:QuickScores; Pickleball Game
TRANSP:0
DALARM:20250130T190000;PT10M;2;Hold The Pickles vs. Dilly Dilly
END:VEVENT
BEGIN:VEVENT
DTSTART:20250206T201500
DTEND:20250206T210000
SUMMARY:Hold The Pickles vs. Idlers
DESCRIPTION:Adult Pickleball - Thursday League Recreation Red - Carol Stream Park District
LOCATION:Simkus - Court 2 (West) - Pickleball 1
CATEGORIES:QuickScores; Pickleball Game
TRANSP:0
DALARM:20250206T181500;PT10M;2;Hold The Pickles vs. Idlers
END:VEVENT
BEGIN:VEVENT
DTSTART:20250213T180000
DTEND:20250213T184500
SUMMARY:Dill Pickles vs. Hold The Pickles
DESCRIPTION:Adult Pickleball - Thursday League Recreation Red - Carol Stream Park District
LOCATION:Simkus - Court 2 (West) - Pickleball 1
CATEGORIES:QuickScores; Pickleball Game
TRANSP:0
DALARM:20250213T160000;PT10M;2;Dill Pickles vs. Hold The Pickles
END:VEVENT
BEGIN:VEVENT
DTSTART:20250220T201500
DTEND:20250220T210000
SUMMARY:Boilerup vs. Hold The Pickles
DESCRIPTION:Adult Pickleball - Thursday League Recreation Red - Carol Stream Park District
LOCATION:Simkus - Court 2 (West) - Pickleball 1
CATEGORIES:QuickScores; Pickleball Game
TRANSP:0
DALARM:20250220T181500;PT10M;2;Boilerup vs. Hold The Pickles
END:VEVENT
BEGIN:VEVENT
DTSTART:20250306T190000
DTEND:20250306T191500
SUMMARY:Hold The Pickles vs. Those Guys
DESCRIPTION:Adult Pickleball - Thursday League Recreation Red - Carol Stream Park District
LOCATION:Simkus - Court 2 (West) - Pickleball 2
CATEGORIES:QuickScores; Pickleball Game
TRANSP:0
DALARM:20250306T170000;PT10M;2;Hold The Pickles vs. Those Guys
END:VEVENT
BEGIN:VEVENT
DTSTART:20250306T191500
DTEND:20250306T193000
SUMMARY:Double Trouble vs. Hold The Pickles
DESCRIPTION:Adult Pickleball - Thursday League Recreation Red - Carol Stream Park District
LOCATION:Simkus - Court 2 (West) - Pickleball 2
CATEGORIES:QuickScores; Pickleball Game
TRANSP:0
DALARM:20250306T171500;PT10M;2;Double Trouble vs. Hold The Pickles
END:VEVENT
BEGIN:VEVENT
DTSTART:20250306T193000
DTEND:20250306T194500
SUMMARY:Hold The Pickles vs. M&M'S
DESCRIPTION:Adult Pickleball - Thursday League Recreation Red - Carol Stream Park District
LOCATION:Simkus - Court 2 (West) - Pickleball 1
CATEGORIES:QuickScores; Pickleball Game
TRANSP:0
DALARM:20250306T173000;PT10M;2;Hold The Pickles vs. M&M'S
END:VEVENT
END:VCALENDAR
