BEGIN:VCALENDAR
VERSION:1.0
BEGIN:VEVENT
DTSTART:20250116T210000
DTEND:20250116T214500
SUMMARY:Dill Pickles vs. Boilerup
DESCRIPTION:Adult Pickleball - Thursday League Recreation Red - Carol Stream Park District
LOCATION:Simkus - Court 2 (West) - Pickleball 1
CATEGORIES:QuickScores; Pickleball Game
TRANSP:0
DALARM:20250116T190000;PT10M;2;Dill Pickles vs. Boilerup
END:VEVENT
BEGIN:VEVENT
DTSTART:20250123T184500
DTEND:20250123T193000
SUMMARY:Dill Pickles vs. Day Dinkers
DESCRIPTION:Adult Pickleball - Thursday League Recreation Red - Carol Stream Park District
LOCATION:Simkus - Court 2 (West) - Pickleball 1
CATEGORIES:QuickScores; Pickleball Game
TRANSP:0
DALARM:20250123T164500;PT10M;2;Dill Pickles vs. Day Dinkers
END:VEVENT
BEGIN:VEVENT
DTSTART:20250130T193000
DTEND:20250130T201500
SUMMARY:Dill Pickles vs. Day Dinkers
DESCRIPTION:Adult Pickleball - Thursday League Recreation Red - Carol Stream Park District
LOCATION:Simkus - Court 2 (West) - Pickleball 1
CATEGORIES:QuickScores; Pickleball Game
TRANSP:0
DALARM:20250130T173000;PT10M;2;Dill Pickles vs. Day Dinkers
END:VEVENT
BEGIN:VEVENT
DTSTART:20250213T180000
DTEND:20250213T184500
SUMMARY:Dill Pickles vs. Hold The Pickles
DESCRIPTION:Adult Pickleball - Thursday League Recreation Red - Carol Stream Park District
LOCATION:Simkus - Court 2 (West) - Pickleball 1
CATEGORIES:QuickScores; Pickleball Game
TRANSP:0
DALARM:20250213T160000;PT10M;2;Dill Pickles vs. Hold The Pickles
END:VEVENT
BEGIN:VEVENT
DTSTART:20250227T181500
DTEND:20250227T190000
SUMMARY:Dilly Dilly vs. Dill Pickles
DESCRIPTION:Adult Pickleball - Thursday League Recreation Red - Carol Stream Park District
LOCATION:Simkus - Court 2 (West) - Pickleball 1
CATEGORIES:QuickScores; Pickleball Game
TRANSP:0
DALARM:20250227T161500;PT10M;2;Dilly Dilly vs. Dill Pickles
END:VEVENT
BEGIN:VEVENT
DTSTART:20250227T190000
DTEND:20250227T194500
SUMMARY:Boilerup vs. Dill Pickles
DESCRIPTION:Adult Pickleball - Thursday League Recreation Red - Carol Stream Park District
LOCATION:Simkus - Court 2 (West) - Pickleball 1
CATEGORIES:QuickScores; Pickleball Game
TRANSP:0
DALARM:20250227T170000;PT10M;2;Boilerup vs. Dill Pickles
END:VEVENT
END:VCALENDAR
