BEGIN:VCALENDAR
VERSION:1.0
BEGIN:VEVENT
DTSTART:20241202T200000
DTEND:20241202T213000
SUMMARY:Timberwolves - Stone vs. Timberwolves - Stone
DESCRIPTION:Youth Basketball Practices - 7th/8th Grade Boys - Carol Stream Park District
LOCATION:Jay Stream - Small Gym - Full
CATEGORIES:QuickScores; Facilities Game
TRANSP:0
DALARM:20241202T180000;PT10M;2;Timberwolves - Stone vs. Timberwolves - Stone
END:VEVENT
BEGIN:VEVENT
DTSTART:20241209T200000
DTEND:20241209T213000
SUMMARY:Timberwolves - Stone vs. Timberwolves - Stone
DESCRIPTION:Youth Basketball Practices - 7th/8th Grade Boys - Carol Stream Park District
LOCATION:Jay Stream - Small Gym - Full
CATEGORIES:QuickScores; Facilities Game
TRANSP:0
DALARM:20241209T180000;PT10M;2;Timberwolves - Stone vs. Timberwolves - Stone
END:VEVENT
BEGIN:VEVENT
DTSTART:20241216T200000
DTEND:20241216T213000
SUMMARY:Timberwolves - Stone vs. Timberwolves - Stone
DESCRIPTION:Youth Basketball Practices - 7th/8th Grade Boys - Carol Stream Park District
LOCATION:Jay Stream - Small Gym - Full
CATEGORIES:QuickScores; Facilities Game
TRANSP:0
DALARM:20241216T180000;PT10M;2;Timberwolves - Stone vs. Timberwolves - Stone
END:VEVENT
BEGIN:VEVENT
DTSTART:20241229T150000
DTEND:20241229T160000
SUMMARY:Timberwolves - Stone vs. Timberwolves - Stone
DESCRIPTION:Youth Basketball Practices - 7th/8th Grade Boys - Carol Stream Park District
LOCATION:Fountain View - Court 1
CATEGORIES:QuickScores; Facilities Game
TRANSP:0
DALARM:20241229T130000;PT10M;2;Timberwolves - Stone vs. Timberwolves - Stone
END:VEVENT
BEGIN:VEVENT
DTSTART:20250105T130000
DTEND:20250105T140000
SUMMARY:Timberwolves - Stone vs. Timberwolves - Stone
DESCRIPTION:Youth Basketball Practices - 7th/8th Grade Boys - Carol Stream Park District
LOCATION:Fountain View - Court 1
CATEGORIES:QuickScores; Facilities Game
TRANSP:0
DALARM:20250105T110000;PT10M;2;Timberwolves - Stone vs. Timberwolves - Stone
END:VEVENT
BEGIN:VEVENT
DTSTART:20250106T200000
DTEND:20250106T213000
SUMMARY:Timberwolves - Stone vs. Timberwolves - Stone
DESCRIPTION:Youth Basketball Practices - 7th/8th Grade Boys - Carol Stream Park District
LOCATION:Jay Stream - Small Gym - Full
CATEGORIES:QuickScores; Facilities Game
TRANSP:0
DALARM:20250106T180000;PT10M;2;Timberwolves - Stone vs. Timberwolves - Stone
END:VEVENT
BEGIN:VEVENT
DTSTART:20250113T200000
DTEND:20250113T213000
SUMMARY:Timberwolves - Stone vs. Timberwolves - Stone
DESCRIPTION:Youth Basketball Practices - 7th/8th Grade Boys - Carol Stream Park District
LOCATION:Jay Stream - Small Gym - Full
CATEGORIES:QuickScores; Facilities Game
TRANSP:0
DALARM:20250113T180000;PT10M;2;Timberwolves - Stone vs. Timberwolves - Stone
END:VEVENT
BEGIN:VEVENT
DTSTART:20250123T201500
DTEND:20250123T214500
SUMMARY:Timberwolves - Stone vs. Timberwolves - Stone
DESCRIPTION:Youth Basketball Practices - 7th/8th Grade Boys - Carol Stream Park District
LOCATION:Fountain View - Court 1
CATEGORIES:QuickScores; Facilities Game
TRANSP:0
DALARM:20250123T181500;PT10M;2;Timberwolves - Stone vs. Timberwolves - Stone
END:VEVENT
BEGIN:VEVENT
DTSTART:20250127T200000
DTEND:20250127T213000
SUMMARY:Timberwolves - Stone vs. Timberwolves - Stone
DESCRIPTION:Youth Basketball Practices - 7th/8th Grade Boys - Carol Stream Park District
LOCATION:Jay Stream - Small Gym - Full
CATEGORIES:QuickScores; Facilities Game
TRANSP:0
DALARM:20250127T180000;PT10M;2;Timberwolves - Stone vs. Timberwolves - Stone
END:VEVENT
BEGIN:VEVENT
DTSTART:20250203T200000
DTEND:20250203T213000
SUMMARY:Timberwolves - Stone vs. Timberwolves - Stone
DESCRIPTION:Youth Basketball Practices - 7th/8th Grade Boys - Carol Stream Park District
LOCATION:Jay Stream - Small Gym - Full
CATEGORIES:QuickScores; Facilities Game
TRANSP:0
DALARM:20250203T180000;PT10M;2;Timberwolves - Stone vs. Timberwolves - Stone
END:VEVENT
BEGIN:VEVENT
DTSTART:20250210T200000
DTEND:20250210T213000
SUMMARY:Timberwolves - Stone vs. Timberwolves - Stone
DESCRIPTION:Youth Basketball Practices - 7th/8th Grade Boys - Carol Stream Park District
LOCATION:Jay Stream - Small Gym - Full
CATEGORIES:QuickScores; Facilities Game
TRANSP:0
DALARM:20250210T180000;PT10M;2;Timberwolves - Stone vs. Timberwolves - Stone
END:VEVENT
BEGIN:VEVENT
DTSTART:20250217T200000
DTEND:20250217T213000
SUMMARY:Timberwolves - Stone vs. Timberwolves - Stone
DESCRIPTION:Youth Basketball Practices - 7th/8th Grade Boys - Carol Stream Park District
LOCATION:Evergreen - Full Gym
CATEGORIES:QuickScores; Facilities Game
TRANSP:0
DALARM:20250217T180000;PT10M;2;Timberwolves - Stone vs. Timberwolves - Stone
END:VEVENT
BEGIN:VEVENT
DTSTART:20250224T200000
DTEND:20250224T213000
SUMMARY:Timberwolves - Stone vs. Timberwolves - Stone
DESCRIPTION:Youth Basketball Practices - 7th/8th Grade Boys - Carol Stream Park District
LOCATION:Jay Stream - Small Gym - Full
CATEGORIES:QuickScores; Facilities Game
TRANSP:0
DALARM:20250224T180000;PT10M;2;Timberwolves - Stone vs. Timberwolves - Stone
END:VEVENT
BEGIN:VEVENT
DTSTART:20250303T200000
DTEND:20250303T213000
SUMMARY:Timberwolves - Stone vs. Timberwolves - Stone
DESCRIPTION:Youth Basketball Practices - 7th/8th Grade Boys - Carol Stream Park District
LOCATION:Jay Stream - Small Gym - Full
CATEGORIES:QuickScores; Facilities Game
TRANSP:0
DALARM:20250303T180000;PT10M;2;Timberwolves - Stone vs. Timberwolves - Stone
END:VEVENT
BEGIN:VEVENT
DTSTART:20250310T200000
DTEND:20250310T213000
SUMMARY:Timberwolves - Stone vs. Timberwolves - Stone
DESCRIPTION:Youth Basketball Practices - 7th/8th Grade Boys - Carol Stream Park District
LOCATION:Jay Stream - Small Gym - Full
CATEGORIES:QuickScores; Facilities Game
TRANSP:0
DALARM:20250310T180000;PT10M;2;Timberwolves - Stone vs. Timberwolves - Stone
END:VEVENT
END:VCALENDAR
